BEGIN:VCALENDAR
VERSION:2.0
PRODID:-//NoHowest.org - ECPv6.15.16//NONSGML v1.0//EN
CALSCALE:GREGORIAN
METHOD:PUBLISH
X-WR-CALNAME:NoHowest.org
X-ORIGINAL-URL:https://nohowest.org
X-WR-CALDESC:Events for NoHowest.org
REFRESH-INTERVAL;VALUE=DURATION:PT1H
X-Robots-Tag:noindex
X-PUBLISHED-TTL:PT1H
BEGIN:VTIMEZONE
TZID:America/Los_Angeles
BEGIN:DAYLIGHT
TZOFFSETFROM:-0800
TZOFFSETTO:-0700
TZNAME:PDT
DTSTART:20180311T100000
END:DAYLIGHT
BEGIN:STANDARD
TZOFFSETFROM:-0700
TZOFFSETTO:-0800
TZNAME:PST
DTSTART:20181104T090000
END:STANDARD
BEGIN:DAYLIGHT
TZOFFSETFROM:-0800
TZOFFSETTO:-0700
TZNAME:PDT
DTSTART:20190310T100000
END:DAYLIGHT
BEGIN:STANDARD
TZOFFSETFROM:-0700
TZOFFSETTO:-0800
TZNAME:PST
DTSTART:20191103T090000
END:STANDARD
BEGIN:DAYLIGHT
TZOFFSETFROM:-0800
TZOFFSETTO:-0700
TZNAME:PDT
DTSTART:20200308T100000
END:DAYLIGHT
BEGIN:STANDARD
TZOFFSETFROM:-0700
TZOFFSETTO:-0800
TZNAME:PST
DTSTART:20201101T090000
END:STANDARD
END:VTIMEZONE
BEGIN:VEVENT
DTSTART;TZID=America/Los_Angeles:20190404T180000
DTEND;TZID=America/Los_Angeles:20190404T200000
DTSTAMP:20260424T032137
CREATED:20190315T051042Z
LAST-MODIFIED:20190315T051149Z
UID:8425-1554400800-1554408000@nohowest.org
SUMMARY:Reimagine Your River\, Creeks\, & Steams Workshop
DESCRIPTION:Join us Thursday\, April 4! The Upper Los Angeles River & Tributaries Working Group is hosting a workshop to discuss the Upper Los Angeles River planning efforts and we’d love for you to join us for this conversation in your neighborhood. \nEach workshop will include interactive exhibits and several exercises where you can share your ideas. Tell us what you want to see along the River and Tributaries\, the things you would like to do\, and how the River can continue to be a community asset. This meeting is open to the public and we invite your questions and comments. Refreshments and snacks provided and parking is free! \nRSVP
URL:https://nohowest.org/calendar/reimagine-your-river-creeks-steams-workshop/
LOCATION:Kidspace Children’s Museum\, 480 N. Arroyo Blvd\, Pasadena\, 91103
CATEGORIES:Community Events
GEO:34.1554477;-118.1639971
X-APPLE-STRUCTURED-LOCATION;VALUE=URI;X-ADDRESS=Kidspace Children’s Museum 480 N. Arroyo Blvd Pasadena 91103;X-APPLE-RADIUS=500;X-TITLE=480 N. Arroyo Blvd:geo:-118.1639971,34.1554477
END:VEVENT
END:VCALENDAR