BEGIN:VCALENDAR
VERSION:2.0
PRODID:-//NoHowest.org - ECPv6.15.16//NONSGML v1.0//EN
CALSCALE:GREGORIAN
METHOD:PUBLISH
X-ORIGINAL-URL:https://nohowest.org
X-WR-CALDESC:Events for NoHowest.org
REFRESH-INTERVAL;VALUE=DURATION:PT1H
X-Robots-Tag:noindex
X-PUBLISHED-TTL:PT1H
BEGIN:VTIMEZONE
TZID:America/Los_Angeles
BEGIN:DAYLIGHT
TZOFFSETFROM:-0800
TZOFFSETTO:-0700
TZNAME:PDT
DTSTART:20180311T100000
END:DAYLIGHT
BEGIN:STANDARD
TZOFFSETFROM:-0700
TZOFFSETTO:-0800
TZNAME:PST
DTSTART:20181104T090000
END:STANDARD
BEGIN:DAYLIGHT
TZOFFSETFROM:-0800
TZOFFSETTO:-0700
TZNAME:PDT
DTSTART:20190310T100000
END:DAYLIGHT
BEGIN:STANDARD
TZOFFSETFROM:-0700
TZOFFSETTO:-0800
TZNAME:PST
DTSTART:20191103T090000
END:STANDARD
BEGIN:DAYLIGHT
TZOFFSETFROM:-0800
TZOFFSETTO:-0700
TZNAME:PDT
DTSTART:20200308T100000
END:DAYLIGHT
BEGIN:STANDARD
TZOFFSETFROM:-0700
TZOFFSETTO:-0800
TZNAME:PST
DTSTART:20201101T090000
END:STANDARD
END:VTIMEZONE
BEGIN:VEVENT
DTSTART;TZID=America/Los_Angeles:20190816T190000
DTEND;TZID=America/Los_Angeles:20190816T210000
DTSTAMP:20260424T015336
CREATED:20190713T014034Z
LAST-MODIFIED:20190713T014831Z
UID:8723-1565982000-1565989200@nohowest.org
SUMMARY:Dr. Lucy Jones: Preparing for Increasing Risk from Natural Disasters!
DESCRIPTION:Our community’s risk from natural disasters is increasing\, and Southern California is just waiting for the Big One (8+ magnitude earthquake) to hit\, with shaking lasting for MINUTES and not mere seconds as with the 1994 Northridge earthquake. When homes\, businesses\, and our infrastructure is destroyed\, societal functioning itself is in danger of collapsing. Dr. Jones will show us that through science and effective planning\, we can better understand what the risk is and how to address it. We all have a role to play in making our communities much more resilient to these future disasters through the choices we make today and tomorrow. \nSign up on Eventbrite \nPresented and sponsored by Southern California Preparedness Foundation\, a 501(c)(3) nonprofit corporation. Co-sponsored by Patriot Oil Community Benefit Trust Fund\, as administered by the North Valley Coalition. \nFor more information on this Speaker please visit www.prhspeakers.com.
URL:https://nohowest.org/calendar/dr-lucy-jones-preparing-for-increasing-risk-from-natural-disasters/
LOCATION:Knollwood Country Club\, 12024 Balboa Boulevard\, Granada Hills\, 91344
CATEGORIES:Community Events
GEO:34.2889895;-118.4999395
X-APPLE-STRUCTURED-LOCATION;VALUE=URI;X-ADDRESS=Knollwood Country Club 12024 Balboa Boulevard Granada Hills 91344;X-APPLE-RADIUS=500;X-TITLE=12024 Balboa Boulevard:geo:-118.4999395,34.2889895
END:VEVENT
END:VCALENDAR