BEGIN:VCALENDAR
VERSION:2.0
PRODID:-//NoHowest.org - ECPv6.15.16//NONSGML v1.0//EN
CALSCALE:GREGORIAN
METHOD:PUBLISH
X-ORIGINAL-URL:https://nohowest.org
X-WR-CALDESC:Events for NoHowest.org
REFRESH-INTERVAL;VALUE=DURATION:PT1H
X-Robots-Tag:noindex
X-PUBLISHED-TTL:PT1H
BEGIN:VTIMEZONE
TZID:America/Los_Angeles
BEGIN:DAYLIGHT
TZOFFSETFROM:-0800
TZOFFSETTO:-0700
TZNAME:PDT
DTSTART:20180311T100000
END:DAYLIGHT
BEGIN:STANDARD
TZOFFSETFROM:-0700
TZOFFSETTO:-0800
TZNAME:PST
DTSTART:20181104T090000
END:STANDARD
BEGIN:DAYLIGHT
TZOFFSETFROM:-0800
TZOFFSETTO:-0700
TZNAME:PDT
DTSTART:20190310T100000
END:DAYLIGHT
BEGIN:STANDARD
TZOFFSETFROM:-0700
TZOFFSETTO:-0800
TZNAME:PST
DTSTART:20191103T090000
END:STANDARD
BEGIN:DAYLIGHT
TZOFFSETFROM:-0800
TZOFFSETTO:-0700
TZNAME:PDT
DTSTART:20200308T100000
END:DAYLIGHT
BEGIN:STANDARD
TZOFFSETFROM:-0700
TZOFFSETTO:-0800
TZNAME:PST
DTSTART:20201101T090000
END:STANDARD
END:VTIMEZONE
BEGIN:VEVENT
DTSTART;TZID=America/Los_Angeles:20190117T090000
DTEND;TZID=America/Los_Angeles:20190117T130000
DTSTAMP:20260424T034109
CREATED:20190115T214331Z
LAST-MODIFIED:20190115T214331Z
UID:8293-1547715600-1547730000@nohowest.org
SUMMARY:Homeless Service Professionals Job Fair
DESCRIPTION:A new year brings new career opportunities! Join us at our hiring fair and learn about the incredible impact you can have helping those living on our streets get all the support they need to start a new chapter: \nWe will have 30+ employers in attendance\, who are looking to fill hundreds of positions in the homeless services field throughout the greater L.A. area — everything from case managers and outreach workers to housing navigators\, supervisors and executives. \nTypes of Positions: \nDirect Service / Entry Level: case managers\, outreach workers\, housing navigators\, employment specialists\, administration\, finance\, and more;\nManagement / Supervisory Level: supervisors\, coordinators\, program managers and directors\, and similar positions;\nProfessional Level and Executive Level: with advanced degrees such as MSW\, MPP\, MPH\, LCSW\, certifications; senior management\nResources available: \nResume review and editing\nInterviewing preparation and tips\nConnections to more local services\n— \nThis job initiative is led in partnership with Mayor Eric Garcetti\, the Los Angeles Homeless Services Authority\, the County of Los Angeles Homeless Initiative\, Councilmember Marqueece Harris-Dawson\, United Way of Greater Los Angeles\, the City of LA’s Workforce Development Board (WDB)\, the Economic and Workforce Development Department (EWDD)\, the County’s Workforce Development\, Aging and Community Services (WDACS)\, host Los Angeles Southwest College (LASC)\, and the CSU5\, comprised of the five California State Universities that serve the greater Los Angeles region. \nSign up on Eventbrite
URL:https://nohowest.org/calendar/homeless-service-professionals-job-fair-2/
LOCATION:LA Southwest College\, 1600 West Imperial Highway\, Los Angeles\, 90047
CATEGORIES:Community Events
GEO:33.9300832;-118.3067827
X-APPLE-STRUCTURED-LOCATION;VALUE=URI;X-ADDRESS=LA Southwest College 1600 West Imperial Highway Los Angeles 90047;X-APPLE-RADIUS=500;X-TITLE=1600 West Imperial Highway:geo:-118.3067827,33.9300832
END:VEVENT
END:VCALENDAR