BEGIN:VCALENDAR
VERSION:2.0
PRODID:-//NoHowest.org - ECPv6.15.16//NONSGML v1.0//EN
CALSCALE:GREGORIAN
METHOD:PUBLISH
X-ORIGINAL-URL:https://nohowest.org
X-WR-CALDESC:Events for NoHowest.org
REFRESH-INTERVAL;VALUE=DURATION:PT1H
X-Robots-Tag:noindex
X-PUBLISHED-TTL:PT1H
BEGIN:VTIMEZONE
TZID:America/Los_Angeles
BEGIN:DAYLIGHT
TZOFFSETFROM:-0800
TZOFFSETTO:-0700
TZNAME:PDT
DTSTART:20150308T100000
END:DAYLIGHT
BEGIN:STANDARD
TZOFFSETFROM:-0700
TZOFFSETTO:-0800
TZNAME:PST
DTSTART:20151101T090000
END:STANDARD
BEGIN:DAYLIGHT
TZOFFSETFROM:-0800
TZOFFSETTO:-0700
TZNAME:PDT
DTSTART:20160313T100000
END:DAYLIGHT
BEGIN:STANDARD
TZOFFSETFROM:-0700
TZOFFSETTO:-0800
TZNAME:PST
DTSTART:20161106T090000
END:STANDARD
BEGIN:DAYLIGHT
TZOFFSETFROM:-0800
TZOFFSETTO:-0700
TZNAME:PDT
DTSTART:20170312T100000
END:DAYLIGHT
BEGIN:STANDARD
TZOFFSETFROM:-0700
TZOFFSETTO:-0800
TZNAME:PST
DTSTART:20171105T090000
END:STANDARD
BEGIN:DAYLIGHT
TZOFFSETFROM:-0800
TZOFFSETTO:-0700
TZNAME:PDT
DTSTART:20180311T100000
END:DAYLIGHT
BEGIN:STANDARD
TZOFFSETFROM:-0700
TZOFFSETTO:-0800
TZNAME:PST
DTSTART:20181104T090000
END:STANDARD
BEGIN:DAYLIGHT
TZOFFSETFROM:-0800
TZOFFSETTO:-0700
TZNAME:PDT
DTSTART:20190310T100000
END:DAYLIGHT
BEGIN:STANDARD
TZOFFSETFROM:-0700
TZOFFSETTO:-0800
TZNAME:PST
DTSTART:20191103T090000
END:STANDARD
BEGIN:DAYLIGHT
TZOFFSETFROM:-0800
TZOFFSETTO:-0700
TZNAME:PDT
DTSTART:20200308T100000
END:DAYLIGHT
BEGIN:STANDARD
TZOFFSETFROM:-0700
TZOFFSETTO:-0800
TZNAME:PST
DTSTART:20201101T090000
END:STANDARD
BEGIN:DAYLIGHT
TZOFFSETFROM:-0800
TZOFFSETTO:-0700
TZNAME:PDT
DTSTART:20210314T100000
END:DAYLIGHT
BEGIN:STANDARD
TZOFFSETFROM:-0700
TZOFFSETTO:-0800
TZNAME:PST
DTSTART:20211107T090000
END:STANDARD
BEGIN:DAYLIGHT
TZOFFSETFROM:-0800
TZOFFSETTO:-0700
TZNAME:PDT
DTSTART:20220313T100000
END:DAYLIGHT
BEGIN:STANDARD
TZOFFSETFROM:-0700
TZOFFSETTO:-0800
TZNAME:PST
DTSTART:20221106T090000
END:STANDARD
BEGIN:DAYLIGHT
TZOFFSETFROM:-0800
TZOFFSETTO:-0700
TZNAME:PDT
DTSTART:20230312T100000
END:DAYLIGHT
BEGIN:STANDARD
TZOFFSETFROM:-0700
TZOFFSETTO:-0800
TZNAME:PST
DTSTART:20231105T090000
END:STANDARD
BEGIN:DAYLIGHT
TZOFFSETFROM:-0800
TZOFFSETTO:-0700
TZNAME:PDT
DTSTART:20240310T100000
END:DAYLIGHT
BEGIN:STANDARD
TZOFFSETFROM:-0700
TZOFFSETTO:-0800
TZNAME:PST
DTSTART:20241103T090000
END:STANDARD
BEGIN:DAYLIGHT
TZOFFSETFROM:-0800
TZOFFSETTO:-0700
TZNAME:PDT
DTSTART:20250309T100000
END:DAYLIGHT
BEGIN:STANDARD
TZOFFSETFROM:-0700
TZOFFSETTO:-0800
TZNAME:PST
DTSTART:20251102T090000
END:STANDARD
BEGIN:DAYLIGHT
TZOFFSETFROM:-0800
TZOFFSETTO:-0700
TZNAME:PDT
DTSTART:20260308T100000
END:DAYLIGHT
BEGIN:STANDARD
TZOFFSETFROM:-0700
TZOFFSETTO:-0800
TZNAME:PST
DTSTART:20261101T090000
END:STANDARD
END:VTIMEZONE
BEGIN:VEVENT
DTSTART;TZID=America/Los_Angeles:20251006T180000
DTEND;TZID=America/Los_Angeles:20251006T200000
DTSTAMP:20260423T193843
CREATED:20251002T220438Z
LAST-MODIFIED:20251002T220438Z
UID:19737-1759773600-1759780800@nohowest.org
SUMMARY:Self Defense Clinic
DESCRIPTION:Monday\, October 6th\, 2025 \n6:00 pm – 8:00 pm\nLive at\nLA Valley College\nMonarch Hall\n5800 Fulton Ave\, Valley Glen\, CA 91401 \nDemonstration developed and taught by 5th Degree Black Belt\, Jean Morrison\, with over 3 decades of teaching self-defense techniques that work when under attack.\nYou will learn: \nThe 2 Most Important Tools for Self-Defense \nDefensive Techniques You’ll Remember Even If You Panic \n5 High Impact Target Areas \nBonus Tips and Tricks to Help Save Your Life
URL:https://nohowest.org/calendar/self-defense-clinic-2/
LOCATION:LA Valley College\, 5800 Fulton Ave\, Valley Glen\, 91401
CATEGORIES:Community Events
GEO:34.1757062;-118.4201438
X-APPLE-STRUCTURED-LOCATION;VALUE=URI;X-ADDRESS=LA Valley College 5800 Fulton Ave Valley Glen 91401;X-APPLE-RADIUS=500;X-TITLE=5800 Fulton Ave:geo:-118.4201438,34.1757062
END:VEVENT
BEGIN:VEVENT
DTSTART;TZID=America/Los_Angeles:20240411T160000
DTEND;TZID=America/Los_Angeles:20240411T200000
DTSTAMP:20260423T193843
CREATED:20240410T183022Z
LAST-MODIFIED:20240410T183022Z
UID:18411-1712851200-1712865600@nohowest.org
SUMMARY:Hire LA Day
DESCRIPTION:
URL:https://nohowest.org/calendar/hire-la-day/
LOCATION:LA Valley College\, 5800 Fulton Ave\, Valley Glen\, 91401
CATEGORIES:Community Events
GEO:34.1757062;-118.4201438
X-APPLE-STRUCTURED-LOCATION;VALUE=URI;X-ADDRESS=LA Valley College 5800 Fulton Ave Valley Glen 91401;X-APPLE-RADIUS=500;X-TITLE=5800 Fulton Ave:geo:-118.4201438,34.1757062
END:VEVENT
BEGIN:VEVENT
DTSTART;TZID=America/Los_Angeles:20180926T090000
DTEND;TZID=America/Los_Angeles:20180926T120000
DTSTAMP:20260423T193843
CREATED:20180924T184322Z
LAST-MODIFIED:20180924T184322Z
UID:8029-1537952400-1537963200@nohowest.org
SUMMARY:Homeless Service Professionals Job Fair
DESCRIPTION:Wednesday\, Sept. 26\, 9 am to 12 pm\nLA Valley College\n5800 Fulton Ave\nValley Glen\, CA 91401 \nCalling all job seekers: Mayor Eric Garcetti\, the Los Angeles Homeless Services Authority\, the County of Los Angeles Homeless Initiative\, United Way of Greater Los Angeles and City and County Workforce Development Systems invite you to the third Homeless Service Professionals Job Fair. The job fair will have 30+ employers in attendance\, who are looking to fill hundreds of positions throughout the greater LA area — everything from case managers and outreach workers to housing navigators\, supervisors and executives. For more information\, visit HomelessServiceProfessionalsLA.Eventbrite.com.
URL:https://nohowest.org/calendar/homeless-service-professionals-job-fair/
LOCATION:LA Valley College\, 5800 Fulton Ave\, Valley Glen\, 91401
CATEGORIES:Community Events
GEO:34.1757062;-118.4201438
X-APPLE-STRUCTURED-LOCATION;VALUE=URI;X-ADDRESS=LA Valley College 5800 Fulton Ave Valley Glen 91401;X-APPLE-RADIUS=500;X-TITLE=5800 Fulton Ave:geo:-118.4201438,34.1757062
END:VEVENT
BEGIN:VEVENT
DTSTART;TZID=America/Los_Angeles:20180430T090000
DTEND;TZID=America/Los_Angeles:20180430T120000
DTSTAMP:20260423T193843
CREATED:20180420T154030Z
LAST-MODIFIED:20180420T154030Z
UID:7605-1525078800-1525089600@nohowest.org
SUMMARY:Metro Bus Operator Orientation
DESCRIPTION:
URL:https://nohowest.org/calendar/metro-bus-operator-orientation/2018-04-30/
LOCATION:LA Valley College\, 5800 Fulton Ave\, Valley Glen\, 91401
CATEGORIES:Community Events
GEO:34.1757062;-118.4201438
X-APPLE-STRUCTURED-LOCATION;VALUE=URI;X-ADDRESS=LA Valley College 5800 Fulton Ave Valley Glen 91401;X-APPLE-RADIUS=500;X-TITLE=5800 Fulton Ave:geo:-118.4201438,34.1757062
END:VEVENT
BEGIN:VEVENT
DTSTART;TZID=America/Los_Angeles:20180118T183000
DTEND;TZID=America/Los_Angeles:20180118T203000
DTSTAMP:20260423T193843
CREATED:20171205T043319Z
LAST-MODIFIED:20171205T043319Z
UID:6966-1516300200-1516307400@nohowest.org
SUMMARY:Town Hall on Homelessness
DESCRIPTION:
URL:https://nohowest.org/calendar/town-hall-on-homelessness/
LOCATION:LA Valley College\, 5800 Fulton Ave\, Valley Glen\, 91401
CATEGORIES:Community Events
GEO:34.1757062;-118.4201438
X-APPLE-STRUCTURED-LOCATION;VALUE=URI;X-ADDRESS=LA Valley College 5800 Fulton Ave Valley Glen 91401;X-APPLE-RADIUS=500;X-TITLE=5800 Fulton Ave:geo:-118.4201438,34.1757062
END:VEVENT
BEGIN:VEVENT
DTSTART;TZID=America/Los_Angeles:20171207T090000
DTEND;TZID=America/Los_Angeles:20171207T140000
DTSTAMP:20260423T193843
CREATED:20171205T042936Z
LAST-MODIFIED:20171205T042936Z
UID:6959-1512637200-1512655200@nohowest.org
SUMMARY:Hero Hired Career and Resource Fair
DESCRIPTION:
URL:https://nohowest.org/calendar/hero-hired-career-and-resource-fair/
LOCATION:LA Valley College\, 5800 Fulton Ave\, Valley Glen\, 91401
CATEGORIES:Community Events
GEO:34.1757062;-118.4201438
X-APPLE-STRUCTURED-LOCATION;VALUE=URI;X-ADDRESS=LA Valley College 5800 Fulton Ave Valley Glen 91401;X-APPLE-RADIUS=500;X-TITLE=5800 Fulton Ave:geo:-118.4201438,34.1757062
END:VEVENT
BEGIN:VEVENT
DTSTART;TZID=America/Los_Angeles:20161026T110000
DTEND;TZID=America/Los_Angeles:20161026T140000
DTSTAMP:20260423T193843
CREATED:20161008T022309Z
LAST-MODIFIED:20161008T022309Z
UID:5772-1477479600-1477490400@nohowest.org
SUMMARY:East Valley Emergency Preparedness Summit
DESCRIPTION:Wednesday\, Oct. 26\, 6 pm\nLA Valley College\, Monarch Hall\n5800 Fulton Ave.\nValley Glen\, 91401 \nAre you prepared for the next natural disaster? What should you do in an active shooter situation? Join Councilmembers Paul Krekorian and David Ryu\, and the North Hollywood Community Police Advisory Board for an emergency preparedness workshop and training session. Learn how to respond to an emergency or disaster situation\, including guidance for how to address an active shooter scenario.\nTo RSVP\, visit bit.ly/CD2prepare.
URL:https://nohowest.org/calendar/east-valley-emergency-preparedness-summit/
LOCATION:LA Valley College\, 5800 Fulton Ave\, Valley Glen\, 91401
CATEGORIES:Community Events
GEO:34.1757062;-118.4201438
X-APPLE-STRUCTURED-LOCATION;VALUE=URI;X-ADDRESS=LA Valley College 5800 Fulton Ave Valley Glen 91401;X-APPLE-RADIUS=500;X-TITLE=5800 Fulton Ave:geo:-118.4201438,34.1757062
END:VEVENT
BEGIN:VEVENT
DTSTART;TZID=America/Los_Angeles:20161016T000000
DTEND;TZID=America/Los_Angeles:20161016T150000
DTSTAMP:20260423T193843
CREATED:20161008T021804Z
LAST-MODIFIED:20161008T021817Z
UID:5768-1476576000-1476630000@nohowest.org
SUMMARY:Village Run/Walk 5K
DESCRIPTION:Join the Village Family Services\, Valley Village and Councilmember Paul Krekorian for the third annual Village Run/Walk 5K\, a San Fernando Valley Community event that raises awareness and resources for two essential human service nonprofits. Visit www.villagerunwalk.org for more information and to register for this year’s event. \nLA Valley College\, Parking Lot A\n5800 Fulton Ave.\nValley Glen
URL:https://nohowest.org/calendar/village-runwalk-5k/
LOCATION:LA Valley College\, 5800 Fulton Ave\, Valley Glen\, 91401
CATEGORIES:Community Events
GEO:34.1757062;-118.4201438
X-APPLE-STRUCTURED-LOCATION;VALUE=URI;X-ADDRESS=LA Valley College 5800 Fulton Ave Valley Glen 91401;X-APPLE-RADIUS=500;X-TITLE=5800 Fulton Ave:geo:-118.4201438,34.1757062
END:VEVENT
BEGIN:VEVENT
DTSTART;TZID=America/Los_Angeles:20160226T010000
DTEND;TZID=America/Los_Angeles:20160226T040000
DTSTAMP:20260423T193843
CREATED:20160223T085534Z
LAST-MODIFIED:20160223T085534Z
UID:5442-1456448400-1456459200@nohowest.org
SUMMARY:Valley Veteran's Job Club
DESCRIPTION:
URL:https://nohowest.org/calendar/valley-veterans-job-club/
LOCATION:LA Valley College\, 5800 Fulton Ave\, Valley Glen\, 91401
CATEGORIES:Community Events
GEO:34.1757062;-118.4201438
X-APPLE-STRUCTURED-LOCATION;VALUE=URI;X-ADDRESS=LA Valley College 5800 Fulton Ave Valley Glen 91401;X-APPLE-RADIUS=500;X-TITLE=5800 Fulton Ave:geo:-118.4201438,34.1757062
END:VEVENT
END:VCALENDAR