BEGIN:VCALENDAR
VERSION:2.0
PRODID:-//NoHowest.org - ECPv6.15.16//NONSGML v1.0//EN
CALSCALE:GREGORIAN
METHOD:PUBLISH
X-ORIGINAL-URL:https://nohowest.org
X-WR-CALDESC:Events for NoHowest.org
REFRESH-INTERVAL;VALUE=DURATION:PT1H
X-Robots-Tag:noindex
X-PUBLISHED-TTL:PT1H
BEGIN:VTIMEZONE
TZID:America/Los_Angeles
BEGIN:DAYLIGHT
TZOFFSETFROM:-0800
TZOFFSETTO:-0700
TZNAME:PDT
DTSTART:20160313T100000
END:DAYLIGHT
BEGIN:STANDARD
TZOFFSETFROM:-0700
TZOFFSETTO:-0800
TZNAME:PST
DTSTART:20161106T090000
END:STANDARD
BEGIN:DAYLIGHT
TZOFFSETFROM:-0800
TZOFFSETTO:-0700
TZNAME:PDT
DTSTART:20170312T100000
END:DAYLIGHT
BEGIN:STANDARD
TZOFFSETFROM:-0700
TZOFFSETTO:-0800
TZNAME:PST
DTSTART:20171105T090000
END:STANDARD
BEGIN:DAYLIGHT
TZOFFSETFROM:-0800
TZOFFSETTO:-0700
TZNAME:PDT
DTSTART:20180311T100000
END:DAYLIGHT
BEGIN:STANDARD
TZOFFSETFROM:-0700
TZOFFSETTO:-0800
TZNAME:PST
DTSTART:20181104T090000
END:STANDARD
BEGIN:DAYLIGHT
TZOFFSETFROM:-0800
TZOFFSETTO:-0700
TZNAME:PDT
DTSTART:20190310T100000
END:DAYLIGHT
BEGIN:STANDARD
TZOFFSETFROM:-0700
TZOFFSETTO:-0800
TZNAME:PST
DTSTART:20191103T090000
END:STANDARD
BEGIN:DAYLIGHT
TZOFFSETFROM:-0800
TZOFFSETTO:-0700
TZNAME:PDT
DTSTART:20200308T100000
END:DAYLIGHT
BEGIN:STANDARD
TZOFFSETFROM:-0700
TZOFFSETTO:-0800
TZNAME:PST
DTSTART:20201101T090000
END:STANDARD
BEGIN:DAYLIGHT
TZOFFSETFROM:-0800
TZOFFSETTO:-0700
TZNAME:PDT
DTSTART:20210314T100000
END:DAYLIGHT
BEGIN:STANDARD
TZOFFSETFROM:-0700
TZOFFSETTO:-0800
TZNAME:PST
DTSTART:20211107T090000
END:STANDARD
END:VTIMEZONE
BEGIN:VEVENT
DTSTART;TZID=America/Los_Angeles:20200314T073000
DTEND;TZID=America/Los_Angeles:20200314T130000
DTSTAMP:20260424T064414
CREATED:20200211T194129Z
LAST-MODIFIED:20200211T194129Z
UID:9051-1584171000-1584190800@nohowest.org
SUMMARY:St. Baldrick’s
DESCRIPTION:To register as a shavee or donate please visit www.stbaldricks.org/events/lafdlapd \nMore information: LAFD Danny Wu 626-590-6240 or LAPD Nick Sinclair 619-602-3107
URL:https://nohowest.org/calendar/st-baldricks/
LOCATION:LAFD 89\, 7063 Laurel Canyon Blvd\, North Hollywood
CATEGORIES:Community Events
GEO:34.1992073;-118.3970688
X-APPLE-STRUCTURED-LOCATION;VALUE=URI;X-ADDRESS=LAFD 89 7063 Laurel Canyon Blvd North Hollywood;X-APPLE-RADIUS=500;X-TITLE=7063 Laurel Canyon Blvd:geo:-118.3970688,34.1992073
END:VEVENT
BEGIN:VEVENT
DTSTART;TZID=America/Los_Angeles:20180324T073000
DTEND;TZID=America/Los_Angeles:20180324T133000
DTSTAMP:20260424T064414
CREATED:20180207T000007Z
LAST-MODIFIED:20180207T000007Z
UID:7397-1521876600-1521898200@nohowest.org
SUMMARY:St. Baldrick’s Kids Cancer Fundraiser
DESCRIPTION:
URL:https://nohowest.org/calendar/st-baldricks-kids-cancer-fundraiser/
LOCATION:LAFD 89\, 7063 Laurel Canyon Blvd\, North Hollywood
CATEGORIES:Community Events
GEO:34.1992073;-118.3970688
X-APPLE-STRUCTURED-LOCATION;VALUE=URI;X-ADDRESS=LAFD 89 7063 Laurel Canyon Blvd North Hollywood;X-APPLE-RADIUS=500;X-TITLE=7063 Laurel Canyon Blvd:geo:-118.3970688,34.1992073
END:VEVENT
BEGIN:VEVENT
DTSTART;TZID=America/Los_Angeles:20170919T073000
DTEND;TZID=America/Los_Angeles:20170919T090000
DTSTAMP:20260424T064414
CREATED:20170908T165702Z
LAST-MODIFIED:20170908T165702Z
UID:6695-1505806200-1505811600@nohowest.org
SUMMARY:Networking Breakfast
DESCRIPTION:From the Universal City-North Hollywood Chamber of Commerce: \nThis Month’s Breakfast is Filled with Information YOU Need to Know!\nOur September breakfast is loaded with education and opportunity! At the low\, low cost of only $15 for Chamber members and early registers/$17 at the door\, you CAN’T afford to miss it.\nOf course\, once again\, our breakfast will be catered by our own Gustavo Castillo of Que’ Rico’s\, and will include all of the great networking possibilities our breakfast provides. \nDATE – Tuesday\, September 19th\nTIME – 7:30-9 A.M.\nWHERE – Fire Station 89\n7063 Laurel Canyon Blvd. North Hollywood\nCOST – $15 pre-pay by Thursday\, Sept 14th\n$17 at the door\, day of event \nClick below to pre-pay… \n\nNetworking Breakfasts \n\nPlease call our office at 818-508-5155 with any questions. Ask for Dorothy
URL:https://nohowest.org/calendar/networking-breakfast/
LOCATION:LAFD 89\, 7063 Laurel Canyon Blvd\, North Hollywood
CATEGORIES:Community Events
GEO:34.1992073;-118.3970688
X-APPLE-STRUCTURED-LOCATION;VALUE=URI;X-ADDRESS=LAFD 89 7063 Laurel Canyon Blvd North Hollywood;X-APPLE-RADIUS=500;X-TITLE=7063 Laurel Canyon Blvd:geo:-118.3970688,34.1992073
END:VEVENT
BEGIN:VEVENT
DTSTART;TZID=America/Los_Angeles:20170304T073000
DTEND;TZID=America/Los_Angeles:20170304T130000
DTSTAMP:20260424T064414
CREATED:20170213T185639Z
LAST-MODIFIED:20170223T220437Z
UID:6124-1488612600-1488632400@nohowest.org
SUMMARY:LAFD/ LAPD St. Baldrick's Fundraiser to Fight Kids Cancer
DESCRIPTION:Saturday\, March 4\, 7:30 a.m. to 1:00 p.m.\nLAFD Fire Station 89\n7063 Laurel Canyon Blvd. \nJoin the firefighters of Fire Station 89 to help save a child’s life. The annual breakfast and fundraiser will help raise funds to fight children’s cancer. The family friendly event will have free pancake breakfast\, face paint\, crafts and entertainment\, and more. To register as a participant or donor\, visit www.stbaldricks.org/events/lafdlapd.
URL:https://nohowest.org/calendar/lafd-lapd-st-balricks-fundraiser-to-fight-kids-cancer/
LOCATION:LAFD 89\, 7063 Laurel Canyon Blvd\, North Hollywood
CATEGORIES:Community Events
GEO:34.1992073;-118.3970688
X-APPLE-STRUCTURED-LOCATION;VALUE=URI;X-ADDRESS=LAFD 89 7063 Laurel Canyon Blvd North Hollywood;X-APPLE-RADIUS=500;X-TITLE=7063 Laurel Canyon Blvd:geo:-118.3970688,34.1992073
END:VEVENT
END:VCALENDAR