BEGIN:VCALENDAR
VERSION:2.0
PRODID:-//NoHowest.org - ECPv6.15.16//NONSGML v1.0//EN
CALSCALE:GREGORIAN
METHOD:PUBLISH
X-WR-CALNAME:NoHowest.org
X-ORIGINAL-URL:https://nohowest.org
X-WR-CALDESC:Events for NoHowest.org
REFRESH-INTERVAL;VALUE=DURATION:PT1H
X-Robots-Tag:noindex
X-PUBLISHED-TTL:PT1H
BEGIN:VTIMEZONE
TZID:America/Los_Angeles
BEGIN:DAYLIGHT
TZOFFSETFROM:-0800
TZOFFSETTO:-0700
TZNAME:PDT
DTSTART:20180311T100000
END:DAYLIGHT
BEGIN:STANDARD
TZOFFSETFROM:-0700
TZOFFSETTO:-0800
TZNAME:PST
DTSTART:20181104T090000
END:STANDARD
BEGIN:DAYLIGHT
TZOFFSETFROM:-0800
TZOFFSETTO:-0700
TZNAME:PDT
DTSTART:20190310T100000
END:DAYLIGHT
BEGIN:STANDARD
TZOFFSETFROM:-0700
TZOFFSETTO:-0800
TZNAME:PST
DTSTART:20191103T090000
END:STANDARD
BEGIN:DAYLIGHT
TZOFFSETFROM:-0800
TZOFFSETTO:-0700
TZNAME:PDT
DTSTART:20200308T100000
END:DAYLIGHT
BEGIN:STANDARD
TZOFFSETFROM:-0700
TZOFFSETTO:-0800
TZNAME:PST
DTSTART:20201101T090000
END:STANDARD
END:VTIMEZONE
BEGIN:VEVENT
DTSTART;TZID=America/Los_Angeles:20190506T180000
DTEND;TZID=America/Los_Angeles:20190506T210000
DTSTAMP:20260424T044907
CREATED:20190410T172835Z
LAST-MODIFIED:20190410T172835Z
UID:8518-1557165600-1557176400@nohowest.org
SUMMARY:Community Police Academy
DESCRIPTION:LAPD is expanding their resources by deploying volunteers wherever possible to free up officers to do what they do best. You can now get trained to volunteer in a variety of capacities. You must be 18 or older\, have no felony convictions\, outstanding warrants\, or pending criminal cases and live or work in the Operations Valley Bureau area. Classes are Mondays for 8 weeks. For more information contact Officer Rothman 818-664-8140. OVBComm@lapd.online
URL:https://nohowest.org/calendar/community-police-academy/
LOCATION:LAPD Edward Davis Training Facility\, 12001 Blucher Ave\, Granada Hills\, 91344
CATEGORIES:Community Events
GEO:34.2901937;-118.4710384
X-APPLE-STRUCTURED-LOCATION;VALUE=URI;X-ADDRESS=LAPD Edward Davis Training Facility 12001 Blucher Ave Granada Hills 91344;X-APPLE-RADIUS=500;X-TITLE=12001 Blucher Ave:geo:-118.4710384,34.2901937
END:VEVENT
END:VCALENDAR