BEGIN:VCALENDAR
VERSION:2.0
PRODID:-//NoHowest.org - ECPv6.15.16//NONSGML v1.0//EN
CALSCALE:GREGORIAN
METHOD:PUBLISH
X-WR-CALNAME:NoHowest.org
X-ORIGINAL-URL:https://nohowest.org
X-WR-CALDESC:Events for NoHowest.org
REFRESH-INTERVAL;VALUE=DURATION:PT1H
X-Robots-Tag:noindex
X-PUBLISHED-TTL:PT1H
BEGIN:VTIMEZONE
TZID:America/Los_Angeles
BEGIN:DAYLIGHT
TZOFFSETFROM:-0800
TZOFFSETTO:-0700
TZNAME:PDT
DTSTART:20150308T100000
END:DAYLIGHT
BEGIN:STANDARD
TZOFFSETFROM:-0700
TZOFFSETTO:-0800
TZNAME:PST
DTSTART:20151101T090000
END:STANDARD
BEGIN:DAYLIGHT
TZOFFSETFROM:-0800
TZOFFSETTO:-0700
TZNAME:PDT
DTSTART:20160313T100000
END:DAYLIGHT
BEGIN:STANDARD
TZOFFSETFROM:-0700
TZOFFSETTO:-0800
TZNAME:PST
DTSTART:20161106T090000
END:STANDARD
BEGIN:DAYLIGHT
TZOFFSETFROM:-0800
TZOFFSETTO:-0700
TZNAME:PDT
DTSTART:20170312T100000
END:DAYLIGHT
BEGIN:STANDARD
TZOFFSETFROM:-0700
TZOFFSETTO:-0800
TZNAME:PST
DTSTART:20171105T090000
END:STANDARD
END:VTIMEZONE
BEGIN:VEVENT
DTSTART;TZID=America/Los_Angeles:20160429T000000
DTEND;TZID=America/Los_Angeles:20160429T070000
DTSTAMP:20260424T034017
CREATED:20160406T022406Z
LAST-MODIFIED:20160406T022524Z
UID:5515-1461888000-1461913200@nohowest.org
SUMMARY:3 Day Free Health Care Clinic
DESCRIPTION:Doors will be open from 7a.m. until 4p.m.\, April 27-28.  On Friday\, April 29\, doors will be open from 7a.m. until 2p.m.  Some patients will come early.  First come\, first served.  We will treat as many patients as we have space and services available. More info
URL:https://nohowest.org/calendar/3-day-free-health-care-clinic-2016-04-29/
LOCATION:Los Angeles Convention Center
CATEGORIES:Community Events
END:VEVENT
BEGIN:VEVENT
DTSTART;TZID=America/Los_Angeles:20160427T000000
DTEND;TZID=America/Los_Angeles:20160427T090000
DTSTAMP:20260424T034017
CREATED:20160406T022406Z
LAST-MODIFIED:20160406T022406Z
UID:5511-1461715200-1461747600@nohowest.org
SUMMARY:3 Day Free Health Care Clinic
DESCRIPTION:Doors will be open from 7a.m. until 4p.m.\, April 27-28.  On Friday\, April 29\, doors will be open from 7a.m. until 2p.m.  Some patients will come early.  First come\, first served.  We will treat as many patients as we have space and services available. More info
URL:https://nohowest.org/calendar/3-day-free-health-care-clinic/2016-04-27/
LOCATION:Los Angeles Convention Center
CATEGORIES:Community Events
END:VEVENT
END:VCALENDAR