BEGIN:VCALENDAR
VERSION:2.0
PRODID:-//NoHowest.org - ECPv6.15.16//NONSGML v1.0//EN
CALSCALE:GREGORIAN
METHOD:PUBLISH
X-WR-CALNAME:NoHowest.org
X-ORIGINAL-URL:https://nohowest.org
X-WR-CALDESC:Events for NoHowest.org
REFRESH-INTERVAL;VALUE=DURATION:PT1H
X-Robots-Tag:noindex
X-PUBLISHED-TTL:PT1H
BEGIN:VTIMEZONE
TZID:America/Los_Angeles
BEGIN:DAYLIGHT
TZOFFSETFROM:-0800
TZOFFSETTO:-0700
TZNAME:PDT
DTSTART:20220313T100000
END:DAYLIGHT
BEGIN:STANDARD
TZOFFSETFROM:-0700
TZOFFSETTO:-0800
TZNAME:PST
DTSTART:20221106T090000
END:STANDARD
BEGIN:DAYLIGHT
TZOFFSETFROM:-0800
TZOFFSETTO:-0700
TZNAME:PDT
DTSTART:20230312T100000
END:DAYLIGHT
BEGIN:STANDARD
TZOFFSETFROM:-0700
TZOFFSETTO:-0800
TZNAME:PST
DTSTART:20231105T090000
END:STANDARD
BEGIN:DAYLIGHT
TZOFFSETFROM:-0800
TZOFFSETTO:-0700
TZNAME:PDT
DTSTART:20240310T100000
END:DAYLIGHT
BEGIN:STANDARD
TZOFFSETFROM:-0700
TZOFFSETTO:-0800
TZNAME:PST
DTSTART:20241103T090000
END:STANDARD
END:VTIMEZONE
BEGIN:VEVENT
DTSTART;TZID=America/Los_Angeles:20231021T100000
DTEND;TZID=America/Los_Angeles:20231021T210000
DTSTAMP:20260423T225830
CREATED:20231005T203014Z
LAST-MODIFIED:20231005T203014Z
UID:16391-1697882400-1697922000@nohowest.org
SUMMARY:Relay for Life
DESCRIPTION:Join us on the soccer field and LA Valley College and help us Scare Away Cancer. It will be a booootiful time! At Relay For Life you’ll find community members taking turns walking around a track. You’ll have the opportunity to cheer for local survivors (or participate as a survivor) in our first lap of the day. Caregivers will then be invited to join the Survivors. Local entertainment\, food trucks teams with opportunity baskets and other goodies create a festive time. As it gets dark\, we will light luminaria bags surrounding the track for a memorable luminaria ceremony of Remembering and Celebrating.
URL:https://nohowest.org/calendar/relay-for-life/
LOCATION:Los Angeles Valley College Soccer Fields\, 5792 Ethel Ave\, Valley Glen\, 91401
CATEGORIES:Community Events
GEO:34.1755206;-118.4196418
X-APPLE-STRUCTURED-LOCATION;VALUE=URI;X-ADDRESS=Los Angeles Valley College Soccer Fields 5792 Ethel Ave Valley Glen 91401;X-APPLE-RADIUS=500;X-TITLE=5792 Ethel Ave:geo:-118.4196418,34.1755206
END:VEVENT
END:VCALENDAR