BEGIN:VCALENDAR
VERSION:2.0
PRODID:-//NoHowest.org - ECPv6.15.16//NONSGML v1.0//EN
CALSCALE:GREGORIAN
METHOD:PUBLISH
X-WR-CALNAME:NoHowest.org
X-ORIGINAL-URL:https://nohowest.org
X-WR-CALDESC:Events for NoHowest.org
REFRESH-INTERVAL;VALUE=DURATION:PT1H
X-Robots-Tag:noindex
X-PUBLISHED-TTL:PT1H
BEGIN:VTIMEZONE
TZID:America/Los_Angeles
BEGIN:DAYLIGHT
TZOFFSETFROM:-0800
TZOFFSETTO:-0700
TZNAME:PDT
DTSTART:20190310T100000
END:DAYLIGHT
BEGIN:STANDARD
TZOFFSETFROM:-0700
TZOFFSETTO:-0800
TZNAME:PST
DTSTART:20191103T090000
END:STANDARD
BEGIN:DAYLIGHT
TZOFFSETFROM:-0800
TZOFFSETTO:-0700
TZNAME:PDT
DTSTART:20200308T100000
END:DAYLIGHT
BEGIN:STANDARD
TZOFFSETFROM:-0700
TZOFFSETTO:-0800
TZNAME:PST
DTSTART:20201101T090000
END:STANDARD
BEGIN:DAYLIGHT
TZOFFSETFROM:-0800
TZOFFSETTO:-0700
TZNAME:PDT
DTSTART:20210314T100000
END:DAYLIGHT
BEGIN:STANDARD
TZOFFSETFROM:-0700
TZOFFSETTO:-0800
TZNAME:PST
DTSTART:20211107T090000
END:STANDARD
END:VTIMEZONE
BEGIN:VEVENT
DTSTART;TZID=America/Los_Angeles:20201016T090000
DTEND;TZID=America/Los_Angeles:20201016T130000
DTSTAMP:20260425T033133
CREATED:20201015T002340Z
LAST-MODIFIED:20201015T002340Z
UID:9699-1602838800-1602853200@nohowest.org
SUMMARY:PPE Curbside Pick Up
DESCRIPTION:This Friday\, Assemblywoman Luz Rivas in partnership with the Personal Assistance Services Council will be hosting a much needed PPE Curbside Pick up for IHSS providers and customers. Mask and gloves will be donated to individuals with their IHSS check stub and matching Driver license/ID. We hope you can join us this Friday\, October 16 from 9am-1pm at the District Office of Assemblywoman Luz Rivas: 9300 Laurel Canyon Blvd. Arleta CA 91331.
URL:https://nohowest.org/calendar/ppe-curbside-pick-up/
LOCATION:Luz Rivas Office\, 9300 Laurel Canyon Blvd\, Arleta\, 91331
CATEGORIES:Community Events
GEO:34.2383467;-118.410149
X-APPLE-STRUCTURED-LOCATION;VALUE=URI;X-ADDRESS=Luz Rivas Office 9300 Laurel Canyon Blvd Arleta 91331;X-APPLE-RADIUS=500;X-TITLE=9300 Laurel Canyon Blvd:geo:-118.410149,34.2383467
END:VEVENT
END:VCALENDAR