BEGIN:VCALENDAR
VERSION:2.0
PRODID:-//NoHowest.org - ECPv6.15.16//NONSGML v1.0//EN
CALSCALE:GREGORIAN
METHOD:PUBLISH
X-WR-CALNAME:NoHowest.org
X-ORIGINAL-URL:https://nohowest.org
X-WR-CALDESC:Events for NoHowest.org
REFRESH-INTERVAL;VALUE=DURATION:PT1H
X-Robots-Tag:noindex
X-PUBLISHED-TTL:PT1H
BEGIN:VTIMEZONE
TZID:America/Los_Angeles
BEGIN:DAYLIGHT
TZOFFSETFROM:-0800
TZOFFSETTO:-0700
TZNAME:PDT
DTSTART:20210314T100000
END:DAYLIGHT
BEGIN:STANDARD
TZOFFSETFROM:-0700
TZOFFSETTO:-0800
TZNAME:PST
DTSTART:20211107T090000
END:STANDARD
BEGIN:DAYLIGHT
TZOFFSETFROM:-0800
TZOFFSETTO:-0700
TZNAME:PDT
DTSTART:20220313T100000
END:DAYLIGHT
BEGIN:STANDARD
TZOFFSETFROM:-0700
TZOFFSETTO:-0800
TZNAME:PST
DTSTART:20221106T090000
END:STANDARD
BEGIN:DAYLIGHT
TZOFFSETFROM:-0800
TZOFFSETTO:-0700
TZNAME:PDT
DTSTART:20230312T100000
END:DAYLIGHT
BEGIN:STANDARD
TZOFFSETFROM:-0700
TZOFFSETTO:-0800
TZNAME:PST
DTSTART:20231105T090000
END:STANDARD
END:VTIMEZONE
BEGIN:VEVENT
DTSTART;TZID=America/Los_Angeles:20221115T180000
DTEND;TZID=America/Los_Angeles:20221115T200000
DTSTAMP:20260424T065219
CREATED:20220929T005900Z
LAST-MODIFIED:20221107T215752Z
UID:12712-1668535200-1668542400@nohowest.org
SUMMARY:LAPD Armenian Community Forum
DESCRIPTION:An evening of dialogue to discuss the emerging issues that directly affect the Armenian Community in the San Fernando Valley. \nTopics include crime trends\, homelessness\, quality of life issues and community engagement. Meet your LAPD staff.
URL:https://nohowest.org/calendar/lapd-armenian-community-forum/
LOCATION:Mirage Banquet Hall\, 12141 Victory Bl\, North Hollywood
CATEGORIES:Community Events
GEO:34.1870048;-118.3981031
X-APPLE-STRUCTURED-LOCATION;VALUE=URI;X-ADDRESS=Mirage Banquet Hall 12141 Victory Bl North Hollywood;X-APPLE-RADIUS=500;X-TITLE=12141 Victory Bl:geo:-118.3981031,34.1870048
END:VEVENT
END:VCALENDAR