BEGIN:VCALENDAR
VERSION:2.0
PRODID:-//NoHowest.org - ECPv6.15.16//NONSGML v1.0//EN
CALSCALE:GREGORIAN
METHOD:PUBLISH
X-ORIGINAL-URL:https://nohowest.org
X-WR-CALDESC:Events for NoHowest.org
REFRESH-INTERVAL;VALUE=DURATION:PT1H
X-Robots-Tag:noindex
X-PUBLISHED-TTL:PT1H
BEGIN:VTIMEZONE
TZID:America/Los_Angeles
BEGIN:DAYLIGHT
TZOFFSETFROM:-0800
TZOFFSETTO:-0700
TZNAME:PDT
DTSTART:20160313T100000
END:DAYLIGHT
BEGIN:STANDARD
TZOFFSETFROM:-0700
TZOFFSETTO:-0800
TZNAME:PST
DTSTART:20161106T090000
END:STANDARD
BEGIN:DAYLIGHT
TZOFFSETFROM:-0800
TZOFFSETTO:-0700
TZNAME:PDT
DTSTART:20170312T100000
END:DAYLIGHT
BEGIN:STANDARD
TZOFFSETFROM:-0700
TZOFFSETTO:-0800
TZNAME:PST
DTSTART:20171105T090000
END:STANDARD
BEGIN:DAYLIGHT
TZOFFSETFROM:-0800
TZOFFSETTO:-0700
TZNAME:PDT
DTSTART:20180311T100000
END:DAYLIGHT
BEGIN:STANDARD
TZOFFSETFROM:-0700
TZOFFSETTO:-0800
TZNAME:PST
DTSTART:20181104T090000
END:STANDARD
BEGIN:DAYLIGHT
TZOFFSETFROM:-0800
TZOFFSETTO:-0700
TZNAME:PDT
DTSTART:20190310T100000
END:DAYLIGHT
BEGIN:STANDARD
TZOFFSETFROM:-0700
TZOFFSETTO:-0800
TZNAME:PST
DTSTART:20191103T090000
END:STANDARD
BEGIN:DAYLIGHT
TZOFFSETFROM:-0800
TZOFFSETTO:-0700
TZNAME:PDT
DTSTART:20200308T100000
END:DAYLIGHT
BEGIN:STANDARD
TZOFFSETFROM:-0700
TZOFFSETTO:-0800
TZNAME:PST
DTSTART:20201101T090000
END:STANDARD
BEGIN:DAYLIGHT
TZOFFSETFROM:-0800
TZOFFSETTO:-0700
TZNAME:PDT
DTSTART:20210314T100000
END:DAYLIGHT
BEGIN:STANDARD
TZOFFSETFROM:-0700
TZOFFSETTO:-0800
TZNAME:PST
DTSTART:20211107T090000
END:STANDARD
BEGIN:DAYLIGHT
TZOFFSETFROM:-0800
TZOFFSETTO:-0700
TZNAME:PDT
DTSTART:20220313T100000
END:DAYLIGHT
BEGIN:STANDARD
TZOFFSETFROM:-0700
TZOFFSETTO:-0800
TZNAME:PST
DTSTART:20221106T090000
END:STANDARD
BEGIN:DAYLIGHT
TZOFFSETFROM:-0800
TZOFFSETTO:-0700
TZNAME:PDT
DTSTART:20230312T100000
END:DAYLIGHT
BEGIN:STANDARD
TZOFFSETFROM:-0700
TZOFFSETTO:-0800
TZNAME:PST
DTSTART:20231105T090000
END:STANDARD
BEGIN:DAYLIGHT
TZOFFSETFROM:-0800
TZOFFSETTO:-0700
TZNAME:PDT
DTSTART:20240310T100000
END:DAYLIGHT
BEGIN:STANDARD
TZOFFSETFROM:-0700
TZOFFSETTO:-0800
TZNAME:PST
DTSTART:20241103T090000
END:STANDARD
BEGIN:DAYLIGHT
TZOFFSETFROM:-0800
TZOFFSETTO:-0700
TZNAME:PDT
DTSTART:20250309T100000
END:DAYLIGHT
BEGIN:STANDARD
TZOFFSETFROM:-0700
TZOFFSETTO:-0800
TZNAME:PST
DTSTART:20251102T090000
END:STANDARD
END:VTIMEZONE
BEGIN:VEVENT
DTSTART;TZID=America/Los_Angeles:20241227T170000
DTEND;TZID=America/Los_Angeles:20241227T210000
DTSTAMP:20260424T120621
CREATED:20241204T222217Z
LAST-MODIFIED:20241204T222217Z
UID:19136-1735318800-1735333200@nohowest.org
SUMMARY:Free Friday Winter Nights
DESCRIPTION:Enjoy Free Friday Winter Nights at NoHo Plaza next to 5223 Lankershim Blvd. \nEvery Friday this December from 5-9pm. \n \n 
URL:https://nohowest.org/calendar/free-friday-winter-nights/2024-12-27/
LOCATION:NoHo Plaza\, 5223 Lankershim Blvd\, North Hollywood
CATEGORIES:Community Events
GEO:34.1656249;-118.3750601
X-APPLE-STRUCTURED-LOCATION;VALUE=URI;X-ADDRESS=NoHo Plaza 5223 Lankershim Blvd North Hollywood;X-APPLE-RADIUS=500;X-TITLE=5223 Lankershim Blvd:geo:-118.3750601,34.1656249
END:VEVENT
BEGIN:VEVENT
DTSTART;TZID=America/Los_Angeles:20241220T170000
DTEND;TZID=America/Los_Angeles:20241220T210000
DTSTAMP:20260424T120621
CREATED:20241204T222217Z
LAST-MODIFIED:20241204T222217Z
UID:19135-1734714000-1734728400@nohowest.org
SUMMARY:Free Friday Winter Nights
DESCRIPTION:Enjoy Free Friday Winter Nights at NoHo Plaza next to 5223 Lankershim Blvd. \nEvery Friday this December from 5-9pm. \n \n 
URL:https://nohowest.org/calendar/free-friday-winter-nights/2024-12-20/
LOCATION:NoHo Plaza\, 5223 Lankershim Blvd\, North Hollywood
CATEGORIES:Community Events
GEO:34.1656249;-118.3750601
X-APPLE-STRUCTURED-LOCATION;VALUE=URI;X-ADDRESS=NoHo Plaza 5223 Lankershim Blvd North Hollywood;X-APPLE-RADIUS=500;X-TITLE=5223 Lankershim Blvd:geo:-118.3750601,34.1656249
END:VEVENT
BEGIN:VEVENT
DTSTART;TZID=America/Los_Angeles:20241213T170000
DTEND;TZID=America/Los_Angeles:20241213T210000
DTSTAMP:20260424T120621
CREATED:20241204T222217Z
LAST-MODIFIED:20241204T222217Z
UID:19134-1734109200-1734123600@nohowest.org
SUMMARY:Free Friday Winter Nights
DESCRIPTION:Enjoy Free Friday Winter Nights at NoHo Plaza next to 5223 Lankershim Blvd. \nEvery Friday this December from 5-9pm. \n \n 
URL:https://nohowest.org/calendar/free-friday-winter-nights/2024-12-13/
LOCATION:NoHo Plaza\, 5223 Lankershim Blvd\, North Hollywood
CATEGORIES:Community Events
GEO:34.1656249;-118.3750601
X-APPLE-STRUCTURED-LOCATION;VALUE=URI;X-ADDRESS=NoHo Plaza 5223 Lankershim Blvd North Hollywood;X-APPLE-RADIUS=500;X-TITLE=5223 Lankershim Blvd:geo:-118.3750601,34.1656249
END:VEVENT
BEGIN:VEVENT
DTSTART;TZID=America/Los_Angeles:20241206T170000
DTEND;TZID=America/Los_Angeles:20241206T210000
DTSTAMP:20260424T120621
CREATED:20241204T222217Z
LAST-MODIFIED:20241210T175939Z
UID:19107-1733504400-1733518800@nohowest.org
SUMMARY:Free Friday Winter Nights
DESCRIPTION:Enjoy Free Friday Winter Nights at NoHo Plaza next to 5223 Lankershim Blvd. \nEvery Friday this December from 5-9pm. \n \n 
URL:https://nohowest.org/calendar/free-friday-winter-nights/2024-12-06/
LOCATION:NoHo Plaza\, 5223 Lankershim Blvd\, North Hollywood
CATEGORIES:Community Events
GEO:34.1656249;-118.3750601
X-APPLE-STRUCTURED-LOCATION;VALUE=URI;X-ADDRESS=NoHo Plaza 5223 Lankershim Blvd North Hollywood;X-APPLE-RADIUS=500;X-TITLE=5223 Lankershim Blvd:geo:-118.3750601,34.1656249
END:VEVENT
BEGIN:VEVENT
DTSTART;TZID=America/Los_Angeles:20170805T180000
DTEND;TZID=America/Los_Angeles:20170805T210000
DTSTAMP:20260424T120621
CREATED:20170803T210536Z
LAST-MODIFIED:20170803T210536Z
UID:6627-1501956000-1501966800@nohowest.org
SUMMARY:LACMA Summer Nights at NoHo Plaza
DESCRIPTION:Summer Nights at NoHo Plaza (People St.) \nSaturdays\, August 5\, 12\, 19\, 26 | 6–9 pm \nDuring the month of August\, the Los Angeles County Museum of Art (LACMA) will be in the NoHo Arts District on Saturday nights from 6–9 pm! Stop by NoHo Plaza for art projects connected with LACMA’s collection and exhibitions and enjoy a live DJ set. \nNorth Hollywood | NoHo Plaza (People St.)\nFree\, no reservations required\nNote: This program takes place off-site at NoHo Plaza (People St.) between 5223–5225 Lankershim Blvd.\, North Hollywood\, CA 91601 from 6–9 pm. \nMore
URL:https://nohowest.org/calendar/lacma-summer-nights-at-noho-plaza/2017-08-05/
LOCATION:NoHo Plaza\, 5223 Lankershim Blvd\, North Hollywood
CATEGORIES:Community Events
GEO:34.1656249;-118.3750601
X-APPLE-STRUCTURED-LOCATION;VALUE=URI;X-ADDRESS=NoHo Plaza 5223 Lankershim Blvd North Hollywood;X-APPLE-RADIUS=500;X-TITLE=5223 Lankershim Blvd:geo:-118.3750601,34.1656249
END:VEVENT
BEGIN:VEVENT
DTSTART;TZID=America/Los_Angeles:20170629T193000
DTEND;TZID=America/Los_Angeles:20170629T210000
DTSTAMP:20260424T120621
CREATED:20170627T174517Z
LAST-MODIFIED:20170627T174517Z
UID:6545-1498764600-1498770000@nohowest.org
SUMMARY:Experience NoHo Plaza
DESCRIPTION:
URL:https://nohowest.org/calendar/experience-noho-plaza/2017-06-29/
LOCATION:NoHo Plaza\, 5223 Lankershim Blvd\, North Hollywood
CATEGORIES:Community Events
GEO:34.1656249;-118.3750601
X-APPLE-STRUCTURED-LOCATION;VALUE=URI;X-ADDRESS=NoHo Plaza 5223 Lankershim Blvd North Hollywood;X-APPLE-RADIUS=500;X-TITLE=5223 Lankershim Blvd:geo:-118.3750601,34.1656249
END:VEVENT
END:VCALENDAR