BEGIN:VCALENDAR
VERSION:2.0
PRODID:-//NoHowest.org - ECPv6.15.16//NONSGML v1.0//EN
CALSCALE:GREGORIAN
METHOD:PUBLISH
X-WR-CALNAME:NoHowest.org
X-ORIGINAL-URL:https://nohowest.org
X-WR-CALDESC:Events for NoHowest.org
REFRESH-INTERVAL;VALUE=DURATION:PT1H
X-Robots-Tag:noindex
X-PUBLISHED-TTL:PT1H
BEGIN:VTIMEZONE
TZID:America/Los_Angeles
BEGIN:DAYLIGHT
TZOFFSETFROM:-0800
TZOFFSETTO:-0700
TZNAME:PDT
DTSTART:20160313T100000
END:DAYLIGHT
BEGIN:STANDARD
TZOFFSETFROM:-0700
TZOFFSETTO:-0800
TZNAME:PST
DTSTART:20161106T090000
END:STANDARD
BEGIN:DAYLIGHT
TZOFFSETFROM:-0800
TZOFFSETTO:-0700
TZNAME:PDT
DTSTART:20170312T100000
END:DAYLIGHT
BEGIN:STANDARD
TZOFFSETFROM:-0700
TZOFFSETTO:-0800
TZNAME:PST
DTSTART:20171105T090000
END:STANDARD
BEGIN:DAYLIGHT
TZOFFSETFROM:-0800
TZOFFSETTO:-0700
TZNAME:PDT
DTSTART:20180311T100000
END:DAYLIGHT
BEGIN:STANDARD
TZOFFSETFROM:-0700
TZOFFSETTO:-0800
TZNAME:PST
DTSTART:20181104T090000
END:STANDARD
END:VTIMEZONE
BEGIN:VEVENT
DTSTART;TZID=America/Los_Angeles:20170520T090000
DTEND;TZID=America/Los_Angeles:20170520T143000
DTSTAMP:20260424T020024
CREATED:20170502T182718Z
LAST-MODIFIED:20170502T182718Z
UID:6355-1495270800-1495290600@nohowest.org
SUMMARY:Discover Recycling Open House - North Central
DESCRIPTION:LASAN holds six “Discover Recycling” Open Houses every year. Each of our wasteshed district yards will open to the public in a series of free Saturday events. The Open House program showcases LA Sanitation’s residential curbside collection programs with an emphasis on proper recycling practices and bulky item collection while strengthening partnerships with City residents. The Open House will feature trash trucks and equipment demonstrations in addition to facility tours\, and information.
URL:https://nohowest.org/calendar/discover-recycling-open-house-north-central/
LOCATION:North Central District Yard\, 452 North San Fernando Road\, Los Angeles
CATEGORIES:Community Events
GEO:34.0792701;-118.2239851
X-APPLE-STRUCTURED-LOCATION;VALUE=URI;X-ADDRESS=North Central District Yard 452 North San Fernando Road Los Angeles;X-APPLE-RADIUS=500;X-TITLE=452 North San Fernando Road:geo:-118.2239851,34.0792701
END:VEVENT
END:VCALENDAR