BEGIN:VCALENDAR
VERSION:2.0
PRODID:-//NoHowest.org - ECPv6.15.16//NONSGML v1.0//EN
CALSCALE:GREGORIAN
METHOD:PUBLISH
X-WR-CALNAME:NoHowest.org
X-ORIGINAL-URL:https://nohowest.org
X-WR-CALDESC:Events for NoHowest.org
REFRESH-INTERVAL;VALUE=DURATION:PT1H
X-Robots-Tag:noindex
X-PUBLISHED-TTL:PT1H
BEGIN:VTIMEZONE
TZID:America/Los_Angeles
BEGIN:DAYLIGHT
TZOFFSETFROM:-0800
TZOFFSETTO:-0700
TZNAME:PDT
DTSTART:20160313T100000
END:DAYLIGHT
BEGIN:STANDARD
TZOFFSETFROM:-0700
TZOFFSETTO:-0800
TZNAME:PST
DTSTART:20161106T090000
END:STANDARD
BEGIN:DAYLIGHT
TZOFFSETFROM:-0800
TZOFFSETTO:-0700
TZNAME:PDT
DTSTART:20170312T100000
END:DAYLIGHT
BEGIN:STANDARD
TZOFFSETFROM:-0700
TZOFFSETTO:-0800
TZNAME:PST
DTSTART:20171105T090000
END:STANDARD
BEGIN:DAYLIGHT
TZOFFSETFROM:-0800
TZOFFSETTO:-0700
TZNAME:PDT
DTSTART:20180311T100000
END:DAYLIGHT
BEGIN:STANDARD
TZOFFSETFROM:-0700
TZOFFSETTO:-0800
TZNAME:PST
DTSTART:20181104T090000
END:STANDARD
BEGIN:DAYLIGHT
TZOFFSETFROM:-0800
TZOFFSETTO:-0700
TZNAME:PDT
DTSTART:20190310T100000
END:DAYLIGHT
BEGIN:STANDARD
TZOFFSETFROM:-0700
TZOFFSETTO:-0800
TZNAME:PST
DTSTART:20191103T090000
END:STANDARD
BEGIN:DAYLIGHT
TZOFFSETFROM:-0800
TZOFFSETTO:-0700
TZNAME:PDT
DTSTART:20200308T100000
END:DAYLIGHT
BEGIN:STANDARD
TZOFFSETFROM:-0700
TZOFFSETTO:-0800
TZNAME:PST
DTSTART:20201101T090000
END:STANDARD
BEGIN:DAYLIGHT
TZOFFSETFROM:-0800
TZOFFSETTO:-0700
TZNAME:PDT
DTSTART:20210314T100000
END:DAYLIGHT
BEGIN:STANDARD
TZOFFSETFROM:-0700
TZOFFSETTO:-0800
TZNAME:PST
DTSTART:20211107T090000
END:STANDARD
END:VTIMEZONE
BEGIN:VEVENT
DTSTART;TZID=America/Los_Angeles:20200224T160000
DTEND;TZID=America/Los_Angeles:20200224T190000
DTSTAMP:20260423T212628
CREATED:20200123T210031Z
LAST-MODIFIED:20200123T210031Z
UID:9031-1582560000-1582570800@nohowest.org
SUMMARY:Southeast Valley Community Plan Office Hours
DESCRIPTION:The Southeast Valley Community Plans team has continued gathering feedback and synthesizing what was heard since sharing initial concepts and guiding principles for the Community Plans Update in summer 2019. While there was great attendance and input\, the team is always seeking to engage more stakeholders in the Southeast Valley. \nFor this reason\, the Department will be hosting three public office hour events by appointment throughout the month of February!\nOffice Hours will be an opportunity for the public to be a part of guided conversations with LA City Planning staff regarding the proposed land use concepts and guiding principles for the Community Plan Updates. \nOffice Hour event details: \nFebruary 11\, 2020\n4:00 – 7:00 PM\nCampo De Cahuenga\, 3919 Lankershim Blvd.\, Studio City\, CA 91604 \nFebruary 18\, 2020\n4:15 – 7:15 PM\nMarvin Braude Building\, Room 1A\, 6262 Van Nuys Blvd.\, Van Nuys\, CA 91401 \nFebruary 24\, 2020\n4:00 – 7:00 PM\nNorth Hollywood Amelia Earhart Regional Library\, 5211 Tujunga Ave.\, North Hollywood\, CA 91601 \nSpace is limited\, so please sign up soon here! Your appointment will be confirmed by the Southeast Valley Team.
URL:https://nohowest.org/calendar/southeast-valley-community-plan-office-hours/
LOCATION:North Hollywood Amelia Earhart Regional Library\, 5211 Tujunga Ave\, North Hollywood\, 91601
CATEGORIES:Community Events
GEO:34.1656219;-118.3789925
X-APPLE-STRUCTURED-LOCATION;VALUE=URI;X-ADDRESS=North Hollywood Amelia Earhart Regional Library 5211 Tujunga Ave North Hollywood 91601;X-APPLE-RADIUS=500;X-TITLE=5211 Tujunga Ave:geo:-118.3789925,34.1656219
END:VEVENT
BEGIN:VEVENT
DTSTART;TZID=America/Los_Angeles:20200130T170000
DTEND;TZID=America/Los_Angeles:20200130T193000
DTSTAMP:20260423T212628
CREATED:20191220T202043Z
LAST-MODIFIED:20191220T202043Z
UID:8985-1580403600-1580412600@nohowest.org
SUMMARY:Orange Line Transit Neighborhood Plans Community Meetings
DESCRIPTION:January 22\, 5 pm to 8 pm\nMarvin Braude San Fernando Valley Constituent Service Center\n6262 Van Nuys Blvd. Room 1B\nVan Nuys\, 91401 \nJanuary 30\, 5 pm to 7:30 pm\nNorth Hollywood Regional Library\n5211 Tujunga Ave.\nNorth Hollywood\, 91601 \nLos Angeles City Planning invites you to attend a Community Open House to learn about recent progress amd the latest zoning proposals\, as well as give feedback on this important plan\, for the Orange Line station areas in Van Nuys and North Hollywood. For more information\, contact Jordan Fraade at (818) 374-9902 or email jordan.fraade@lacity.org.
URL:https://nohowest.org/calendar/orange-line-transit-neighborhood-plans-community-meetings-2/
LOCATION:North Hollywood Amelia Earhart Regional Library\, 5211 Tujunga Ave\, North Hollywood\, 91601
CATEGORIES:Community Events
GEO:34.1656219;-118.3789925
X-APPLE-STRUCTURED-LOCATION;VALUE=URI;X-ADDRESS=North Hollywood Amelia Earhart Regional Library 5211 Tujunga Ave North Hollywood 91601;X-APPLE-RADIUS=500;X-TITLE=5211 Tujunga Ave:geo:-118.3789925,34.1656219
END:VEVENT
BEGIN:VEVENT
DTSTART;TZID=America/Los_Angeles:20181022T140000
DTEND;TZID=America/Los_Angeles:20181022T153000
DTSTAMP:20260423T212628
CREATED:20181011T202607Z
LAST-MODIFIED:20181011T202607Z
UID:8064-1540216800-1540222200@nohowest.org
SUMMARY:LACMA in NoHo: Assemblage & Mixed Media
DESCRIPTION:Monday\, October 22\, 2 pm – 3:30 pm\nNoHo Branch Library\n5211 Tujunga Ave\nNorth Hollywood\, CA 91605 \nJoin LACMA for an art workshop series inspired by LACMA’s exhibitions\, Rauschenberg: In and About L.A. and Outliers and American Vanguard. Participants will learn collage and mixed-media techniques used by various artists in these exhibitions\, by layering a variety of materials including paint\, newspapers\, and fabric.
URL:https://nohowest.org/calendar/lacma-in-noho-assemblage-mixed-media/
LOCATION:North Hollywood Amelia Earhart Regional Library\, 5211 Tujunga Ave\, North Hollywood\, 91601
CATEGORIES:Community Events
GEO:34.1656219;-118.3789925
X-APPLE-STRUCTURED-LOCATION;VALUE=URI;X-ADDRESS=North Hollywood Amelia Earhart Regional Library 5211 Tujunga Ave North Hollywood 91601;X-APPLE-RADIUS=500;X-TITLE=5211 Tujunga Ave:geo:-118.3789925,34.1656219
END:VEVENT
BEGIN:VEVENT
DTSTART;TZID=America/Los_Angeles:20181015T173000
DTEND;TZID=America/Los_Angeles:20181015T193000
DTSTAMP:20260423T212628
CREATED:20181004T205350Z
LAST-MODIFIED:20181004T205502Z
UID:8056-1539624600-1539631800@nohowest.org
SUMMARY:Community Plan Open House
DESCRIPTION:The Community Plan Update affects our community between Sherman Way/ the train tracks and Vanowen. \n \n 
URL:https://nohowest.org/calendar/community-plan-open-house/
LOCATION:North Hollywood Amelia Earhart Regional Library\, 5211 Tujunga Ave\, North Hollywood\, 91601
CATEGORIES:Community Events
GEO:34.1656219;-118.3789925
X-APPLE-STRUCTURED-LOCATION;VALUE=URI;X-ADDRESS=North Hollywood Amelia Earhart Regional Library 5211 Tujunga Ave North Hollywood 91601;X-APPLE-RADIUS=500;X-TITLE=5211 Tujunga Ave:geo:-118.3789925,34.1656219
END:VEVENT
BEGIN:VEVENT
DTSTART;TZID=America/Los_Angeles:20180822T100000
DTEND;TZID=America/Los_Angeles:20180822T130000
DTSTAMP:20260423T212628
CREATED:20180816T180326Z
LAST-MODIFIED:20180816T181941Z
UID:7921-1534932000-1534942800@nohowest.org
SUMMARY:Healthy Choices Resources Program
DESCRIPTION:Wednesday\, August 22\, 10 am – 1 pm and\nWednesday\, September 26\, 10 am – 1pm\nNorth Hollywood Regional Branch\n5211 Tujunga Avenue\nNorth Hollywood\, CA 91601 \nThe Los Angeles Public Library is hosting the Healthy Choices program at library branches throughout the city of Los Angeles to help people find out if they qualify for CalFresh and/or Medi-Cal benefits. LA County Department of Public Social Services staff will be available onsite to accept and process CalFresh and/or Medi-Cal applications.
URL:https://nohowest.org/calendar/healthy-choices-resources-program/2018-08-22/
LOCATION:North Hollywood Amelia Earhart Regional Library\, 5211 Tujunga Ave\, North Hollywood\, 91601
CATEGORIES:Community Events
GEO:34.1656219;-118.3789925
X-APPLE-STRUCTURED-LOCATION;VALUE=URI;X-ADDRESS=North Hollywood Amelia Earhart Regional Library 5211 Tujunga Ave North Hollywood 91601;X-APPLE-RADIUS=500;X-TITLE=5211 Tujunga Ave:geo:-118.3789925,34.1656219
END:VEVENT
BEGIN:VEVENT
DTSTART;TZID=America/Los_Angeles:20180531T180000
DTEND;TZID=America/Los_Angeles:20180531T200000
DTSTAMP:20260423T212628
CREATED:20180526T210010Z
LAST-MODIFIED:20180526T210011Z
UID:7709-1527789600-1527796800@nohowest.org
SUMMARY:Local Park Funding Meeting
DESCRIPTION:
URL:https://nohowest.org/calendar/local-park-funding-meeting/
LOCATION:North Hollywood Amelia Earhart Regional Library\, 5211 Tujunga Ave\, North Hollywood\, 91601
CATEGORIES:Community Events
GEO:34.1656219;-118.3789925
X-APPLE-STRUCTURED-LOCATION;VALUE=URI;X-ADDRESS=North Hollywood Amelia Earhart Regional Library 5211 Tujunga Ave North Hollywood 91601;X-APPLE-RADIUS=500;X-TITLE=5211 Tujunga Ave:geo:-118.3789925,34.1656219
END:VEVENT
BEGIN:VEVENT
DTSTART;TZID=America/Los_Angeles:20180527T140000
DTEND;TZID=America/Los_Angeles:20180527T153000
DTSTAMP:20260423T212628
CREATED:20180523T221852Z
LAST-MODIFIED:20180523T221852Z
UID:7697-1527429600-1527435000@nohowest.org
SUMMARY:North Hollywood Historic Walking Tour
DESCRIPTION:Sunday\, May 27\, 2 pm – 3:30 pm\nMeet at Amelia Earhart Statue\n5211 Tujunga Ave.\nNorth Hollywood\, CA 91601 \nJoin the Museum of the San Fernando Valley on a one mile loop walking tour in North Hollywood and learn about real cowboys\, pioneer families\, movie television and recording stars\, the Spanish conquest\, Mexican ranchos\, great steam trains\, vast ranches and orchards\, land barons\, wars\, architecture and much more! Tickets are $10. Click here for more information.
URL:https://nohowest.org/calendar/north-hollywood-historic-walking-tour/
LOCATION:North Hollywood Amelia Earhart Regional Library\, 5211 Tujunga Ave\, North Hollywood\, 91601
CATEGORIES:Community Events
GEO:34.1656219;-118.3789925
X-APPLE-STRUCTURED-LOCATION;VALUE=URI;X-ADDRESS=North Hollywood Amelia Earhart Regional Library 5211 Tujunga Ave North Hollywood 91601;X-APPLE-RADIUS=500;X-TITLE=5211 Tujunga Ave:geo:-118.3789925,34.1656219
END:VEVENT
BEGIN:VEVENT
DTSTART;TZID=America/Los_Angeles:20180416T150000
DTEND;TZID=America/Los_Angeles:20180416T190000
DTSTAMP:20260423T212628
CREATED:20180320T214552Z
LAST-MODIFIED:20180320T214552Z
UID:7514-1523890800-1523905200@nohowest.org
SUMMARY:Launch of LA Plays
DESCRIPTION:North Hollywood Library is celebrating the launch of a special new kids item for loan called LA Plays. These are backpack kits that are designed to encourage creative\, imaginative play\, and verbal interaction. One of the five simple activities parents can do to help get their children to read is playing – and since libraries are all about getting kids to read\, we’re now also featuring these kits to get kids to play! Each play kit comes in a kid sized backpack with a toy\, a book\, and a bilingual English/Spanish list of suggested activities for parents and children to do together. This has been rolled out at a few other branches and is quite popular! \nTo celebrate the launch we are planning an afternoon of educational and fun activities for families. The launch date is Monday April 16th from about 3pm-7pm. We would be delighted if you and members of your community would be able to come out and join us.
URL:https://nohowest.org/calendar/launch-of-la-plays/
LOCATION:North Hollywood Amelia Earhart Regional Library\, 5211 Tujunga Ave\, North Hollywood\, 91601
CATEGORIES:Community Events
GEO:34.1656219;-118.3789925
X-APPLE-STRUCTURED-LOCATION;VALUE=URI;X-ADDRESS=North Hollywood Amelia Earhart Regional Library 5211 Tujunga Ave North Hollywood 91601;X-APPLE-RADIUS=500;X-TITLE=5211 Tujunga Ave:geo:-118.3789925,34.1656219
END:VEVENT
BEGIN:VEVENT
DTSTART;TZID=America/Los_Angeles:20170626T140000
DTEND;TZID=America/Los_Angeles:20170626T150000
DTSTAMP:20260423T212628
CREATED:20170614T175602Z
LAST-MODIFIED:20170614T175602Z
UID:6491-1498485600-1498489200@nohowest.org
SUMMARY:LACMA Art Class at the Library: Vision and Transcendence: Mask Making
DESCRIPTION:June 26\, 2 pm – 3 pm\nNorth Hollywood Region Library\n5211 Tujunga Ave.\nNorth Hollywood\, CA 91601 \nJoin the Los Angeles County Museum of Art for free art workshops for adults at the North Hollywood Library. The exhibition “The Inner Eye: Vision and Transcendence in African Arts” looks at various examples of African masks and how they possess different characteristics and functions. The class will look at the eyes and gazes in masks and consider their function. Participants will make their own mask with air-dry clay and will add features\, patterns and textures to enhance the mask’s character and identity.
URL:https://nohowest.org/calendar/lacma-art-class-at-the-library-vision-and-transcendence-mask-making/
LOCATION:North Hollywood Amelia Earhart Regional Library\, 5211 Tujunga Ave\, North Hollywood\, 91601
CATEGORIES:Community Events
GEO:34.1656219;-118.3789925
X-APPLE-STRUCTURED-LOCATION;VALUE=URI;X-ADDRESS=North Hollywood Amelia Earhart Regional Library 5211 Tujunga Ave North Hollywood 91601;X-APPLE-RADIUS=500;X-TITLE=5211 Tujunga Ave:geo:-118.3789925,34.1656219
END:VEVENT
BEGIN:VEVENT
DTSTART;TZID=America/Los_Angeles:20170617T100000
DTEND;TZID=America/Los_Angeles:20170617T120000
DTSTAMP:20260423T212628
CREATED:20170614T180056Z
LAST-MODIFIED:20170614T180056Z
UID:6494-1497693600-1497700800@nohowest.org
SUMMARY:Big Read: Words on Tour
DESCRIPTION:The Museum of the San Fernando Valley is hosting a unique poetry walking tour and workshop through the heart of the North Hollywood Arts District. Join the tour as local poets perform original pieces at historic locations including St. Paul’s First Lutheran School\, Los Angeles Fire Dept. Station 60\, and the Lankershim Train Depot and others\, guided by PE and in collaboration with the LA Poet Society. The event is free and fun for the whole family. For more information\, visit www.eventbrite.com/e/words-on-tour-in-noho-workshop-walking-tour-tickets-34924311556.
URL:https://nohowest.org/calendar/big-read-words-on-tour/
LOCATION:North Hollywood Amelia Earhart Regional Library\, 5211 Tujunga Ave\, North Hollywood\, 91601
CATEGORIES:Community Events
GEO:34.1656219;-118.3789925
X-APPLE-STRUCTURED-LOCATION;VALUE=URI;X-ADDRESS=North Hollywood Amelia Earhart Regional Library 5211 Tujunga Ave North Hollywood 91601;X-APPLE-RADIUS=500;X-TITLE=5211 Tujunga Ave:geo:-118.3789925,34.1656219
END:VEVENT
BEGIN:VEVENT
DTSTART;TZID=America/Los_Angeles:20170604T101500
DTEND;TZID=America/Los_Angeles:20170604T163000
DTSTAMP:20260423T212628
CREATED:20170524T212910Z
LAST-MODIFIED:20170524T212910Z
UID:6443-1496571300-1496593800@nohowest.org
SUMMARY:Free Trip to LA County Art Museum
DESCRIPTION:
URL:https://nohowest.org/calendar/free-trip-to-la-county-art-museum/
LOCATION:North Hollywood Amelia Earhart Regional Library\, 5211 Tujunga Ave\, North Hollywood\, 91601
CATEGORIES:Community Events
GEO:34.1656219;-118.3789925
X-APPLE-STRUCTURED-LOCATION;VALUE=URI;X-ADDRESS=North Hollywood Amelia Earhart Regional Library 5211 Tujunga Ave North Hollywood 91601;X-APPLE-RADIUS=500;X-TITLE=5211 Tujunga Ave:geo:-118.3789925,34.1656219
END:VEVENT
BEGIN:VEVENT
DTSTART;TZID=America/Los_Angeles:20170320T140000
DTEND;TZID=America/Los_Angeles:20170320T160000
DTSTAMP:20260423T212628
CREATED:20170105T230057Z
LAST-MODIFIED:20170105T230057Z
UID:6023-1490018400-1490025600@nohowest.org
SUMMARY:LACMA Art Workshops in NoHo
DESCRIPTION:
URL:https://nohowest.org/calendar/lacma-art-workshops-in-noho-6/
LOCATION:North Hollywood Amelia Earhart Regional Library\, 5211 Tujunga Ave\, North Hollywood\, 91601
CATEGORIES:Community Events
GEO:34.1656219;-118.3789925
X-APPLE-STRUCTURED-LOCATION;VALUE=URI;X-ADDRESS=North Hollywood Amelia Earhart Regional Library 5211 Tujunga Ave North Hollywood 91601;X-APPLE-RADIUS=500;X-TITLE=5211 Tujunga Ave:geo:-118.3789925,34.1656219
END:VEVENT
BEGIN:VEVENT
DTSTART;TZID=America/Los_Angeles:20170319T140000
DTEND;TZID=America/Los_Angeles:20170319T160000
DTSTAMP:20260423T212628
CREATED:20170307T185508Z
LAST-MODIFIED:20170307T185508Z
UID:6188-1489932000-1489939200@nohowest.org
SUMMARY:LAPL Women’s Heritage Month Film Screening
DESCRIPTION:
URL:https://nohowest.org/calendar/lapl-womens-heritage-month-film-screening/
LOCATION:North Hollywood Amelia Earhart Regional Library\, 5211 Tujunga Ave\, North Hollywood\, 91601
CATEGORIES:Community Events
GEO:34.1656219;-118.3789925
X-APPLE-STRUCTURED-LOCATION;VALUE=URI;X-ADDRESS=North Hollywood Amelia Earhart Regional Library 5211 Tujunga Ave North Hollywood 91601;X-APPLE-RADIUS=500;X-TITLE=5211 Tujunga Ave:geo:-118.3789925,34.1656219
END:VEVENT
BEGIN:VEVENT
DTSTART;TZID=America/Los_Angeles:20170227T140000
DTEND;TZID=America/Los_Angeles:20170227T160000
DTSTAMP:20260423T212628
CREATED:20170105T230008Z
LAST-MODIFIED:20170105T230008Z
UID:6021-1488204000-1488211200@nohowest.org
SUMMARY:LACMA Art Workshops in NoHo
DESCRIPTION:
URL:https://nohowest.org/calendar/lacma-art-workshops-in-noho-5/
LOCATION:North Hollywood Amelia Earhart Regional Library\, 5211 Tujunga Ave\, North Hollywood\, 91601
CATEGORIES:Community Events
GEO:34.1656219;-118.3789925
X-APPLE-STRUCTURED-LOCATION;VALUE=URI;X-ADDRESS=North Hollywood Amelia Earhart Regional Library 5211 Tujunga Ave North Hollywood 91601;X-APPLE-RADIUS=500;X-TITLE=5211 Tujunga Ave:geo:-118.3789925,34.1656219
END:VEVENT
BEGIN:VEVENT
DTSTART;TZID=America/Los_Angeles:20170125T060000
DTEND;TZID=America/Los_Angeles:20170125T190000
DTSTAMP:20260423T212628
CREATED:20161223T043946Z
LAST-MODIFIED:20161223T043946Z
UID:5965-1485324000-1485370800@nohowest.org
SUMMARY:Financial Planning for After-Holiday Stress Workshop
DESCRIPTION:On behalf of Controller Ron Galperin\, you are invited to the Financial Planning for After-Holiday Stress workshop on January 25\, 2017 from 6:00 p.m. – 7:00 p.m. at the North Hollywood Amelia Earhart Regional Library. \nEvent: Controller Galperin’s Financial Planning for After-Holiday Stress workshop\nLocation: North Hollywood Amelia Earhart Regional Library – 5211 Tujunga Ave.\, North Hollywood\, CA 91601\nDate: January 25\, 2017\nTime: 6:00 p.m. – 7:00 p.m.
URL:https://nohowest.org/calendar/financial-planning-for-after-holiday-stress-workshop/
LOCATION:North Hollywood Amelia Earhart Regional Library\, 5211 Tujunga Ave\, North Hollywood\, 91601
CATEGORIES:Community Events
GEO:34.1656219;-118.3789925
X-APPLE-STRUCTURED-LOCATION;VALUE=URI;X-ADDRESS=North Hollywood Amelia Earhart Regional Library 5211 Tujunga Ave North Hollywood 91601;X-APPLE-RADIUS=500;X-TITLE=5211 Tujunga Ave:geo:-118.3789925,34.1656219
END:VEVENT
BEGIN:VEVENT
DTSTART;TZID=America/Los_Angeles:20170123T140000
DTEND;TZID=America/Los_Angeles:20170123T160000
DTSTAMP:20260423T212628
CREATED:20170105T223327Z
LAST-MODIFIED:20170105T223328Z
UID:6014-1485180000-1485187200@nohowest.org
SUMMARY:LACMA Art Workshops in NoHo
DESCRIPTION:
URL:https://nohowest.org/calendar/lacma-art-workshops-in-noho-2/
LOCATION:North Hollywood Amelia Earhart Regional Library\, 5211 Tujunga Ave\, North Hollywood\, 91601
CATEGORIES:Community Events
GEO:34.1656219;-118.3789925
X-APPLE-STRUCTURED-LOCATION;VALUE=URI;X-ADDRESS=North Hollywood Amelia Earhart Regional Library 5211 Tujunga Ave North Hollywood 91601;X-APPLE-RADIUS=500;X-TITLE=5211 Tujunga Ave:geo:-118.3789925,34.1656219
END:VEVENT
END:VCALENDAR