BEGIN:VCALENDAR
VERSION:2.0
PRODID:-//NoHowest.org - ECPv6.15.16//NONSGML v1.0//EN
CALSCALE:GREGORIAN
METHOD:PUBLISH
X-ORIGINAL-URL:https://nohowest.org
X-WR-CALDESC:Events for NoHowest.org
REFRESH-INTERVAL;VALUE=DURATION:PT1H
X-Robots-Tag:noindex
X-PUBLISHED-TTL:PT1H
BEGIN:VTIMEZONE
TZID:America/Los_Angeles
BEGIN:DAYLIGHT
TZOFFSETFROM:-0800
TZOFFSETTO:-0700
TZNAME:PDT
DTSTART:20160313T100000
END:DAYLIGHT
BEGIN:STANDARD
TZOFFSETFROM:-0700
TZOFFSETTO:-0800
TZNAME:PST
DTSTART:20161106T090000
END:STANDARD
BEGIN:DAYLIGHT
TZOFFSETFROM:-0800
TZOFFSETTO:-0700
TZNAME:PDT
DTSTART:20170312T100000
END:DAYLIGHT
BEGIN:STANDARD
TZOFFSETFROM:-0700
TZOFFSETTO:-0800
TZNAME:PST
DTSTART:20171105T090000
END:STANDARD
BEGIN:DAYLIGHT
TZOFFSETFROM:-0800
TZOFFSETTO:-0700
TZNAME:PDT
DTSTART:20180311T100000
END:DAYLIGHT
BEGIN:STANDARD
TZOFFSETFROM:-0700
TZOFFSETTO:-0800
TZNAME:PST
DTSTART:20181104T090000
END:STANDARD
END:VTIMEZONE
BEGIN:VEVENT
DTSTART;TZID=America/Los_Angeles:20170217T100000
DTEND;TZID=America/Los_Angeles:20170217T110000
DTSTAMP:20260424T065543
CREATED:20170213T185208Z
LAST-MODIFIED:20170213T185208Z
UID:6121-1487325600-1487329200@nohowest.org
SUMMARY:Groundwork Coffee Grand Opening at the Historic NoHo Train Depot
DESCRIPTION:NORTH HOLLYWOOD – On Friday\, Feb. 17\, join Councilmember Krekorian\, LA Metro and community members for the grand opening of Groundwork Coffee at the historic North Hollywood Train Depot. \nNorth Hollywood Historic Train Depot\nGroundwork Coffee Grand Opening\nFriday\, Feb. 17 at 10 a.m.\n11275 Chandler Blvd.\nNorth Hollywood \nIn 2014\, Metro completed a $3.6 million restoration of the 120-year-old train depot which was built in 1896. Come out to celebrate the reopening of this neighborhood gem!
URL:https://nohowest.org/calendar/groundwork-coffee-grand-opening-at-the-historic-noho-train-depot/
LOCATION:North Hollywood Historic Train Depot\, 11275 Chandler Blvd. \, North Hollywood
CATEGORIES:Community Events
GEO:34.168342;-118.3776299
X-APPLE-STRUCTURED-LOCATION;VALUE=URI;X-ADDRESS=North Hollywood Historic Train Depot 11275 Chandler Blvd.  North Hollywood;X-APPLE-RADIUS=500;X-TITLE=11275 Chandler Blvd.:geo:-118.3776299,34.168342
END:VEVENT
END:VCALENDAR