BEGIN:VCALENDAR
VERSION:2.0
PRODID:-//NoHowest.org - ECPv6.15.16//NONSGML v1.0//EN
CALSCALE:GREGORIAN
METHOD:PUBLISH
X-WR-CALNAME:NoHowest.org
X-ORIGINAL-URL:https://nohowest.org
X-WR-CALDESC:Events for NoHowest.org
REFRESH-INTERVAL;VALUE=DURATION:PT1H
X-Robots-Tag:noindex
X-PUBLISHED-TTL:PT1H
BEGIN:VTIMEZONE
TZID:America/Los_Angeles
BEGIN:DAYLIGHT
TZOFFSETFROM:-0800
TZOFFSETTO:-0700
TZNAME:PDT
DTSTART:20180311T100000
END:DAYLIGHT
BEGIN:STANDARD
TZOFFSETFROM:-0700
TZOFFSETTO:-0800
TZNAME:PST
DTSTART:20181104T090000
END:STANDARD
BEGIN:DAYLIGHT
TZOFFSETFROM:-0800
TZOFFSETTO:-0700
TZNAME:PDT
DTSTART:20190310T100000
END:DAYLIGHT
BEGIN:STANDARD
TZOFFSETFROM:-0700
TZOFFSETTO:-0800
TZNAME:PST
DTSTART:20191103T090000
END:STANDARD
BEGIN:DAYLIGHT
TZOFFSETFROM:-0800
TZOFFSETTO:-0700
TZNAME:PDT
DTSTART:20200308T100000
END:DAYLIGHT
BEGIN:STANDARD
TZOFFSETFROM:-0700
TZOFFSETTO:-0800
TZNAME:PST
DTSTART:20201101T090000
END:STANDARD
END:VTIMEZONE
BEGIN:VEVENT
DTSTART;TZID=America/Los_Angeles:20191119T170000
DTEND;TZID=America/Los_Angeles:20191119T190000
DTSTAMP:20260424T015320
CREATED:20191105T172304Z
LAST-MODIFIED:20191105T172304Z
UID:8920-1574182800-1574190000@nohowest.org
SUMMARY:BRT Community Workshop
DESCRIPTION:The North Hollywood to Pasadena Bus Rapid Transit (BRT) Corridor Project\nJoin us at BRT Community Workshops \nTo continue public feedback opportunities\, Metro will host a series of Bus Rapid Transit (BRT) workshops. These workshops will allow community members to share with us how they envision what a BRT could look like in their community and what other features\, including urban design elements\, they would like to see incorporated into the project design. \nEach workshop will be tailored to address the various options being proposed within the city/community where the workshop is being held. Therefore\, please plan on joining us at the workshop where you live\, work or play and would like to share your vision. \nWorkshop: North Hollywood LA Soccer Club – 11/19/19 (5:00-7:00PM)\nAddress: 11466 Chandler Blvd.\, Los Angeles\, 91601 \nPlease register on Eventbrite
URL:https://nohowest.org/calendar/brt-community-workshop/
LOCATION:North Hollywood LA Soccer Club\, 11466 Chandler Blvd\, 91601
CATEGORIES:Community Events
GEO:34.1687;-118.3813019
X-APPLE-STRUCTURED-LOCATION;VALUE=URI;X-ADDRESS=North Hollywood LA Soccer Club 11466 Chandler Blvd 91601;X-APPLE-RADIUS=500;X-TITLE=11466 Chandler Blvd:geo:-118.3813019,34.1687
END:VEVENT
END:VCALENDAR