BEGIN:VCALENDAR
VERSION:2.0
PRODID:-//NoHowest.org - ECPv6.15.16//NONSGML v1.0//EN
CALSCALE:GREGORIAN
METHOD:PUBLISH
X-WR-CALNAME:NoHowest.org
X-ORIGINAL-URL:https://nohowest.org
X-WR-CALDESC:Events for NoHowest.org
REFRESH-INTERVAL;VALUE=DURATION:PT1H
X-Robots-Tag:noindex
X-PUBLISHED-TTL:PT1H
BEGIN:VTIMEZONE
TZID:America/Los_Angeles
BEGIN:DAYLIGHT
TZOFFSETFROM:-0800
TZOFFSETTO:-0700
TZNAME:PDT
DTSTART:20150308T100000
END:DAYLIGHT
BEGIN:STANDARD
TZOFFSETFROM:-0700
TZOFFSETTO:-0800
TZNAME:PST
DTSTART:20151101T090000
END:STANDARD
BEGIN:DAYLIGHT
TZOFFSETFROM:-0800
TZOFFSETTO:-0700
TZNAME:PDT
DTSTART:20160313T100000
END:DAYLIGHT
BEGIN:STANDARD
TZOFFSETFROM:-0700
TZOFFSETTO:-0800
TZNAME:PST
DTSTART:20161106T090000
END:STANDARD
BEGIN:DAYLIGHT
TZOFFSETFROM:-0800
TZOFFSETTO:-0700
TZNAME:PDT
DTSTART:20170312T100000
END:DAYLIGHT
BEGIN:STANDARD
TZOFFSETFROM:-0700
TZOFFSETTO:-0800
TZNAME:PST
DTSTART:20171105T090000
END:STANDARD
BEGIN:DAYLIGHT
TZOFFSETFROM:-0800
TZOFFSETTO:-0700
TZNAME:PDT
DTSTART:20180311T100000
END:DAYLIGHT
BEGIN:STANDARD
TZOFFSETFROM:-0700
TZOFFSETTO:-0800
TZNAME:PST
DTSTART:20181104T090000
END:STANDARD
BEGIN:DAYLIGHT
TZOFFSETFROM:-0800
TZOFFSETTO:-0700
TZNAME:PDT
DTSTART:20190310T100000
END:DAYLIGHT
BEGIN:STANDARD
TZOFFSETFROM:-0700
TZOFFSETTO:-0800
TZNAME:PST
DTSTART:20191103T090000
END:STANDARD
BEGIN:DAYLIGHT
TZOFFSETFROM:-0800
TZOFFSETTO:-0700
TZNAME:PDT
DTSTART:20200308T100000
END:DAYLIGHT
BEGIN:STANDARD
TZOFFSETFROM:-0700
TZOFFSETTO:-0800
TZNAME:PST
DTSTART:20201101T090000
END:STANDARD
BEGIN:DAYLIGHT
TZOFFSETFROM:-0800
TZOFFSETTO:-0700
TZNAME:PDT
DTSTART:20210314T100000
END:DAYLIGHT
BEGIN:STANDARD
TZOFFSETFROM:-0700
TZOFFSETTO:-0800
TZNAME:PST
DTSTART:20211107T090000
END:STANDARD
BEGIN:DAYLIGHT
TZOFFSETFROM:-0800
TZOFFSETTO:-0700
TZNAME:PDT
DTSTART:20220313T100000
END:DAYLIGHT
BEGIN:STANDARD
TZOFFSETFROM:-0700
TZOFFSETTO:-0800
TZNAME:PST
DTSTART:20221106T090000
END:STANDARD
BEGIN:DAYLIGHT
TZOFFSETFROM:-0800
TZOFFSETTO:-0700
TZNAME:PDT
DTSTART:20230312T100000
END:DAYLIGHT
BEGIN:STANDARD
TZOFFSETFROM:-0700
TZOFFSETTO:-0800
TZNAME:PST
DTSTART:20231105T090000
END:STANDARD
BEGIN:DAYLIGHT
TZOFFSETFROM:-0800
TZOFFSETTO:-0700
TZNAME:PDT
DTSTART:20240310T100000
END:DAYLIGHT
BEGIN:STANDARD
TZOFFSETFROM:-0700
TZOFFSETTO:-0800
TZNAME:PST
DTSTART:20241103T090000
END:STANDARD
END:VTIMEZONE
BEGIN:VEVENT
DTSTART;TZID=America/Los_Angeles:20230715T193000
DTEND;TZID=America/Los_Angeles:20230715T220000
DTSTAMP:20260424T015146
CREATED:20230629T005736Z
LAST-MODIFIED:20230629T005736Z
UID:15278-1689449400-1689458400@nohowest.org
SUMMARY:NoHo Summer Nights: Movie
DESCRIPTION:Starting at sundown\, come and enjoy a movie night in the park! \nJennifer Lopez and Edward James Olmos star in this celebration of Selena Quintanilla Perez\, a girl from South Texas with global talent\, incredible will and magnetic charm. Young. Beautiful. Enormously gifted. At 23\, Selena shone as a fresh star in a vibrantly new musical field. But just as she was poised to be the next pop-music sensation\, her life was tragically cut short.
URL:https://nohowest.org/calendar/noho-summer-nights-movie/
LOCATION:North Hollywood Park
CATEGORIES:Community Events
END:VEVENT
BEGIN:VEVENT
DTSTART;TZID=America/Los_Angeles:20230708T190000
DTEND;TZID=America/Los_Angeles:20230708T210000
DTSTAMP:20260424T015146
CREATED:20230629T005347Z
LAST-MODIFIED:20230629T005347Z
UID:15275-1688842800-1688850000@nohowest.org
SUMMARY:NoHo Summer Nights
DESCRIPTION:
URL:https://nohowest.org/calendar/noho-summer-nights-2/
LOCATION:North Hollywood Park
CATEGORIES:Community Events
END:VEVENT
BEGIN:VEVENT
DTSTART;TZID=America/Los_Angeles:20180804T190000
DTEND;TZID=America/Los_Angeles:20180804T210000
DTSTAMP:20260424T015146
CREATED:20180731T211109Z
LAST-MODIFIED:20180731T211109Z
UID:7879-1533409200-1533416400@nohowest.org
SUMMARY:Savor – Santana Tribute Band
DESCRIPTION:Savor was formed to honor the 40-year career of Latin-rock legend Carlos Santana—from the raw power of the self-titled album issued in 1969 to the recent spate of hits with current stars that makes Santana’s music so well-loved. More…
URL:https://nohowest.org/calendar/savor-santana-tribute-band/
LOCATION:North Hollywood Park
CATEGORIES:Community Events
END:VEVENT
BEGIN:VEVENT
DTSTART;TZID=America/Los_Angeles:20160625T133000
DTEND;TZID=America/Los_Angeles:20160625T150000
DTSTAMP:20260424T015146
CREATED:20160607T052315Z
LAST-MODIFIED:20160607T052315Z
UID:5574-1466861400-1466866800@nohowest.org
SUMMARY:Movies in the Park: Maleficent
DESCRIPTION:
URL:https://nohowest.org/calendar/movies-in-the-park-maleficent/
LOCATION:North Hollywood Park
CATEGORIES:General Board
END:VEVENT
END:VCALENDAR