BEGIN:VCALENDAR
VERSION:2.0
PRODID:-//NoHowest.org - ECPv6.15.16//NONSGML v1.0//EN
CALSCALE:GREGORIAN
METHOD:PUBLISH
X-WR-CALNAME:NoHowest.org
X-ORIGINAL-URL:https://nohowest.org
X-WR-CALDESC:Events for NoHowest.org
REFRESH-INTERVAL;VALUE=DURATION:PT1H
X-Robots-Tag:noindex
X-PUBLISHED-TTL:PT1H
BEGIN:VTIMEZONE
TZID:America/Los_Angeles
BEGIN:DAYLIGHT
TZOFFSETFROM:-0800
TZOFFSETTO:-0700
TZNAME:PDT
DTSTART:20140309T100000
END:DAYLIGHT
BEGIN:STANDARD
TZOFFSETFROM:-0700
TZOFFSETTO:-0800
TZNAME:PST
DTSTART:20141102T090000
END:STANDARD
BEGIN:DAYLIGHT
TZOFFSETFROM:-0800
TZOFFSETTO:-0700
TZNAME:PDT
DTSTART:20150308T100000
END:DAYLIGHT
BEGIN:STANDARD
TZOFFSETFROM:-0700
TZOFFSETTO:-0800
TZNAME:PST
DTSTART:20151101T090000
END:STANDARD
BEGIN:DAYLIGHT
TZOFFSETFROM:-0800
TZOFFSETTO:-0700
TZNAME:PDT
DTSTART:20160313T100000
END:DAYLIGHT
BEGIN:STANDARD
TZOFFSETFROM:-0700
TZOFFSETTO:-0800
TZNAME:PST
DTSTART:20161106T090000
END:STANDARD
BEGIN:DAYLIGHT
TZOFFSETFROM:-0800
TZOFFSETTO:-0700
TZNAME:PDT
DTSTART:20170312T100000
END:DAYLIGHT
BEGIN:STANDARD
TZOFFSETFROM:-0700
TZOFFSETTO:-0800
TZNAME:PST
DTSTART:20171105T090000
END:STANDARD
BEGIN:DAYLIGHT
TZOFFSETFROM:-0800
TZOFFSETTO:-0700
TZNAME:PDT
DTSTART:20180311T100000
END:DAYLIGHT
BEGIN:STANDARD
TZOFFSETFROM:-0700
TZOFFSETTO:-0800
TZNAME:PST
DTSTART:20181104T090000
END:STANDARD
BEGIN:DAYLIGHT
TZOFFSETFROM:-0800
TZOFFSETTO:-0700
TZNAME:PDT
DTSTART:20190310T100000
END:DAYLIGHT
BEGIN:STANDARD
TZOFFSETFROM:-0700
TZOFFSETTO:-0800
TZNAME:PST
DTSTART:20191103T090000
END:STANDARD
BEGIN:DAYLIGHT
TZOFFSETFROM:-0800
TZOFFSETTO:-0700
TZNAME:PDT
DTSTART:20200308T100000
END:DAYLIGHT
BEGIN:STANDARD
TZOFFSETFROM:-0700
TZOFFSETTO:-0800
TZNAME:PST
DTSTART:20201101T090000
END:STANDARD
BEGIN:DAYLIGHT
TZOFFSETFROM:-0800
TZOFFSETTO:-0700
TZNAME:PDT
DTSTART:20210314T100000
END:DAYLIGHT
BEGIN:STANDARD
TZOFFSETFROM:-0700
TZOFFSETTO:-0800
TZNAME:PST
DTSTART:20211107T090000
END:STANDARD
BEGIN:DAYLIGHT
TZOFFSETFROM:-0800
TZOFFSETTO:-0700
TZNAME:PDT
DTSTART:20220313T100000
END:DAYLIGHT
BEGIN:STANDARD
TZOFFSETFROM:-0700
TZOFFSETTO:-0800
TZNAME:PST
DTSTART:20221106T090000
END:STANDARD
BEGIN:DAYLIGHT
TZOFFSETFROM:-0800
TZOFFSETTO:-0700
TZNAME:PDT
DTSTART:20230312T100000
END:DAYLIGHT
BEGIN:STANDARD
TZOFFSETFROM:-0700
TZOFFSETTO:-0800
TZNAME:PST
DTSTART:20231105T090000
END:STANDARD
BEGIN:DAYLIGHT
TZOFFSETFROM:-0800
TZOFFSETTO:-0700
TZNAME:PDT
DTSTART:20240310T100000
END:DAYLIGHT
BEGIN:STANDARD
TZOFFSETFROM:-0700
TZOFFSETTO:-0800
TZNAME:PST
DTSTART:20241103T090000
END:STANDARD
END:VTIMEZONE
BEGIN:VEVENT
DTSTART;TZID=America/Los_Angeles:20230729T193000
DTEND;TZID=America/Los_Angeles:20230729T220000
DTSTAMP:20260424T050900
CREATED:20230629T012819Z
LAST-MODIFIED:20230629T012819Z
UID:15302-1690659000-1690668000@nohowest.org
SUMMARY:NoHo Summer Nights Movie
DESCRIPTION:Starting at sundown\, come and enjoy a movie night in the park! \nA thoroughly cinematic drama\, Elvis’s (Austin Butler) story is seen through the prism of his complicated relationship with his enigmatic manager\, Colonel Tom Parker (Tom Hanks). As told by Parker\, the film delves into the complex dynamic between the two spanning over 20 years\, from Presley’s rise to fame to his unprecedented stardom\, against the backdrop of the evolving cultural landscape and loss of innocence in America. Central to that journey is one of the significant and influential people in Elvis’s life\, Priscilla Presley (Olivia DeJonge). \nRating: PG-13\n2022\nRun Time: 2 hr 39 min \n\nGET TICKETS
URL:https://nohowest.org/calendar/noho-summer-nights-movie-5/
LOCATION:North Hollywood Park
CATEGORIES:Community Events
GEO:34.1649059;-118.3789878
END:VEVENT
BEGIN:VEVENT
DTSTART;TZID=America/Los_Angeles:20230722T190000
DTEND;TZID=America/Los_Angeles:20230722T213000
DTSTAMP:20260424T050900
CREATED:20230629T010003Z
LAST-MODIFIED:20230629T010003Z
UID:15281-1690052400-1690061400@nohowest.org
SUMMARY:NoHo Summer Nights Concert
DESCRIPTION:The Amor Prohibido band has been performing together since 2014. They have been hailed by fans and critics alike as one of the best Selena tributes. Amor Prohibido has sold out more shows than any other tribute band. Nira Perez is an absolute dead-ringer for Selena\, both visually and vocally. She continues to stun fans with her resemblance\, exact mannerisms and identical voice to Selena. Fans agree that Amor Prohibido delivers the closest experience to the original Selena lineup. Amor Prohibido takes you back to the ’90s era when the timeless music of Selena ruled the airwaves. The talent and accuracy of these seven musicians together have bought the meaning of tribute to a whole new level. See it to believe it!
URL:https://nohowest.org/calendar/noho-summer-nights-concert/
LOCATION:North Hollywood Park
CATEGORIES:Community Events
GEO:34.1649059;-118.3789878
END:VEVENT
BEGIN:VEVENT
DTSTART;TZID=America/Los_Angeles:20190928T100000
DTEND;TZID=America/Los_Angeles:20190928T160000
DTSTAMP:20260424T050900
CREATED:20190921T010949Z
LAST-MODIFIED:20190921T011006Z
UID:8815-1569664800-1569686400@nohowest.org
SUMMARY:Mock Election
DESCRIPTION:Voting in L.A. County will soon change\, and we want you to know about it. \nOur office is partnering with 50 locations across the County and inviting everyone to experience the new voting system\, Voting Solutions for All People. \nWe’re keeping this light and fun\, no real contests from past or future elections. But you will vote on things like your favorite sports team\, park or music venue! \nCelebs\, Prize Giveaways and Much More\nSelect locations will have live DJs\, surprise celebrities\, food trucks and chances to win L.A. experiences such as: tickets to professional sports games\, amusement parks\, celebrity meet and greets and a whole lot more!
URL:https://nohowest.org/calendar/mock-election/2019-09-28/
LOCATION:North Hollywood Park
CATEGORIES:Community Events
GEO:34.1649059;-118.3789878
END:VEVENT
BEGIN:VEVENT
DTSTART;TZID=America/Los_Angeles:20180620T093000
DTEND;TZID=America/Los_Angeles:20180620T113000
DTSTAMP:20260424T050900
CREATED:20180619T024052Z
LAST-MODIFIED:20180619T024052Z
UID:7761-1529487000-1529494200@nohowest.org
SUMMARY:Board of Recreation and Parks Commissioners Meeting in North Hollywood
DESCRIPTION:Wednesday\, June 20\, 9:30 am\nNorth Hollywood Recreation Center Gymnasium\n11430 Chandler Blvd.\nNorth Hollywood\, CA 91601 \nThe Board of Recreation and Park Commissioners is holding a meeting in North Hollywood to discuss current issues with our local parks.
URL:https://nohowest.org/calendar/board-of-recreation-and-parks-commissioners-meeting-in-north-hollywood/
LOCATION:North Hollywood Park
CATEGORIES:Community Events
GEO:34.1649059;-118.3789878
END:VEVENT
BEGIN:VEVENT
DTSTART;TZID=America/Los_Angeles:20171028T150000
DTEND;TZID=America/Los_Angeles:20171028T190000
DTSTAMP:20260424T050900
CREATED:20171010T214610Z
LAST-MODIFIED:20171010T214610Z
UID:6810-1509202800-1509217200@nohowest.org
SUMMARY:Halloween at North Hollywood Park
DESCRIPTION:
URL:https://nohowest.org/calendar/halloween-at-north-hollywood-park/
LOCATION:North Hollywood Park
CATEGORIES:Community Events
GEO:34.1649059;-118.3789878
END:VEVENT
BEGIN:VEVENT
DTSTART;TZID=America/Los_Angeles:20171008T090000
DTEND;TZID=America/Los_Angeles:20171008T140000
DTSTAMP:20260424T050900
CREATED:20170918T230350Z
LAST-MODIFIED:20170929T165222Z
UID:6748-1507453200-1507471200@nohowest.org
SUMMARY:Take on the Streets – 2K and Family Festival
DESCRIPTION:Join The Village Family Services for a 2K walk/run and Family Festival to raise awareness about youth homelessness. The event will provide a fun\, low-cost activity for families\, and the funds raised will direct children and youth toward community service and engagement. For more information\, visit www.TakeOnTheStreets.com.
URL:https://nohowest.org/calendar/take-on-the-streets-2k-and-family-festival/
LOCATION:North Hollywood Park
CATEGORIES:Community Events
GEO:34.1649059;-118.3789878
END:VEVENT
BEGIN:VEVENT
DTSTART;TZID=America/Los_Angeles:20170805T200000
DTEND;TZID=America/Los_Angeles:20170805T220000
DTSTAMP:20260424T050900
CREATED:20170728T055012Z
LAST-MODIFIED:20170728T055012Z
UID:6606-1501963200-1501970400@nohowest.org
SUMMARY:NoHo Summer Nights: Movies
DESCRIPTION:Movies begin at dusk\, approximately 8PM. \nVCC in conjunction with the Department of Cultural Affairs and Council District 2 presents NoHo Summer Nights\, a 10-week Concert and Movie series. \nNoHo Summer Nights runs on Saturday nights at North Hollywood Park\, at the corner of Magnolia and Tujunga. Enjoy live music and movie screenings while LA’s most popular food trucks serve up a great selection of food\, and experience the arts at one of the many interactive booths displaying local art. \nAdmission is free. Community Parking is available at the recreation center parking lots\, areas surrounding the park and the North Hollywood metro station.
URL:https://nohowest.org/calendar/noho-summer-nights-movies/2017-08-05/
LOCATION:North Hollywood Park
CATEGORIES:Community Events
GEO:34.1649059;-118.3789878
END:VEVENT
BEGIN:VEVENT
DTSTART;TZID=America/Los_Angeles:20170701T183000
DTEND;TZID=America/Los_Angeles:20170701T213000
DTSTAMP:20260424T050900
CREATED:20170627T173526Z
LAST-MODIFIED:20170627T173526Z
UID:6538-1498933800-1498944600@nohowest.org
SUMMARY:NoHo Summer Nights: Concerts
DESCRIPTION:All concerts begin at 6:30PM.\nAdditional entertainment following each concert from 8:00PM – 9:30PM. \nMovies begin at dusk\, approximately 8PM. \nVCC in conjunction with the Department of Cultural Affairs and Council District 2 presents NoHo Summer Nights\, a 10-week Concert and Movie series. \nNoHo Summer Nights runs on Saturday nights at North Hollywood Park\, at the corner of Magnolia and Tujunga. Enjoy live music and movie screenings while LA’s most popular food trucks serve up a great selection of food\, and experience the arts at one of the many interactive booths displaying local art. \nAdmission is free. Community Parking is available at the recreation center parking lots\, areas surrounding the park and the North Hollywood metro station. \nMore
URL:https://nohowest.org/calendar/noho-summer-nights-concerts/2017-07-01/
LOCATION:North Hollywood Park
CATEGORIES:Community Events
GEO:34.1649059;-118.3789878
END:VEVENT
BEGIN:VEVENT
DTSTART;TZID=America/Los_Angeles:20160521T010000
DTEND;TZID=America/Los_Angeles:20160521T070000
DTSTAMP:20260424T050900
CREATED:20160413T024842Z
LAST-MODIFIED:20160413T024842Z
UID:5521-1463792400-1463814000@nohowest.org
SUMMARY:Hope Walk
DESCRIPTION:
URL:https://nohowest.org/calendar/hope-walk/
LOCATION:North Hollywood Park
CATEGORIES:Community Events
GEO:34.1649059;-118.3789878
END:VEVENT
BEGIN:VEVENT
DTSTART;TZID=America/Los_Angeles:20151001T120000
DTEND;TZID=America/Los_Angeles:20151001T140000
DTSTAMP:20260424T050900
CREATED:20150926T030505Z
LAST-MODIFIED:20150926T030552Z
UID:5151-1443700800-1443708000@nohowest.org
SUMMARY:Short Term Rental Listening Sessions
DESCRIPTION:The Department of City Planning would like to invite you to one of three (quickly) upcoming community listening sessions we are holding on the issue of short-term rentals\, sometimes known as home sharing or vacation rentals. Short term rental is generally defined as a residence or room that is rented to a visitor or guest for less than 30 days.\n\nThe three meetings will be held in West Los Angeles\, North Hollywood and Downtown on September 29th\, October 1st and October 3rdrespectively. The meetings will be an opportunity to learn about the issue and provide input that will help shape the City’s regulations regarding short terms rentals.\n\nThe City Council has directed the Department of City Planning to hold these meetings and then prepare an ordinance governing short-term rentals in Los Angeles. The motion and specific direction can be found attached to Council File 14-1635-S2.\n\nAlso\, to help us better understand the various ideas and concerns about short term rentals we have prepared a short questionnaire we would encourage the public to complete. Copies will be available at the listening sessions as well.\n\nPlease see the attached flyer for more information. If you have any questions about the meetings or the issue of short terms rentals\, do not hesitate to contact me directly.\n\n\nMatthew Glesne\, Housing Planner\nCity of Los Angeles Department of City Planning\nPolicy Planning and Historic Resources Division: Citywide Unit\n200 North Spring Street\, Room 667\, Los Angeles\, 90012\nmatthew.glesne@lacity.org | 213.978.2666\n \n \n 
URL:https://nohowest.org/calendar/short-term-rental-listening-sessions/
LOCATION:North Hollywood Park
CATEGORIES:Community Events
GEO:34.1649059;-118.3789878
END:VEVENT
BEGIN:VEVENT
DTSTART;TZID=America/Los_Angeles:20150822T200000
DTEND;TZID=America/Los_Angeles:20150822T223000
DTSTAMP:20260424T050900
CREATED:20150610T051652Z
LAST-MODIFIED:20150610T051652Z
UID:4911-1440273600-1440282600@nohowest.org
SUMMARY:Movies in the Park: Guardians of the Galaxy
DESCRIPTION:NoHoWest is proud to sponsor Movies in the Park with City Councilman Paul Krekorian\, Midtown NoHo and NoHo North East Neighborhood Councils.
URL:https://nohowest.org/calendar/movies-in-the-park-guardians-of-the-galaxy/
LOCATION:North Hollywood Park
CATEGORIES:Community Events
GEO:34.1649059;-118.3789878
END:VEVENT
BEGIN:VEVENT
DTSTART;TZID=America/Los_Angeles:20150703T201500
DTEND;TZID=America/Los_Angeles:20150703T223000
DTSTAMP:20260424T050900
CREATED:20150610T044849Z
LAST-MODIFIED:20150610T044850Z
UID:4908-1435954500-1435962600@nohowest.org
SUMMARY:Movies In The Park: Rocky
DESCRIPTION:NoHoWest is proud to sponsor Movies in the Park with City Councilman Paul Krekorian\, Midtown NoHo and NoHo North East Neighborhood Councils.
URL:https://nohowest.org/calendar/movies-in-the-park-rocky/
LOCATION:North Hollywood Park
CATEGORIES:Community Events
GEO:34.1649059;-118.3789878
END:VEVENT
BEGIN:VEVENT
DTSTART;TZID=America/Los_Angeles:20150613T201500
DTEND;TZID=America/Los_Angeles:20150613T223000
DTSTAMP:20260424T050900
CREATED:20150610T044415Z
LAST-MODIFIED:20150610T051552Z
UID:4905-1434226500-1434234600@nohowest.org
SUMMARY:Movies in the Park: Princess Bride
DESCRIPTION:NoHoWest is proud to sponsor Movies in the Park with City Councilman Paul Krekorian\, Midtown NoHo and NoHo North East Neighborhood Councils:
URL:https://nohowest.org/calendar/princess-bride-movies-in-the-park/
LOCATION:North Hollywood Park
CATEGORIES:Community Events
GEO:34.1649059;-118.3789878
END:VEVENT
END:VCALENDAR