BEGIN:VCALENDAR
VERSION:2.0
PRODID:-//NoHowest.org - ECPv6.15.16//NONSGML v1.0//EN
CALSCALE:GREGORIAN
METHOD:PUBLISH
X-WR-CALNAME:NoHowest.org
X-ORIGINAL-URL:https://nohowest.org
X-WR-CALDESC:Events for NoHowest.org
REFRESH-INTERVAL;VALUE=DURATION:PT1H
X-Robots-Tag:noindex
X-PUBLISHED-TTL:PT1H
BEGIN:VTIMEZONE
TZID:America/Los_Angeles
BEGIN:DAYLIGHT
TZOFFSETFROM:-0800
TZOFFSETTO:-0700
TZNAME:PDT
DTSTART:20140309T100000
END:DAYLIGHT
BEGIN:STANDARD
TZOFFSETFROM:-0700
TZOFFSETTO:-0800
TZNAME:PST
DTSTART:20141102T090000
END:STANDARD
BEGIN:DAYLIGHT
TZOFFSETFROM:-0800
TZOFFSETTO:-0700
TZNAME:PDT
DTSTART:20150308T100000
END:DAYLIGHT
BEGIN:STANDARD
TZOFFSETFROM:-0700
TZOFFSETTO:-0800
TZNAME:PST
DTSTART:20151101T090000
END:STANDARD
BEGIN:DAYLIGHT
TZOFFSETFROM:-0800
TZOFFSETTO:-0700
TZNAME:PDT
DTSTART:20160313T100000
END:DAYLIGHT
BEGIN:STANDARD
TZOFFSETFROM:-0700
TZOFFSETTO:-0800
TZNAME:PST
DTSTART:20161106T090000
END:STANDARD
END:VTIMEZONE
BEGIN:VEVENT
DTSTART;TZID=America/Los_Angeles:20150822T200000
DTEND;TZID=America/Los_Angeles:20150822T223000
DTSTAMP:20260424T065355
CREATED:20150610T051652Z
LAST-MODIFIED:20150610T051652Z
UID:4911-1440273600-1440282600@nohowest.org
SUMMARY:Movies in the Park: Guardians of the Galaxy
DESCRIPTION:NoHoWest is proud to sponsor Movies in the Park with City Councilman Paul Krekorian\, Midtown NoHo and NoHo North East Neighborhood Councils.
URL:https://nohowest.org/calendar/movies-in-the-park-guardians-of-the-galaxy/
LOCATION:North Hollywood Park
CATEGORIES:Community Events
GEO:34.1649059;-118.3789878
END:VEVENT
BEGIN:VEVENT
DTSTART;TZID=America/Los_Angeles:20150703T201500
DTEND;TZID=America/Los_Angeles:20150703T223000
DTSTAMP:20260424T065355
CREATED:20150610T044849Z
LAST-MODIFIED:20150610T044850Z
UID:4908-1435954500-1435962600@nohowest.org
SUMMARY:Movies In The Park: Rocky
DESCRIPTION:NoHoWest is proud to sponsor Movies in the Park with City Councilman Paul Krekorian\, Midtown NoHo and NoHo North East Neighborhood Councils.
URL:https://nohowest.org/calendar/movies-in-the-park-rocky/
LOCATION:North Hollywood Park
CATEGORIES:Community Events
GEO:34.1649059;-118.3789878
END:VEVENT
BEGIN:VEVENT
DTSTART;TZID=America/Los_Angeles:20150613T201500
DTEND;TZID=America/Los_Angeles:20150613T223000
DTSTAMP:20260424T065355
CREATED:20150610T044415Z
LAST-MODIFIED:20150610T051552Z
UID:4905-1434226500-1434234600@nohowest.org
SUMMARY:Movies in the Park: Princess Bride
DESCRIPTION:NoHoWest is proud to sponsor Movies in the Park with City Councilman Paul Krekorian\, Midtown NoHo and NoHo North East Neighborhood Councils:
URL:https://nohowest.org/calendar/princess-bride-movies-in-the-park/
LOCATION:North Hollywood Park
CATEGORIES:Community Events
GEO:34.1649059;-118.3789878
END:VEVENT
END:VCALENDAR