BEGIN:VCALENDAR
VERSION:2.0
PRODID:-//NoHowest.org - ECPv6.15.16//NONSGML v1.0//EN
CALSCALE:GREGORIAN
METHOD:PUBLISH
X-WR-CALNAME:NoHowest.org
X-ORIGINAL-URL:https://nohowest.org
X-WR-CALDESC:Events for NoHowest.org
REFRESH-INTERVAL;VALUE=DURATION:PT1H
X-Robots-Tag:noindex
X-PUBLISHED-TTL:PT1H
BEGIN:VTIMEZONE
TZID:America/Los_Angeles
BEGIN:DAYLIGHT
TZOFFSETFROM:-0800
TZOFFSETTO:-0700
TZNAME:PDT
DTSTART:20150308T100000
END:DAYLIGHT
BEGIN:STANDARD
TZOFFSETFROM:-0700
TZOFFSETTO:-0800
TZNAME:PST
DTSTART:20151101T090000
END:STANDARD
BEGIN:DAYLIGHT
TZOFFSETFROM:-0800
TZOFFSETTO:-0700
TZNAME:PDT
DTSTART:20160313T100000
END:DAYLIGHT
BEGIN:STANDARD
TZOFFSETFROM:-0700
TZOFFSETTO:-0800
TZNAME:PST
DTSTART:20161106T090000
END:STANDARD
BEGIN:DAYLIGHT
TZOFFSETFROM:-0800
TZOFFSETTO:-0700
TZNAME:PDT
DTSTART:20170312T100000
END:DAYLIGHT
BEGIN:STANDARD
TZOFFSETFROM:-0700
TZOFFSETTO:-0800
TZNAME:PST
DTSTART:20171105T090000
END:STANDARD
BEGIN:DAYLIGHT
TZOFFSETFROM:-0800
TZOFFSETTO:-0700
TZNAME:PDT
DTSTART:20180311T100000
END:DAYLIGHT
BEGIN:STANDARD
TZOFFSETFROM:-0700
TZOFFSETTO:-0800
TZNAME:PST
DTSTART:20181104T090000
END:STANDARD
BEGIN:DAYLIGHT
TZOFFSETFROM:-0800
TZOFFSETTO:-0700
TZNAME:PDT
DTSTART:20190310T100000
END:DAYLIGHT
BEGIN:STANDARD
TZOFFSETFROM:-0700
TZOFFSETTO:-0800
TZNAME:PST
DTSTART:20191103T090000
END:STANDARD
BEGIN:DAYLIGHT
TZOFFSETFROM:-0800
TZOFFSETTO:-0700
TZNAME:PDT
DTSTART:20200308T100000
END:DAYLIGHT
BEGIN:STANDARD
TZOFFSETFROM:-0700
TZOFFSETTO:-0800
TZNAME:PST
DTSTART:20201101T090000
END:STANDARD
BEGIN:DAYLIGHT
TZOFFSETFROM:-0800
TZOFFSETTO:-0700
TZNAME:PDT
DTSTART:20210314T100000
END:DAYLIGHT
BEGIN:STANDARD
TZOFFSETFROM:-0700
TZOFFSETTO:-0800
TZNAME:PST
DTSTART:20211107T090000
END:STANDARD
BEGIN:DAYLIGHT
TZOFFSETFROM:-0800
TZOFFSETTO:-0700
TZNAME:PDT
DTSTART:20220313T100000
END:DAYLIGHT
BEGIN:STANDARD
TZOFFSETFROM:-0700
TZOFFSETTO:-0800
TZNAME:PST
DTSTART:20221106T090000
END:STANDARD
BEGIN:DAYLIGHT
TZOFFSETFROM:-0800
TZOFFSETTO:-0700
TZNAME:PDT
DTSTART:20230312T100000
END:DAYLIGHT
BEGIN:STANDARD
TZOFFSETFROM:-0700
TZOFFSETTO:-0800
TZNAME:PST
DTSTART:20231105T090000
END:STANDARD
BEGIN:DAYLIGHT
TZOFFSETFROM:-0800
TZOFFSETTO:-0700
TZNAME:PDT
DTSTART:20240310T100000
END:DAYLIGHT
BEGIN:STANDARD
TZOFFSETFROM:-0700
TZOFFSETTO:-0800
TZNAME:PST
DTSTART:20241103T090000
END:STANDARD
BEGIN:DAYLIGHT
TZOFFSETFROM:-0800
TZOFFSETTO:-0700
TZNAME:PDT
DTSTART:20250309T100000
END:DAYLIGHT
BEGIN:STANDARD
TZOFFSETFROM:-0700
TZOFFSETTO:-0800
TZNAME:PST
DTSTART:20251102T090000
END:STANDARD
BEGIN:DAYLIGHT
TZOFFSETFROM:-0800
TZOFFSETTO:-0700
TZNAME:PDT
DTSTART:20260308T100000
END:DAYLIGHT
BEGIN:STANDARD
TZOFFSETFROM:-0700
TZOFFSETTO:-0800
TZNAME:PST
DTSTART:20261101T090000
END:STANDARD
END:VTIMEZONE
BEGIN:VEVENT
DTSTART;TZID=America/Los_Angeles:20251011T150000
DTEND;TZID=America/Los_Angeles:20251011T180000
DTSTAMP:20260424T033021
CREATED:20251002T221438Z
LAST-MODIFIED:20251002T221438Z
UID:19740-1760194800-1760205600@nohowest.org
SUMMARY:Fall Festival
DESCRIPTION:🍂 You’re invited! Join us for a FREE Fall Festival 🎃 on Saturday\, Oct. 11 from 3–6 PM at the North Hollywood Rec Center (11455 W. Magnolia Blvd).\nBring the family for kids’ activities\, pumpkin painting\, free tree gifts\, a claw machine\, dog adoptions\, and more! Plus\, enjoy live music featuring New Romantics: A Taylor Swift Tribute.\n👉 RSVP here: https://shorturl.at/HBELv
URL:https://nohowest.org/calendar/fall-festival/
LOCATION:North Hollywood Recreation Center\, 11430 Chandler Blvd\, North Hollywood
CATEGORIES:Community Events
GEO:34.1675946;-118.3799724
X-APPLE-STRUCTURED-LOCATION;VALUE=URI;X-ADDRESS=North Hollywood Recreation Center 11430 Chandler Blvd North Hollywood;X-APPLE-RADIUS=500;X-TITLE=11430 Chandler Blvd:geo:-118.3799724,34.1675946
END:VEVENT
BEGIN:VEVENT
DTSTART;TZID=America/Los_Angeles:20230331T173000
DTEND;TZID=America/Los_Angeles:20230331T193000
DTSTAMP:20260424T033021
CREATED:20230329T025002Z
LAST-MODIFIED:20230329T025002Z
UID:14367-1680283800-1680291000@nohowest.org
SUMMARY:Egg Hunt
DESCRIPTION:
URL:https://nohowest.org/calendar/egg-hunt/
LOCATION:North Hollywood Recreation Center\, 11430 Chandler Blvd\, North Hollywood
CATEGORIES:Community Events
GEO:34.1675946;-118.3799724
X-APPLE-STRUCTURED-LOCATION;VALUE=URI;X-ADDRESS=North Hollywood Recreation Center 11430 Chandler Blvd North Hollywood;X-APPLE-RADIUS=500;X-TITLE=11430 Chandler Blvd:geo:-118.3799724,34.1675946
END:VEVENT
BEGIN:VEVENT
DTSTART;TZID=America/Los_Angeles:20180824T163000
DTEND;TZID=America/Los_Angeles:20180824T223000
DTSTAMP:20260424T033021
CREATED:20180816T180612Z
LAST-MODIFIED:20180816T180612Z
UID:7924-1535128200-1535149800@nohowest.org
SUMMARY:NoHo Summer Carnival
DESCRIPTION:August 24\, 25\, & 26\, 4:30 pm – 10:30 pm\nNorth Hollywood Recreation Center\n11430 Chandler Blvd.\nNorth Hollywood\, CA 91601 \nJoin the Department of Recreation and Parks for its annual summer carnival in North Hollywood Park. Enjoy carnival rides\, games\, food and fun for the whole family. The carnival is free and open to the public. For more information\, contact (818) 763-7651.
URL:https://nohowest.org/calendar/noho-summer-carnival/2018-08-24/
LOCATION:North Hollywood Recreation Center\, 11430 Chandler Blvd\, North Hollywood
CATEGORIES:Community Events
GEO:34.1675946;-118.3799724
X-APPLE-STRUCTURED-LOCATION;VALUE=URI;X-ADDRESS=North Hollywood Recreation Center 11430 Chandler Blvd North Hollywood;X-APPLE-RADIUS=500;X-TITLE=11430 Chandler Blvd:geo:-118.3799724,34.1675946
END:VEVENT
BEGIN:VEVENT
DTSTART;TZID=America/Los_Angeles:20180430T180000
DTEND;TZID=America/Los_Angeles:20180430T200000
DTSTAMP:20260424T033021
CREATED:20180314T213747Z
LAST-MODIFIED:20180314T213747Z
UID:7490-1525111200-1525118400@nohowest.org
SUMMARY:City Planning 101
DESCRIPTION:
URL:https://nohowest.org/calendar/city-planning-101-2/
LOCATION:North Hollywood Recreation Center\, 11430 Chandler Blvd\, North Hollywood
CATEGORIES:Community Events
GEO:34.1675946;-118.3799724
X-APPLE-STRUCTURED-LOCATION;VALUE=URI;X-ADDRESS=North Hollywood Recreation Center 11430 Chandler Blvd North Hollywood;X-APPLE-RADIUS=500;X-TITLE=11430 Chandler Blvd:geo:-118.3799724,34.1675946
END:VEVENT
BEGIN:VEVENT
DTSTART;TZID=America/Los_Angeles:20171129T180000
DTEND;TZID=America/Los_Angeles:20171129T200000
DTSTAMP:20260424T033021
CREATED:20171118T022354Z
LAST-MODIFIED:20171118T022354Z
UID:6949-1511978400-1511985600@nohowest.org
SUMMARY:Orange Line Improvements Open House
DESCRIPTION:The Metro Orange Line has been operating successfully since it opened in 2005. New funding provides up to $286 million to improve the existing Bus Rapid Transit (BRT) service in the San Fernando Valley. The Metro Orange Line Improvements seek to provide safe and cost-effective strategies to improve operating speeds\, capacity\, and safety\, while addressing passenger needs and minimizing disruption to San Fernando Valley residents. \nPlease join us at one of the following community open house meetings to learn more about the project and provide your feedback. Content provided at the meetings will be identical. Presentations start 30 minutes after the indicated start time. \nNORTH HOLLYWOOD\nWednesday\, November 29\, 2017\, 6-8pm\nNorth Hollywood Recreation Center\n11430 Chandler Bl\nNorth Hollywood\, CA 91601 \nLIVE WEBINAR\nThursday\, December 7\, 2017\, 6:30pm\nThe live webinar will include the same presentation that is presented at the other three meetings and will be available in English and Spanish at: tinyurl.com/metroorangeline \n 
URL:https://nohowest.org/calendar/orange-line-improvements-open-house/
LOCATION:North Hollywood Recreation Center\, 11430 Chandler Blvd\, North Hollywood
CATEGORIES:Community Events
GEO:34.1675946;-118.3799724
X-APPLE-STRUCTURED-LOCATION;VALUE=URI;X-ADDRESS=North Hollywood Recreation Center 11430 Chandler Blvd North Hollywood;X-APPLE-RADIUS=500;X-TITLE=11430 Chandler Blvd:geo:-118.3799724,34.1675946
END:VEVENT
BEGIN:VEVENT
DTSTART;TZID=America/Los_Angeles:20161105T060000
DTEND;TZID=America/Los_Angeles:20161105T080000
DTSTAMP:20260424T033021
CREATED:20160928T071230Z
LAST-MODIFIED:20160928T071230Z
UID:5747-1478325600-1478332800@nohowest.org
SUMMARY:FREE Women's Self-Defense Workshops
DESCRIPTION:Register Now
URL:https://nohowest.org/calendar/free-womens-self-defense-workshops-6/
LOCATION:North Hollywood Recreation Center\, 11430 Chandler Blvd\, North Hollywood
CATEGORIES:Community Events
GEO:34.1675946;-118.3799724
X-APPLE-STRUCTURED-LOCATION;VALUE=URI;X-ADDRESS=North Hollywood Recreation Center 11430 Chandler Blvd North Hollywood;X-APPLE-RADIUS=500;X-TITLE=11430 Chandler Blvd:geo:-118.3799724,34.1675946
END:VEVENT
END:VCALENDAR