BEGIN:VCALENDAR
VERSION:2.0
PRODID:-//NoHowest.org - ECPv6.15.16//NONSGML v1.0//EN
CALSCALE:GREGORIAN
METHOD:PUBLISH
X-ORIGINAL-URL:https://nohowest.org
X-WR-CALDESC:Events for NoHowest.org
REFRESH-INTERVAL;VALUE=DURATION:PT1H
X-Robots-Tag:noindex
X-PUBLISHED-TTL:PT1H
BEGIN:VTIMEZONE
TZID:America/Los_Angeles
BEGIN:DAYLIGHT
TZOFFSETFROM:-0800
TZOFFSETTO:-0700
TZNAME:PDT
DTSTART:20180311T100000
END:DAYLIGHT
BEGIN:STANDARD
TZOFFSETFROM:-0700
TZOFFSETTO:-0800
TZNAME:PST
DTSTART:20181104T090000
END:STANDARD
BEGIN:DAYLIGHT
TZOFFSETFROM:-0800
TZOFFSETTO:-0700
TZNAME:PDT
DTSTART:20190310T100000
END:DAYLIGHT
BEGIN:STANDARD
TZOFFSETFROM:-0700
TZOFFSETTO:-0800
TZNAME:PST
DTSTART:20191103T090000
END:STANDARD
BEGIN:DAYLIGHT
TZOFFSETFROM:-0800
TZOFFSETTO:-0700
TZNAME:PDT
DTSTART:20200308T100000
END:DAYLIGHT
BEGIN:STANDARD
TZOFFSETFROM:-0700
TZOFFSETTO:-0800
TZNAME:PST
DTSTART:20201101T090000
END:STANDARD
BEGIN:DAYLIGHT
TZOFFSETFROM:-0800
TZOFFSETTO:-0700
TZNAME:PDT
DTSTART:20210314T100000
END:DAYLIGHT
BEGIN:STANDARD
TZOFFSETFROM:-0700
TZOFFSETTO:-0800
TZNAME:PST
DTSTART:20211107T090000
END:STANDARD
BEGIN:DAYLIGHT
TZOFFSETFROM:-0800
TZOFFSETTO:-0700
TZNAME:PDT
DTSTART:20220313T100000
END:DAYLIGHT
BEGIN:STANDARD
TZOFFSETFROM:-0700
TZOFFSETTO:-0800
TZNAME:PST
DTSTART:20221106T090000
END:STANDARD
BEGIN:DAYLIGHT
TZOFFSETFROM:-0800
TZOFFSETTO:-0700
TZNAME:PDT
DTSTART:20230312T100000
END:DAYLIGHT
BEGIN:STANDARD
TZOFFSETFROM:-0700
TZOFFSETTO:-0800
TZNAME:PST
DTSTART:20231105T090000
END:STANDARD
BEGIN:DAYLIGHT
TZOFFSETFROM:-0800
TZOFFSETTO:-0700
TZNAME:PDT
DTSTART:20240310T100000
END:DAYLIGHT
BEGIN:STANDARD
TZOFFSETFROM:-0700
TZOFFSETTO:-0800
TZNAME:PST
DTSTART:20241103T090000
END:STANDARD
BEGIN:DAYLIGHT
TZOFFSETFROM:-0800
TZOFFSETTO:-0700
TZNAME:PDT
DTSTART:20250309T100000
END:DAYLIGHT
BEGIN:STANDARD
TZOFFSETFROM:-0700
TZOFFSETTO:-0800
TZNAME:PST
DTSTART:20251102T090000
END:STANDARD
BEGIN:DAYLIGHT
TZOFFSETFROM:-0800
TZOFFSETTO:-0700
TZNAME:PDT
DTSTART:20260308T100000
END:DAYLIGHT
BEGIN:STANDARD
TZOFFSETFROM:-0700
TZOFFSETTO:-0800
TZNAME:PST
DTSTART:20261101T090000
END:STANDARD
END:VTIMEZONE
BEGIN:VEVENT
DTSTART;TZID=America/Los_Angeles:20250530T110000
DTEND;TZID=America/Los_Angeles:20250530T130000
DTSTAMP:20260424T034928
CREATED:20250519T181154Z
LAST-MODIFIED:20250519T181154Z
UID:19465-1748602800-1748610000@nohowest.org
SUMMARY:Free Self-Defense Clinic For Seniors
DESCRIPTION:Come learn: \n\nDefensive techniques you’ll remember even if you panic\nTips and tricks to help save your life\n\nRSVP
URL:https://nohowest.org/calendar/free-self-defense-clinic-for-seniors/
LOCATION:North Hollywood Senior Center\, 5301 Tujunga Ave.\, North Hollywood\, 91601
GEO:34.1671344;-118.3790801
X-APPLE-STRUCTURED-LOCATION;VALUE=URI;X-ADDRESS=North Hollywood Senior Center 5301 Tujunga Ave. North Hollywood 91601;X-APPLE-RADIUS=500;X-TITLE=5301 Tujunga Ave.:geo:-118.3790801,34.1671344
END:VEVENT
BEGIN:VEVENT
DTSTART;TZID=America/Los_Angeles:20190327T163000
DTEND;TZID=America/Los_Angeles:20190327T190000
DTSTAMP:20260424T034928
CREATED:20190312T192330Z
LAST-MODIFIED:20190312T192330Z
UID:8421-1553704200-1553713200@nohowest.org
SUMMARY:Metro Orange Line BRT Project Community Meeting
DESCRIPTION:Wednesday\, March 27\,\n4:30 pm to 7 pm\nNorth Hollywood Senior Center\n5301 Tujunga Ave.\nNorth Hollywood\, CA 91601 \nJoin Metro for an information sessions about the Orange Line BRT Improvements Project and speak directly with Metro staff about the project’s details. Metro staff will be sharing new information including updates on the pilot gate\, grade separations\, and traffic analysis. \n\n+ GOOGLE CALENDAR+ ICAL EXPORT
URL:https://nohowest.org/calendar/metro-orange-line-brt-project-community-meeting/
LOCATION:North Hollywood Senior Center\, 5301 Tujunga Ave.\, North Hollywood\, 91601
GEO:34.1671344;-118.3790801
X-APPLE-STRUCTURED-LOCATION;VALUE=URI;X-ADDRESS=North Hollywood Senior Center 5301 Tujunga Ave. North Hollywood 91601;X-APPLE-RADIUS=500;X-TITLE=5301 Tujunga Ave.:geo:-118.3790801,34.1671344
END:VEVENT
END:VCALENDAR