BEGIN:VCALENDAR
VERSION:2.0
PRODID:-//NoHowest.org - ECPv6.15.16//NONSGML v1.0//EN
CALSCALE:GREGORIAN
METHOD:PUBLISH
X-ORIGINAL-URL:https://nohowest.org
X-WR-CALDESC:Events for NoHowest.org
REFRESH-INTERVAL;VALUE=DURATION:PT1H
X-Robots-Tag:noindex
X-PUBLISHED-TTL:PT1H
BEGIN:VTIMEZONE
TZID:America/Los_Angeles
BEGIN:DAYLIGHT
TZOFFSETFROM:-0800
TZOFFSETTO:-0700
TZNAME:PDT
DTSTART:20160313T100000
END:DAYLIGHT
BEGIN:STANDARD
TZOFFSETFROM:-0700
TZOFFSETTO:-0800
TZNAME:PST
DTSTART:20161106T090000
END:STANDARD
BEGIN:DAYLIGHT
TZOFFSETFROM:-0800
TZOFFSETTO:-0700
TZNAME:PDT
DTSTART:20170312T100000
END:DAYLIGHT
BEGIN:STANDARD
TZOFFSETFROM:-0700
TZOFFSETTO:-0800
TZNAME:PST
DTSTART:20171105T090000
END:STANDARD
BEGIN:DAYLIGHT
TZOFFSETFROM:-0800
TZOFFSETTO:-0700
TZNAME:PDT
DTSTART:20180311T100000
END:DAYLIGHT
BEGIN:STANDARD
TZOFFSETFROM:-0700
TZOFFSETTO:-0800
TZNAME:PST
DTSTART:20181104T090000
END:STANDARD
BEGIN:DAYLIGHT
TZOFFSETFROM:-0800
TZOFFSETTO:-0700
TZNAME:PDT
DTSTART:20190310T100000
END:DAYLIGHT
BEGIN:STANDARD
TZOFFSETFROM:-0700
TZOFFSETTO:-0800
TZNAME:PST
DTSTART:20191103T090000
END:STANDARD
BEGIN:DAYLIGHT
TZOFFSETFROM:-0800
TZOFFSETTO:-0700
TZNAME:PDT
DTSTART:20200308T100000
END:DAYLIGHT
BEGIN:STANDARD
TZOFFSETFROM:-0700
TZOFFSETTO:-0800
TZNAME:PST
DTSTART:20201101T090000
END:STANDARD
END:VTIMEZONE
BEGIN:VEVENT
DTSTART;TZID=America/Los_Angeles:20190405T103000
DTEND;TZID=America/Los_Angeles:20190405T133000
DTSTAMP:20260423T225738
CREATED:20190327T171941Z
LAST-MODIFIED:20190327T171941Z
UID:8489-1554460200-1554471000@nohowest.org
SUMMARY:North Valley Occupational Center Job Fair
DESCRIPTION:North Valley Occupational Center (NVOC)\, a public educational and job training facility in the Division of Adult and Career Education in the Los Angeles Unified School District\, is hosting its Annual Job Fair and Open House and would like to invite you to participate. This year’s event will take place:\nFriday\, April 5\, 2019\n10:30 am – 1:30 pm\n11450 Sharp Avenue\, Mission Hills\, 91345 \nWe expect well over 1\,000 job seekers and 100 educators\, community members\, and local businesses to attend our event. This is an excellent opportunity for our community partners to connect with each other\, offer job opportunities to a large pool of educated and trained workers\, and provide pertinent and current job market information. \nJoin us in our tradition of building bridges between education and employment. Together we make it possible to provide critical job training and community resources to assist them in securing sustainable living wages in high-skilled jobs. \noort
URL:https://nohowest.org/calendar/north-valley-occupational-center-job-fair/
LOCATION:North Valley Occupational Center\, 11450 Sharp Ave\, Mission Hills\, 91345
CATEGORIES:Community Events
GEO:34.2779938;-118.4565595
X-APPLE-STRUCTURED-LOCATION;VALUE=URI;X-ADDRESS=North Valley Occupational Center 11450 Sharp Ave Mission Hills 91345;X-APPLE-RADIUS=500;X-TITLE=11450 Sharp Ave:geo:-118.4565595,34.2779938
END:VEVENT
BEGIN:VEVENT
DTSTART;TZID=America/Los_Angeles:20170428T103000
DTEND;TZID=America/Los_Angeles:20170428T133000
DTSTAMP:20260423T225738
CREATED:20170406T223429Z
LAST-MODIFIED:20170406T223429Z
UID:6296-1493375400-1493386200@nohowest.org
SUMMARY:Job Fair
DESCRIPTION:
URL:https://nohowest.org/calendar/job-fair/
LOCATION:North Valley Occupational Center\, 11450 Sharp Ave\, Mission Hills\, 91345
CATEGORIES:Community Events
GEO:34.2779938;-118.4565595
X-APPLE-STRUCTURED-LOCATION;VALUE=URI;X-ADDRESS=North Valley Occupational Center 11450 Sharp Ave Mission Hills 91345;X-APPLE-RADIUS=500;X-TITLE=11450 Sharp Ave:geo:-118.4565595,34.2779938
END:VEVENT
END:VCALENDAR