BEGIN:VCALENDAR
VERSION:2.0
PRODID:-//NoHowest.org - ECPv6.15.16//NONSGML v1.0//EN
CALSCALE:GREGORIAN
METHOD:PUBLISH
X-ORIGINAL-URL:https://nohowest.org
X-WR-CALDESC:Events for NoHowest.org
REFRESH-INTERVAL;VALUE=DURATION:PT1H
X-Robots-Tag:noindex
X-PUBLISHED-TTL:PT1H
BEGIN:VTIMEZONE
TZID:America/Los_Angeles
BEGIN:DAYLIGHT
TZOFFSETFROM:-0800
TZOFFSETTO:-0700
TZNAME:PDT
DTSTART:20160313T100000
END:DAYLIGHT
BEGIN:STANDARD
TZOFFSETFROM:-0700
TZOFFSETTO:-0800
TZNAME:PST
DTSTART:20161106T090000
END:STANDARD
BEGIN:DAYLIGHT
TZOFFSETFROM:-0800
TZOFFSETTO:-0700
TZNAME:PDT
DTSTART:20170312T100000
END:DAYLIGHT
BEGIN:STANDARD
TZOFFSETFROM:-0700
TZOFFSETTO:-0800
TZNAME:PST
DTSTART:20171105T090000
END:STANDARD
BEGIN:DAYLIGHT
TZOFFSETFROM:-0800
TZOFFSETTO:-0700
TZNAME:PDT
DTSTART:20180311T100000
END:DAYLIGHT
BEGIN:STANDARD
TZOFFSETFROM:-0700
TZOFFSETTO:-0800
TZNAME:PST
DTSTART:20181104T090000
END:STANDARD
BEGIN:DAYLIGHT
TZOFFSETFROM:-0800
TZOFFSETTO:-0700
TZNAME:PDT
DTSTART:20190310T100000
END:DAYLIGHT
BEGIN:STANDARD
TZOFFSETFROM:-0700
TZOFFSETTO:-0800
TZNAME:PST
DTSTART:20191103T090000
END:STANDARD
BEGIN:DAYLIGHT
TZOFFSETFROM:-0800
TZOFFSETTO:-0700
TZNAME:PDT
DTSTART:20200308T100000
END:DAYLIGHT
BEGIN:STANDARD
TZOFFSETFROM:-0700
TZOFFSETTO:-0800
TZNAME:PST
DTSTART:20201101T090000
END:STANDARD
END:VTIMEZONE
BEGIN:VEVENT
DTSTART;TZID=America/Los_Angeles:20191012T090000
DTEND;TZID=America/Los_Angeles:20191012T133000
DTSTAMP:20260423T230457
CREATED:20190826T205048Z
LAST-MODIFIED:20190826T205048Z
UID:8778-1570870800-1570887000@nohowest.org
SUMMARY:Valley Disaster Preparedness Fair
DESCRIPTION:Free admission • Free family EP kits* • Free parking\nFree food* (all-beef hamburgers and veggieburgers)\nEverything is free at the Fair to encourage everyone to be disaster ready.\nYou will have more time to enjoy the Fair and your family will be eligible for a free\nFamily Emergency Preparedness (EP) Starter Kit. Only one registration per family is needed. \nRegister Now: https://valleydisasterfair.com/
URL:https://nohowest.org/calendar/valley-disaster-preparedness-fair-5/
LOCATION:Northridge Fashion Center\, 9400 Shirley Ave.\, Northridge
CATEGORIES:Community Events
GEO:34.2401963;-118.5575621
X-APPLE-STRUCTURED-LOCATION;VALUE=URI;X-ADDRESS=Northridge Fashion Center 9400 Shirley Ave. Northridge;X-APPLE-RADIUS=500;X-TITLE=9400 Shirley Ave.:geo:-118.5575621,34.2401963
END:VEVENT
BEGIN:VEVENT
DTSTART;TZID=America/Los_Angeles:20180929T090000
DTEND;TZID=America/Los_Angeles:20180929T133000
DTSTAMP:20260423T230457
CREATED:20180816T175334Z
LAST-MODIFIED:20180816T175334Z
UID:7915-1538211600-1538227800@nohowest.org
SUMMARY:Valley Disaster Preparedness Fair
DESCRIPTION:REGISTER NOW
URL:https://nohowest.org/calendar/valley-disaster-preparedness-fair-4/
LOCATION:Northridge Fashion Center\, 9400 Shirley Ave.\, Northridge
CATEGORIES:Community Events
GEO:34.2401963;-118.5575621
X-APPLE-STRUCTURED-LOCATION;VALUE=URI;X-ADDRESS=Northridge Fashion Center 9400 Shirley Ave. Northridge;X-APPLE-RADIUS=500;X-TITLE=9400 Shirley Ave.:geo:-118.5575621,34.2401963
END:VEVENT
BEGIN:VEVENT
DTSTART;TZID=America/Los_Angeles:20171007T100000
DTEND;TZID=America/Los_Angeles:20171007T140000
DTSTAMP:20260423T230457
CREATED:20170818T180838Z
LAST-MODIFIED:20170818T180919Z
UID:6651-1507370400-1507384800@nohowest.org
SUMMARY:Valley Disaster Preparedness Fair
DESCRIPTION:Saturday October 7\, 2017 10:00 a.m. – 2:00 p.m.\nFree admission • Free family EP kits* • Free parking\nFree food* (all-beef hot dogs\, hamburgers\, and veggieburgers with fixings)\nEverything is free at the Fair to encourage everyone to be disaster ready.\nYou will have more time to enjoy the Fair and your family will be eligible for a free Family Emergency Preparedness (EP) Starter Kit\, by registering in advance. Only one registration per family is needed. \n \nRegister Now
URL:https://nohowest.org/calendar/valley-disaster-preparedness-fair-3/
LOCATION:Northridge Fashion Center\, 9400 Shirley Ave.\, Northridge
CATEGORIES:Community Events
GEO:34.2401963;-118.5575621
X-APPLE-STRUCTURED-LOCATION;VALUE=URI;X-ADDRESS=Northridge Fashion Center 9400 Shirley Ave. Northridge;X-APPLE-RADIUS=500;X-TITLE=9400 Shirley Ave.:geo:-118.5575621,34.2401963
END:VEVENT
END:VCALENDAR