BEGIN:VCALENDAR
VERSION:2.0
PRODID:-//NoHowest.org - ECPv6.15.16//NONSGML v1.0//EN
CALSCALE:GREGORIAN
METHOD:PUBLISH
X-ORIGINAL-URL:https://nohowest.org
X-WR-CALDESC:Events for NoHowest.org
REFRESH-INTERVAL;VALUE=DURATION:PT1H
X-Robots-Tag:noindex
X-PUBLISHED-TTL:PT1H
BEGIN:VTIMEZONE
TZID:America/Los_Angeles
BEGIN:DAYLIGHT
TZOFFSETFROM:-0800
TZOFFSETTO:-0700
TZNAME:PDT
DTSTART:20140309T100000
END:DAYLIGHT
BEGIN:STANDARD
TZOFFSETFROM:-0700
TZOFFSETTO:-0800
TZNAME:PST
DTSTART:20141102T090000
END:STANDARD
BEGIN:DAYLIGHT
TZOFFSETFROM:-0800
TZOFFSETTO:-0700
TZNAME:PDT
DTSTART:20150308T100000
END:DAYLIGHT
BEGIN:STANDARD
TZOFFSETFROM:-0700
TZOFFSETTO:-0800
TZNAME:PST
DTSTART:20151101T090000
END:STANDARD
BEGIN:DAYLIGHT
TZOFFSETFROM:-0800
TZOFFSETTO:-0700
TZNAME:PDT
DTSTART:20160313T100000
END:DAYLIGHT
BEGIN:STANDARD
TZOFFSETFROM:-0700
TZOFFSETTO:-0800
TZNAME:PST
DTSTART:20161106T090000
END:STANDARD
END:VTIMEZONE
BEGIN:VEVENT
DTSTART;TZID=America/Los_Angeles:20150528T090000
DTEND;TZID=America/Los_Angeles:20150528T110000
DTSTAMP:20260424T135239
CREATED:20150527T223150Z
LAST-MODIFIED:20150527T223150Z
UID:4809-1432803600-1432810800@nohowest.org
SUMMARY:Veteran's Information Event
DESCRIPTION:Sponsored by US Representative Tony Cardenas\, this event offers great information for veterans\, including local resources available\, speakers from local veteran groups\, and representatives from the VA and veteran volunteer groups.
URL:https://nohowest.org/calendar/veterans-information-event/
LOCATION:Pacoima Employment Development\, 11623 Glenoaks Blvd\, Pacoima\, CA
CATEGORIES:Community Events
GEO:34.2804403;-118.4199084
X-APPLE-STRUCTURED-LOCATION;VALUE=URI;X-ADDRESS=Pacoima Employment Development 11623 Glenoaks Blvd Pacoima CA;X-APPLE-RADIUS=500;X-TITLE=11623 Glenoaks Blvd:geo:-118.4199084,34.2804403
END:VEVENT
END:VCALENDAR