BEGIN:VCALENDAR
VERSION:2.0
PRODID:-//NoHowest.org - ECPv6.15.16//NONSGML v1.0//EN
CALSCALE:GREGORIAN
METHOD:PUBLISH
X-WR-CALNAME:NoHowest.org
X-ORIGINAL-URL:https://nohowest.org
X-WR-CALDESC:Events for NoHowest.org
REFRESH-INTERVAL;VALUE=DURATION:PT1H
X-Robots-Tag:noindex
X-PUBLISHED-TTL:PT1H
BEGIN:VTIMEZONE
TZID:America/Los_Angeles
BEGIN:DAYLIGHT
TZOFFSETFROM:-0800
TZOFFSETTO:-0700
TZNAME:PDT
DTSTART:20170312T100000
END:DAYLIGHT
BEGIN:STANDARD
TZOFFSETFROM:-0700
TZOFFSETTO:-0800
TZNAME:PST
DTSTART:20171105T090000
END:STANDARD
BEGIN:DAYLIGHT
TZOFFSETFROM:-0800
TZOFFSETTO:-0700
TZNAME:PDT
DTSTART:20180311T100000
END:DAYLIGHT
BEGIN:STANDARD
TZOFFSETFROM:-0700
TZOFFSETTO:-0800
TZNAME:PST
DTSTART:20181104T090000
END:STANDARD
BEGIN:DAYLIGHT
TZOFFSETFROM:-0800
TZOFFSETTO:-0700
TZNAME:PDT
DTSTART:20190310T100000
END:DAYLIGHT
BEGIN:STANDARD
TZOFFSETFROM:-0700
TZOFFSETTO:-0800
TZNAME:PST
DTSTART:20191103T090000
END:STANDARD
END:VTIMEZONE
BEGIN:VEVENT
DTSTART;TZID=America/Los_Angeles:20181107T170000
DTEND;TZID=America/Los_Angeles:20181107T200000
DTSTAMP:20260423T231933
CREATED:20181102T233621Z
LAST-MODIFIED:20181102T233621Z
UID:8116-1541610000-1541620800@nohowest.org
SUMMARY:FAA Workshops on the Burbank Airport Proposal
DESCRIPTION:Councilmember Krekorian filed a Freedom of Information Act request with the Federal Aviation Administration. He asked the agency to cough up the underlying data supporting the draft environmental report for the proposed Hollywood Burbank Airport flight plan and its records regarding safety risk analysis. \nKrekorian’s request reflects the need to maintain a transparent process for residents and to understand and validate the FAA’s methodology used to reflect the “no action” and proposed action alternatives. He is seeking the material in an expedited manner in order to provide residents with more information and ensure that this remains a fully fair and inclusive process. \nAlso\, be sure to attend the FAA’s local public workshops on the proposal. The workshops will be held in an open-house format. \nFAA Workshops on the Burbank Proposal\nWednesday\, November 7\nThursday\, November 8\, 5 pm – 8 pm (both days)\nPickwick Gardens – Rose Garden Room\n1001 Riverside Drive\nBurbank\, CA 91506 \nIf you have additional questions please contact Krekorian’s Transportation Policy Director Doug Mensman at (213) 473-7002.
URL:https://nohowest.org/calendar/faa-workshops-on-the-burbank-airport-proposal/2018-11-07/
LOCATION:Pickwick Gardens\, 1001 Riverside Drive\, Burbank\, 91506
CATEGORIES:Community Events
GEO:34.1598974;-118.3122152
X-APPLE-STRUCTURED-LOCATION;VALUE=URI;X-ADDRESS=Pickwick Gardens 1001 Riverside Drive Burbank 91506;X-APPLE-RADIUS=500;X-TITLE=1001 Riverside Drive:geo:-118.3122152,34.1598974
END:VEVENT
END:VCALENDAR