BEGIN:VCALENDAR
VERSION:2.0
PRODID:-//NoHowest.org - ECPv6.15.16//NONSGML v1.0//EN
CALSCALE:GREGORIAN
METHOD:PUBLISH
X-WR-CALNAME:NoHowest.org
X-ORIGINAL-URL:https://nohowest.org
X-WR-CALDESC:Events for NoHowest.org
REFRESH-INTERVAL;VALUE=DURATION:PT1H
X-Robots-Tag:noindex
X-PUBLISHED-TTL:PT1H
BEGIN:VTIMEZONE
TZID:America/Los_Angeles
BEGIN:DAYLIGHT
TZOFFSETFROM:-0800
TZOFFSETTO:-0700
TZNAME:PDT
DTSTART:20250309T100000
END:DAYLIGHT
BEGIN:STANDARD
TZOFFSETFROM:-0700
TZOFFSETTO:-0800
TZNAME:PST
DTSTART:20251102T090000
END:STANDARD
BEGIN:DAYLIGHT
TZOFFSETFROM:-0800
TZOFFSETTO:-0700
TZNAME:PDT
DTSTART:20260308T100000
END:DAYLIGHT
BEGIN:STANDARD
TZOFFSETFROM:-0700
TZOFFSETTO:-0800
TZNAME:PST
DTSTART:20261101T090000
END:STANDARD
BEGIN:DAYLIGHT
TZOFFSETFROM:-0800
TZOFFSETTO:-0700
TZNAME:PDT
DTSTART:20270314T100000
END:DAYLIGHT
BEGIN:STANDARD
TZOFFSETFROM:-0700
TZOFFSETTO:-0800
TZNAME:PST
DTSTART:20271107T090000
END:STANDARD
END:VTIMEZONE
BEGIN:VEVENT
DTSTART;TZID=America/Los_Angeles:20260328T080000
DTEND;TZID=America/Los_Angeles:20260328T120000
DTSTAMP:20260424T074629
CREATED:20260305T233114Z
LAST-MODIFIED:20260318T192751Z
UID:20015-1774684800-1774699200@nohowest.org
SUMMARY:Community Clean Up
DESCRIPTION:This cleanup will start at Raymer and Whitsett and go west to Bellaire. \nMeeting Place: Public Storage\, 12510 Raymer St\, North Hollywood\, CA 91605\n\nStreet parking only.\nRSVP:  https://forms.gle/YiD8MTYGtgW8Ri2LA
URL:https://nohowest.org/calendar/community-clean-up/
LOCATION:Public Storage\, 12510 Raymer St.\, North Hollywood\, CA\, 91605\, United States
CATEGORIES:Community Events
GEO:34.2026412;-118.4057947
X-APPLE-STRUCTURED-LOCATION;VALUE=URI;X-ADDRESS=Public Storage 12510 Raymer St. North Hollywood CA 91605 United States;X-APPLE-RADIUS=500;X-TITLE=12510 Raymer St.:geo:-118.4057947,34.2026412
END:VEVENT
END:VCALENDAR