BEGIN:VCALENDAR
VERSION:2.0
PRODID:-//NoHowest.org - ECPv6.15.16//NONSGML v1.0//EN
CALSCALE:GREGORIAN
METHOD:PUBLISH
X-ORIGINAL-URL:https://nohowest.org
X-WR-CALDESC:Events for NoHowest.org
REFRESH-INTERVAL;VALUE=DURATION:PT1H
X-Robots-Tag:noindex
X-PUBLISHED-TTL:PT1H
BEGIN:VTIMEZONE
TZID:America/Los_Angeles
BEGIN:DAYLIGHT
TZOFFSETFROM:-0800
TZOFFSETTO:-0700
TZNAME:PDT
DTSTART:20170312T100000
END:DAYLIGHT
BEGIN:STANDARD
TZOFFSETFROM:-0700
TZOFFSETTO:-0800
TZNAME:PST
DTSTART:20171105T090000
END:STANDARD
BEGIN:DAYLIGHT
TZOFFSETFROM:-0800
TZOFFSETTO:-0700
TZNAME:PDT
DTSTART:20180311T100000
END:DAYLIGHT
BEGIN:STANDARD
TZOFFSETFROM:-0700
TZOFFSETTO:-0800
TZNAME:PST
DTSTART:20181104T090000
END:STANDARD
BEGIN:DAYLIGHT
TZOFFSETFROM:-0800
TZOFFSETTO:-0700
TZNAME:PDT
DTSTART:20190310T100000
END:DAYLIGHT
BEGIN:STANDARD
TZOFFSETFROM:-0700
TZOFFSETTO:-0800
TZNAME:PST
DTSTART:20191103T090000
END:STANDARD
END:VTIMEZONE
BEGIN:VEVENT
DTSTART;TZID=America/Los_Angeles:20180830T130000
DTEND;TZID=America/Los_Angeles:20180830T160000
DTSTAMP:20260424T062226
CREATED:20180829T222616Z
LAST-MODIFIED:20180829T222616Z
UID:7958-1535634000-1535644800@nohowest.org
SUMMARY:Que Ricos Grand Opening
DESCRIPTION:Gustavo Castillo\, owner and CEO of Que Ricos has given his delicious establishment a face lift…and it looks beautiful! The Universal City North Hollywood Chamber is so proud of Gustavo and Que Ricos that they’re throwing a party…a grand Re-Opening!! \nThis is a FREE event!! \nWHEN -Thursday\, August 30th\, 2018 1 P.M. – 4 P.M\,\nWhere – 12940 Victory Blvd\, North Hollywood\, California\nRSVP at our Chamber office 818-508-5155
URL:https://nohowest.org/calendar/que-ricos-grand-opening/
LOCATION:Que Ricos\, 12940 Victory Blvd\, Valley Glen
CATEGORIES:Community Events
GEO:34.1864624;-118.4153055
X-APPLE-STRUCTURED-LOCATION;VALUE=URI;X-ADDRESS=Que Ricos 12940 Victory Blvd Valley Glen;X-APPLE-RADIUS=500;X-TITLE=12940 Victory Blvd:geo:-118.4153055,34.1864624
END:VEVENT
END:VCALENDAR