BEGIN:VCALENDAR
VERSION:2.0
PRODID:-//NoHowest.org - ECPv6.15.16//NONSGML v1.0//EN
CALSCALE:GREGORIAN
METHOD:PUBLISH
X-WR-CALNAME:NoHowest.org
X-ORIGINAL-URL:https://nohowest.org
X-WR-CALDESC:Events for NoHowest.org
REFRESH-INTERVAL;VALUE=DURATION:PT1H
X-Robots-Tag:noindex
X-PUBLISHED-TTL:PT1H
BEGIN:VTIMEZONE
TZID:America/Los_Angeles
BEGIN:DAYLIGHT
TZOFFSETFROM:-0800
TZOFFSETTO:-0700
TZNAME:PDT
DTSTART:20180311T100000
END:DAYLIGHT
BEGIN:STANDARD
TZOFFSETFROM:-0700
TZOFFSETTO:-0800
TZNAME:PST
DTSTART:20181104T090000
END:STANDARD
BEGIN:DAYLIGHT
TZOFFSETFROM:-0800
TZOFFSETTO:-0700
TZNAME:PDT
DTSTART:20190310T100000
END:DAYLIGHT
BEGIN:STANDARD
TZOFFSETFROM:-0700
TZOFFSETTO:-0800
TZNAME:PST
DTSTART:20191103T090000
END:STANDARD
BEGIN:DAYLIGHT
TZOFFSETFROM:-0800
TZOFFSETTO:-0700
TZNAME:PDT
DTSTART:20200308T100000
END:DAYLIGHT
BEGIN:STANDARD
TZOFFSETFROM:-0700
TZOFFSETTO:-0800
TZNAME:PST
DTSTART:20201101T090000
END:STANDARD
END:VTIMEZONE
BEGIN:VEVENT
DTSTART;TZID=America/Los_Angeles:20190129T073000
DTEND;TZID=America/Los_Angeles:20190129T090000
DTSTAMP:20260424T033724
CREATED:20190115T213730Z
LAST-MODIFIED:20190115T213730Z
UID:8288-1548747000-1548752400@nohowest.org
SUMMARY:Universal City North Hollywood Networking Breakfast
DESCRIPTION:First one of the New Year and we’re starting things off with a BANG!! How many times have you set New Year resolutions in January…only to blow them in February…and never get back on track?\nWe have the answer to this dilemma with a motivational presentation from Terri Jackson\, “imagineer” for the Disney Company\, who will show us how to stay motivated in our personal and professional lives. We’re at Red Moon Cafe to start 2019! \nWHEN: Tuesday\, January 29th \nTIME: 7:30 A.M. – 9 A.M. \nWHERE – Red Moon Cafe 12516 Riverside Dr. Valley Village \nCOST: $15 Pre-Pay $17 at the door\nClick this link to pre-pay…all pre-pays MUST be received by Thursday\, January 24th 2019 \nhttp://noho.org/networking-breakfasts/
URL:https://nohowest.org/calendar/universal-city-north-hollywood-networking-breakfast/
LOCATION:Red Moon Cafe\, 12516 Riverside Dr.\, Valley Village
CATEGORIES:Community Events
GEO:34.1574199;-118.4058431
X-APPLE-STRUCTURED-LOCATION;VALUE=URI;X-ADDRESS=Red Moon Cafe 12516 Riverside Dr. Valley Village;X-APPLE-RADIUS=500;X-TITLE=12516 Riverside Dr.:geo:-118.4058431,34.1574199
END:VEVENT
END:VCALENDAR