BEGIN:VCALENDAR
VERSION:2.0
PRODID:-//NoHowest.org - ECPv6.15.16//NONSGML v1.0//EN
CALSCALE:GREGORIAN
METHOD:PUBLISH
X-ORIGINAL-URL:https://nohowest.org
X-WR-CALDESC:Events for NoHowest.org
REFRESH-INTERVAL;VALUE=DURATION:PT1H
X-Robots-Tag:noindex
X-PUBLISHED-TTL:PT1H
BEGIN:VTIMEZONE
TZID:America/Los_Angeles
BEGIN:DAYLIGHT
TZOFFSETFROM:-0800
TZOFFSETTO:-0700
TZNAME:PDT
DTSTART:20190310T100000
END:DAYLIGHT
BEGIN:STANDARD
TZOFFSETFROM:-0700
TZOFFSETTO:-0800
TZNAME:PST
DTSTART:20191103T090000
END:STANDARD
BEGIN:DAYLIGHT
TZOFFSETFROM:-0800
TZOFFSETTO:-0700
TZNAME:PDT
DTSTART:20200308T100000
END:DAYLIGHT
BEGIN:STANDARD
TZOFFSETFROM:-0700
TZOFFSETTO:-0800
TZNAME:PST
DTSTART:20201101T090000
END:STANDARD
BEGIN:DAYLIGHT
TZOFFSETFROM:-0800
TZOFFSETTO:-0700
TZNAME:PDT
DTSTART:20210314T100000
END:DAYLIGHT
BEGIN:STANDARD
TZOFFSETFROM:-0700
TZOFFSETTO:-0800
TZNAME:PST
DTSTART:20211107T090000
END:STANDARD
END:VTIMEZONE
BEGIN:VEVENT
DTSTART;TZID=America/Los_Angeles:20201111T083000
DTEND;TZID=America/Los_Angeles:20201111T110000
DTSTAMP:20260424T140005
CREATED:20201103T035951Z
LAST-MODIFIED:20201103T035951Z
UID:9769-1605083400-1605092400@nohowest.org
SUMMARY:Celebrating Veterans
DESCRIPTION:Veterans are invited to come and pick up a gift box as a thank you for your service. Please sign up at LAMayor.org/VeteransDay2020
URL:https://nohowest.org/calendar/celebrating-veterans/
LOCATION:Ritchie Valens Recreation Center\, 10736 Laurel Canyon Blvd.\, Pacoima\, 91331
CATEGORIES:Community Events
GEO:34.2656304;-118.4385355
X-APPLE-STRUCTURED-LOCATION;VALUE=URI;X-ADDRESS=Ritchie Valens Recreation Center 10736 Laurel Canyon Blvd. Pacoima 91331;X-APPLE-RADIUS=500;X-TITLE=10736 Laurel Canyon Blvd.:geo:-118.4385355,34.2656304
END:VEVENT
END:VCALENDAR