BEGIN:VCALENDAR
VERSION:2.0
PRODID:-//NoHowest.org - ECPv6.15.16//NONSGML v1.0//EN
CALSCALE:GREGORIAN
METHOD:PUBLISH
X-WR-CALNAME:NoHowest.org
X-ORIGINAL-URL:https://nohowest.org
X-WR-CALDESC:Events for NoHowest.org
REFRESH-INTERVAL;VALUE=DURATION:PT1H
X-Robots-Tag:noindex
X-PUBLISHED-TTL:PT1H
BEGIN:VTIMEZONE
TZID:America/Los_Angeles
BEGIN:DAYLIGHT
TZOFFSETFROM:-0800
TZOFFSETTO:-0700
TZNAME:PDT
DTSTART:20190310T100000
END:DAYLIGHT
BEGIN:STANDARD
TZOFFSETFROM:-0700
TZOFFSETTO:-0800
TZNAME:PST
DTSTART:20191103T090000
END:STANDARD
BEGIN:DAYLIGHT
TZOFFSETFROM:-0800
TZOFFSETTO:-0700
TZNAME:PDT
DTSTART:20200308T100000
END:DAYLIGHT
BEGIN:STANDARD
TZOFFSETFROM:-0700
TZOFFSETTO:-0800
TZNAME:PST
DTSTART:20201101T090000
END:STANDARD
BEGIN:DAYLIGHT
TZOFFSETFROM:-0800
TZOFFSETTO:-0700
TZNAME:PDT
DTSTART:20210314T100000
END:DAYLIGHT
BEGIN:STANDARD
TZOFFSETFROM:-0700
TZOFFSETTO:-0800
TZNAME:PST
DTSTART:20211107T090000
END:STANDARD
END:VTIMEZONE
BEGIN:VEVENT
DTSTART;TZID=America/Los_Angeles:20200227T160000
DTEND;TZID=America/Los_Angeles:20200227T190000
DTSTAMP:20260424T151826
CREATED:20200226T192916Z
LAST-MODIFIED:20200226T192916Z
UID:9092-1582819200-1582830000@nohowest.org
SUMMARY:Metro NextGen Bus Plan Workshop
DESCRIPTION:February 27\, 4 to 7 pm\nRose Goldwater Community Center\n21710 Vanowen St\nCanoga Park\, 91303 \nMetro is hosting NextGen Bus Plan workshops to share proposed bus line changes and system upgrades to the bus network. The newly redesigned bus plan will provide LA County residents improved services\, shorter walking distance to bus stops and faster travel. For more workshop dates and information\, please visit https://www.metro.net/projects/nextgen/. Come to the workshop and find out their plans to accomplish these big goals!
URL:https://nohowest.org/calendar/metro-nextgen-bus-plan-workshop/
LOCATION:Rose Goldwater Community Center\, 21710 Vanowen St\, Canoga Park\, 91303
CATEGORIES:Community Events
GEO:34.1934986;-118.6022741
X-APPLE-STRUCTURED-LOCATION;VALUE=URI;X-ADDRESS=Rose Goldwater Community Center 21710 Vanowen St Canoga Park 91303;X-APPLE-RADIUS=500;X-TITLE=21710 Vanowen St:geo:-118.6022741,34.1934986
END:VEVENT
END:VCALENDAR