BEGIN:VCALENDAR
VERSION:2.0
PRODID:-//NoHowest.org - ECPv6.15.16//NONSGML v1.0//EN
CALSCALE:GREGORIAN
METHOD:PUBLISH
X-ORIGINAL-URL:https://nohowest.org
X-WR-CALDESC:Events for NoHowest.org
REFRESH-INTERVAL;VALUE=DURATION:PT1H
X-Robots-Tag:noindex
X-PUBLISHED-TTL:PT1H
BEGIN:VTIMEZONE
TZID:America/Los_Angeles
BEGIN:DAYLIGHT
TZOFFSETFROM:-0800
TZOFFSETTO:-0700
TZNAME:PDT
DTSTART:20160313T100000
END:DAYLIGHT
BEGIN:STANDARD
TZOFFSETFROM:-0700
TZOFFSETTO:-0800
TZNAME:PST
DTSTART:20161106T090000
END:STANDARD
BEGIN:DAYLIGHT
TZOFFSETFROM:-0800
TZOFFSETTO:-0700
TZNAME:PDT
DTSTART:20170312T100000
END:DAYLIGHT
BEGIN:STANDARD
TZOFFSETFROM:-0700
TZOFFSETTO:-0800
TZNAME:PST
DTSTART:20171105T090000
END:STANDARD
BEGIN:DAYLIGHT
TZOFFSETFROM:-0800
TZOFFSETTO:-0700
TZNAME:PDT
DTSTART:20180311T100000
END:DAYLIGHT
BEGIN:STANDARD
TZOFFSETFROM:-0700
TZOFFSETTO:-0800
TZNAME:PST
DTSTART:20181104T090000
END:STANDARD
END:VTIMEZONE
BEGIN:VEVENT
DTSTART;TZID=America/Los_Angeles:20171102T180000
DTEND;TZID=America/Los_Angeles:20171102T203000
DTSTAMP:20260424T045947
CREATED:20171102T161806Z
LAST-MODIFIED:20171102T161806Z
UID:6887-1509645600-1509654600@nohowest.org
SUMMARY:City Planning Near the Orange Line: Open House
DESCRIPTION:The City of Los Angeles Department of City Planning is exploring ideas to encourage vibrant communities and employment hubs around the region’s growing transit network through the Los Angeles Transit Neighborhood Plans (LATNP) program. The planning effort looks out to the year 2040 and considers how new land use and zoning regulations for the neighborhoods around five Orange Line stations can promote active\, walkable places and achieve State objectives to reduce greenhouse gas emissions by planning for growth near transit. At these open houses\, the community will have an opportunity to learn about: \n\nCommunity input received at workshops held in July 2016\nHow community input is being incorporated into the initial concepts\nWhat the next steps in the planning process are\n\nBoth meetings will consist of an overview presentation\, followed by an open house featuring stations covering each geographic area. Drop in any time during the open house to learn about the plan and provide feedback. \n\n\n\nNovember 2\, 2017\nSan Fernando Valley Arts & Culture Center\n6:30 pm – 8:30 PM\n18312 Oxnard St\nLA\, CA 91356\n\nNovember 15\, 2017\n6:00 PM – 8:30 PM\nVan Nuys City Hall\nCouncil Chanbers\, 2nd Floor\n14410 Sylvan St\nVan Nuys\, CA 91401\n\n\n\nIf you are unable to attend a meeting\, visit www.latnp.org to: \n\nView materials and learn about the planning effort\nProvide feedback and ideas\nSign up for the interest list\n\nFor more information contact please contact Laura Krawczyk at Laura.Krawczyk@lacity.org or call (213) 978-1212.
URL:https://nohowest.org/calendar/city-planning-near-the-orange-line-open-house/
LOCATION:San Fernando Valley Arts & Culture Center\, 18312 Oxnard St\, 91356
CATEGORIES:Community Events
GEO:34.1796212;-118.5314765
X-APPLE-STRUCTURED-LOCATION;VALUE=URI;X-ADDRESS=San Fernando Valley Arts & Culture Center 18312 Oxnard St 91356;X-APPLE-RADIUS=500;X-TITLE=18312 Oxnard St:geo:-118.5314765,34.1796212
END:VEVENT
END:VCALENDAR