BEGIN:VCALENDAR
VERSION:2.0
PRODID:-//NoHowest.org - ECPv6.15.16//NONSGML v1.0//EN
CALSCALE:GREGORIAN
METHOD:PUBLISH
X-WR-CALNAME:NoHowest.org
X-ORIGINAL-URL:https://nohowest.org
X-WR-CALDESC:Events for NoHowest.org
REFRESH-INTERVAL;VALUE=DURATION:PT1H
X-Robots-Tag:noindex
X-PUBLISHED-TTL:PT1H
BEGIN:VTIMEZONE
TZID:America/Los_Angeles
BEGIN:DAYLIGHT
TZOFFSETFROM:-0800
TZOFFSETTO:-0700
TZNAME:PDT
DTSTART:20140309T100000
END:DAYLIGHT
BEGIN:STANDARD
TZOFFSETFROM:-0700
TZOFFSETTO:-0800
TZNAME:PST
DTSTART:20141102T090000
END:STANDARD
BEGIN:DAYLIGHT
TZOFFSETFROM:-0800
TZOFFSETTO:-0700
TZNAME:PDT
DTSTART:20150308T100000
END:DAYLIGHT
BEGIN:STANDARD
TZOFFSETFROM:-0700
TZOFFSETTO:-0800
TZNAME:PST
DTSTART:20151101T090000
END:STANDARD
BEGIN:DAYLIGHT
TZOFFSETFROM:-0800
TZOFFSETTO:-0700
TZNAME:PDT
DTSTART:20160313T100000
END:DAYLIGHT
BEGIN:STANDARD
TZOFFSETFROM:-0700
TZOFFSETTO:-0800
TZNAME:PST
DTSTART:20161106T090000
END:STANDARD
END:VTIMEZONE
BEGIN:VEVENT
DTSTART;TZID=America/Los_Angeles:20150909T170000
DTEND;TZID=America/Los_Angeles:20150909T190000
DTSTAMP:20260424T052401
CREATED:20150825T014200Z
LAST-MODIFIED:20150825T014310Z
UID:5091-1441818000-1441825200@nohowest.org
SUMMARY:Housing for Homeless
DESCRIPTION:  \nConcerned about homelessness in the Valley. Come be part of the solution:
URL:https://nohowest.org/calendar/housing-for-homeless/
LOCATION:San Fernando Valley Rescue Mission\, 8756 Canby Ave.\, Northridge
CATEGORIES:Community Events
GEO:34.230303;-118.534462
X-APPLE-STRUCTURED-LOCATION;VALUE=URI;X-ADDRESS=San Fernando Valley Rescue Mission 8756 Canby Ave. Northridge;X-APPLE-RADIUS=500;X-TITLE=8756 Canby Ave.:geo:-118.534462,34.230303
END:VEVENT
END:VCALENDAR