BEGIN:VCALENDAR
VERSION:2.0
PRODID:-//NoHowest.org - ECPv6.15.16//NONSGML v1.0//EN
CALSCALE:GREGORIAN
METHOD:PUBLISH
X-WR-CALNAME:NoHowest.org
X-ORIGINAL-URL:https://nohowest.org
X-WR-CALDESC:Events for NoHowest.org
REFRESH-INTERVAL;VALUE=DURATION:PT1H
X-Robots-Tag:noindex
X-PUBLISHED-TTL:PT1H
BEGIN:VTIMEZONE
TZID:America/Los_Angeles
BEGIN:DAYLIGHT
TZOFFSETFROM:-0800
TZOFFSETTO:-0700
TZNAME:PDT
DTSTART:20170312T100000
END:DAYLIGHT
BEGIN:STANDARD
TZOFFSETFROM:-0700
TZOFFSETTO:-0800
TZNAME:PST
DTSTART:20171105T090000
END:STANDARD
BEGIN:DAYLIGHT
TZOFFSETFROM:-0800
TZOFFSETTO:-0700
TZNAME:PDT
DTSTART:20180311T100000
END:DAYLIGHT
BEGIN:STANDARD
TZOFFSETFROM:-0700
TZOFFSETTO:-0800
TZNAME:PST
DTSTART:20181104T090000
END:STANDARD
BEGIN:DAYLIGHT
TZOFFSETFROM:-0800
TZOFFSETTO:-0700
TZNAME:PDT
DTSTART:20190310T100000
END:DAYLIGHT
BEGIN:STANDARD
TZOFFSETFROM:-0700
TZOFFSETTO:-0800
TZNAME:PST
DTSTART:20191103T090000
END:STANDARD
BEGIN:DAYLIGHT
TZOFFSETFROM:-0800
TZOFFSETTO:-0700
TZNAME:PDT
DTSTART:20200308T100000
END:DAYLIGHT
BEGIN:STANDARD
TZOFFSETFROM:-0700
TZOFFSETTO:-0800
TZNAME:PST
DTSTART:20201101T090000
END:STANDARD
END:VTIMEZONE
BEGIN:VEVENT
DTSTART;TZID=America/Los_Angeles:20190516T150000
DTEND;TZID=America/Los_Angeles:20190516T200000
DTSTAMP:20260423T212428
CREATED:20190410T171030Z
LAST-MODIFIED:20190509T173644Z
UID:8515-1558018800-1558036800@nohowest.org
SUMMARY:NoHo West Elections
DESCRIPTION:Come vote in our Elections! \nCertified Candidate List \nCandidate Photos and Statements \nAt Large (2 seats) \n\nErica L. Bashaw\nFreddy Cupen-Ames\n\nCommunity Based Organizations (1 seat) \n\nLorraine Matza\n\nResident (1 seat) \n\nCharles Savinar\nGreg Wright\n\nSenior / Youth (1 seat) \n\nCarol Rose
URL:https://nohowest.org/calendar/noho-west-elections-2/
LOCATION:Saticoy Elementary Multipurpose Room\, 7850 Ethel Avenue\, North Hollywood\, CA\, 91605
CATEGORIES:General Board
ATTACH;FMTTYPE=image/jpeg:https://nohowest.org/wp-content/uploads/2019/04/vote2019.jpg
GEO:34.212868;-118.415578
X-APPLE-STRUCTURED-LOCATION;VALUE=URI;X-ADDRESS=Saticoy Elementary Multipurpose Room 7850 Ethel Avenue North Hollywood CA 91605;X-APPLE-RADIUS=500;X-TITLE=7850 Ethel Avenue:geo:-118.415578,34.212868
END:VEVENT
BEGIN:VEVENT
DTSTART;TZID=America/Los_Angeles:20190514T190000
DTEND;TZID=America/Los_Angeles:20190514T200000
DTSTAMP:20260423T212428
CREATED:20181126T214657Z
LAST-MODIFIED:20190510T175424Z
UID:8444-1557860400-1557864000@nohowest.org
SUMMARY:Executive Committee Meeting
DESCRIPTION:
URL:https://nohowest.org/calendar/executive-committee-meeting-20-2019-05-21/
LOCATION:Saticoy Elementary Multipurpose Room\, 7850 Ethel Avenue\, North Hollywood\, CA\, 91605
CATEGORIES:Committee Meeting
GEO:34.212868;-118.415578
X-APPLE-STRUCTURED-LOCATION;VALUE=URI;X-ADDRESS=Saticoy Elementary Multipurpose Room 7850 Ethel Avenue North Hollywood CA 91605;X-APPLE-RADIUS=500;X-TITLE=7850 Ethel Avenue:geo:-118.415578,34.212868
END:VEVENT
BEGIN:VEVENT
DTSTART;TZID=America/Los_Angeles:20190424T190000
DTEND;TZID=America/Los_Angeles:20190424T210000
DTSTAMP:20260423T212428
CREATED:20181126T214058Z
LAST-MODIFIED:20190423T173408Z
UID:8435-1556132400-1556139600@nohowest.org
SUMMARY:NoHo West Board Meeting
DESCRIPTION:Join us for our next NoHo West Board Meeting Wednesday\, April 24\, 7pm at the Saticoy Elementary School Auditorium\, 7850 Ethel Ave. \nYou will have an opportunity to Meet the Candidates in our upcoming election which is scheduled for May 16. Please come and bring your questions! \nApril 24\, 2019 Meeting Agenda \nThe Board meets the 4th Wednesday of the month\, 7pm at \nSaticoy Elementary\n7850 Ethel Ave.\nNorth Hollywood\, CA 91605
URL:https://nohowest.org/calendar/noho-west-board-meeting-5-2019-03-27-2019-04-24/
LOCATION:Saticoy Elementary Multipurpose Room\, 7850 Ethel Avenue\, North Hollywood\, CA\, 91605
CATEGORIES:General Board
GEO:34.212868;-118.415578
X-APPLE-STRUCTURED-LOCATION;VALUE=URI;X-ADDRESS=Saticoy Elementary Multipurpose Room 7850 Ethel Avenue North Hollywood CA 91605;X-APPLE-RADIUS=500;X-TITLE=7850 Ethel Avenue:geo:-118.415578,34.212868
END:VEVENT
BEGIN:VEVENT
DTSTART;TZID=America/Los_Angeles:20190416T190000
DTEND;TZID=America/Los_Angeles:20190416T200000
DTSTAMP:20260423T212428
CREATED:20181126T214657Z
LAST-MODIFIED:20190416T061209Z
UID:8443-1555441200-1555444800@nohowest.org
SUMMARY:Executive Committee Meeting-Cancelled
DESCRIPTION:
URL:https://nohowest.org/calendar/executive-committee-meeting-20-2019-04-16/
LOCATION:Saticoy Elementary Multipurpose Room\, 7850 Ethel Avenue\, North Hollywood\, CA\, 91605
CATEGORIES:Committee Meeting
GEO:34.212868;-118.415578
X-APPLE-STRUCTURED-LOCATION;VALUE=URI;X-ADDRESS=Saticoy Elementary Multipurpose Room 7850 Ethel Avenue North Hollywood CA 91605;X-APPLE-RADIUS=500;X-TITLE=7850 Ethel Avenue:geo:-118.415578,34.212868
END:VEVENT
BEGIN:VEVENT
DTSTART;TZID=America/Los_Angeles:20190327T190000
DTEND;TZID=America/Los_Angeles:20190327T210000
DTSTAMP:20260423T212428
CREATED:20181126T214058Z
LAST-MODIFIED:20190324T143628Z
UID:8181-1553713200-1553720400@nohowest.org
SUMMARY:NoHo West Board Meeting
DESCRIPTION:Join us for our next NoHo West Board Meeting Wednesday\, March 27\, 7pm at the Saticoy Elementary School Auditorium\, 7850 Ethel Ave. \nWe will discuss an alcohol license for an existing Ax Throwing venue at 7308 Coldwater Canyon and various funding motions. \nMarch 27\, 2019 Board Agenda \nThe Board meets the 4th Wednesday of the month\, 7pm at \nSaticoy Elementary\n7850 Ethel Ave.\nNorth Hollywood\, CA 91605
URL:https://nohowest.org/calendar/noho-west-board-meeting-5-2019-03-27/
LOCATION:Saticoy Elementary Multipurpose Room\, 7850 Ethel Avenue\, North Hollywood\, CA\, 91605
CATEGORIES:General Board
GEO:34.212868;-118.415578
X-APPLE-STRUCTURED-LOCATION;VALUE=URI;X-ADDRESS=Saticoy Elementary Multipurpose Room 7850 Ethel Avenue North Hollywood CA 91605;X-APPLE-RADIUS=500;X-TITLE=7850 Ethel Avenue:geo:-118.415578,34.212868
END:VEVENT
BEGIN:VEVENT
DTSTART;TZID=America/Los_Angeles:20190318T190000
DTEND;TZID=America/Los_Angeles:20190318T200000
DTSTAMP:20260423T212428
CREATED:20181126T214657Z
LAST-MODIFIED:20190318T165049Z
UID:8442-1552935600-1552939200@nohowest.org
SUMMARY:Executive Committee Meeting
DESCRIPTION:NOHO WEST NC Joint Executive com and Board Mtg. Agenda 03-18-19
URL:https://nohowest.org/calendar/executive-committee-meeting-20-2019-03-19/
LOCATION:Saticoy Elementary Multipurpose Room\, 7850 Ethel Avenue\, North Hollywood\, CA\, 91605
CATEGORIES:Committee Meeting
GEO:34.212868;-118.415578
X-APPLE-STRUCTURED-LOCATION;VALUE=URI;X-ADDRESS=Saticoy Elementary Multipurpose Room 7850 Ethel Avenue North Hollywood CA 91605;X-APPLE-RADIUS=500;X-TITLE=7850 Ethel Avenue:geo:-118.415578,34.212868
END:VEVENT
BEGIN:VEVENT
DTSTART;TZID=America/Los_Angeles:20190227T183000
DTEND;TZID=America/Los_Angeles:20190227T210000
DTSTAMP:20260423T212428
CREATED:20181126T214058Z
LAST-MODIFIED:20190226T233316Z
UID:8180-1551292200-1551301200@nohowest.org
SUMMARY:NoHo West Board Meeting
DESCRIPTION:Join us for our next meeting on Wednesday\, February 27\, 6:30pm at Saticoy Elementary Auditorium\, 7850 Ethel Ave. We plan to approve funding for summer movie nights\, election events\, Easter in the park and more. \n2019-0227-Agenda \nThe Board meets the 4th Wednesday of the month\, 6:30pm at \nSaticoy Elementary\n7850 Ethel Ave.\nNorth Hollywood\, CA 91605
URL:https://nohowest.org/calendar/noho-west-board-meeting-5-2019-02-27/
LOCATION:Saticoy Elementary Multipurpose Room\, 7850 Ethel Avenue\, North Hollywood\, CA\, 91605
CATEGORIES:General Board
GEO:34.212868;-118.415578
X-APPLE-STRUCTURED-LOCATION;VALUE=URI;X-ADDRESS=Saticoy Elementary Multipurpose Room 7850 Ethel Avenue North Hollywood CA 91605;X-APPLE-RADIUS=500;X-TITLE=7850 Ethel Avenue:geo:-118.415578,34.212868
END:VEVENT
BEGIN:VEVENT
DTSTART;TZID=America/Los_Angeles:20190219T183000
DTEND;TZID=America/Los_Angeles:20190219T200000
DTSTAMP:20260423T212428
CREATED:20181126T214657Z
LAST-MODIFIED:20190221T174837Z
UID:8195-1550601000-1550606400@nohowest.org
SUMMARY:Executive Committee Meeting-Cancelled
DESCRIPTION:
URL:https://nohowest.org/calendar/executive-committee-meeting-20-2019-02-19/
LOCATION:Saticoy Elementary Multipurpose Room\, 7850 Ethel Avenue\, North Hollywood\, CA\, 91605
CATEGORIES:Committee Meeting
GEO:34.212868;-118.415578
X-APPLE-STRUCTURED-LOCATION;VALUE=URI;X-ADDRESS=Saticoy Elementary Multipurpose Room 7850 Ethel Avenue North Hollywood CA 91605;X-APPLE-RADIUS=500;X-TITLE=7850 Ethel Avenue:geo:-118.415578,34.212868
END:VEVENT
BEGIN:VEVENT
DTSTART;TZID=America/Los_Angeles:20190123T183000
DTEND;TZID=America/Los_Angeles:20190123T210000
DTSTAMP:20260423T212428
CREATED:20181126T214058Z
LAST-MODIFIED:20190115T214429Z
UID:8178-1548268200-1548277200@nohowest.org
SUMMARY:NoHo West Board Meeting-Cancelled
DESCRIPTION:The Board meets the 4th Wednesday of the month\, 6:30pm at \nSaticoy Elementary\n7850 Ethel Ave.\nNorth Hollywood\, CA 91605
URL:https://nohowest.org/calendar/noho-west-board-meeting-5/
LOCATION:Saticoy Elementary Multipurpose Room\, 7850 Ethel Avenue\, North Hollywood\, CA\, 91605
CATEGORIES:General Board
GEO:34.212868;-118.415578
X-APPLE-STRUCTURED-LOCATION;VALUE=URI;X-ADDRESS=Saticoy Elementary Multipurpose Room 7850 Ethel Avenue North Hollywood CA 91605;X-APPLE-RADIUS=500;X-TITLE=7850 Ethel Avenue:geo:-118.415578,34.212868
END:VEVENT
BEGIN:VEVENT
DTSTART;TZID=America/Los_Angeles:20190115T190000
DTEND;TZID=America/Los_Angeles:20190115T200000
DTSTAMP:20260423T212428
CREATED:20181126T214657Z
LAST-MODIFIED:20190315T051957Z
UID:8193-1547578800-1547582400@nohowest.org
SUMMARY:Executive Committee Meeting
DESCRIPTION:
URL:https://nohowest.org/calendar/executive-committee-meeting-20/2019-01-15/
LOCATION:Saticoy Elementary Multipurpose Room\, 7850 Ethel Avenue\, North Hollywood\, CA\, 91605
CATEGORIES:Committee Meeting
GEO:34.212868;-118.415578
X-APPLE-STRUCTURED-LOCATION;VALUE=URI;X-ADDRESS=Saticoy Elementary Multipurpose Room 7850 Ethel Avenue North Hollywood CA 91605;X-APPLE-RADIUS=500;X-TITLE=7850 Ethel Avenue:geo:-118.415578,34.212868
END:VEVENT
BEGIN:VEVENT
DTSTART;TZID=America/Los_Angeles:20190109T183000
DTEND;TZID=America/Los_Angeles:20190109T193000
DTSTAMP:20260423T212428
CREATED:20190107T222544Z
LAST-MODIFIED:20190107T222544Z
UID:8259-1547058600-1547062200@nohowest.org
SUMMARY:Special Board Meeting
DESCRIPTION:Join us for a Special Board Meeting on Wednesday\, January 9\, 6:30pm at the Saticoy Elementary Auditorium\, 7850 Ethel Ave. \nWe will discuss: \n\nMartin Luther King Day Tree Planting Event\nRepair of irrigation system and security lights near Whitsett Mural\n\nJanuary 9\, 2019 Special Board Agenda
URL:https://nohowest.org/calendar/special-board-meeting-5/
LOCATION:Saticoy Elementary Multipurpose Room\, 7850 Ethel Avenue\, North Hollywood\, CA\, 91605
CATEGORIES:General Board
GEO:34.212868;-118.415578
X-APPLE-STRUCTURED-LOCATION;VALUE=URI;X-ADDRESS=Saticoy Elementary Multipurpose Room 7850 Ethel Avenue North Hollywood CA 91605;X-APPLE-RADIUS=500;X-TITLE=7850 Ethel Avenue:geo:-118.415578,34.212868
END:VEVENT
BEGIN:VEVENT
DTSTART;TZID=America/Los_Angeles:20181219T183000
DTEND;TZID=America/Los_Angeles:20181219T210000
DTSTAMP:20260423T212428
CREATED:20171214T175913Z
LAST-MODIFIED:20181205T201726Z
UID:7002-1545244200-1545253200@nohowest.org
SUMMARY:Board Meeting-Cancelled
DESCRIPTION:The Board meets the 4th Wednesday of the month\, 6:30pm at \nSaticoy Elementary\n7850 Ethel Ave.\nNorth Hollywood\, CA 91605
URL:https://nohowest.org/calendar/board-meeting-5-2018-12-26/
LOCATION:Saticoy Elementary Multipurpose Room\, 7850 Ethel Avenue\, North Hollywood\, CA\, 91605
CATEGORIES:General Board
GEO:34.212868;-118.415578
X-APPLE-STRUCTURED-LOCATION;VALUE=URI;X-ADDRESS=Saticoy Elementary Multipurpose Room 7850 Ethel Avenue North Hollywood CA 91605;X-APPLE-RADIUS=500;X-TITLE=7850 Ethel Avenue:geo:-118.415578,34.212868
END:VEVENT
BEGIN:VEVENT
DTSTART;TZID=America/Los_Angeles:20181128T183000
DTEND;TZID=America/Los_Angeles:20181128T210000
DTSTAMP:20260423T212428
CREATED:20171214T175913Z
LAST-MODIFIED:20181126T174419Z
UID:7001-1543429800-1543438800@nohowest.org
SUMMARY:Board Meeting
DESCRIPTION:Join us for our next Board Meeting on Wednesday\, November 28\, 6:30pm at Saticoy Elementary Auditorium\, 7850 Ethel Ave. \nOur agenda includes: \n\nSending a letter to state representatives regarding excessive vehicle exhaust noise\nBackyard homes project\nSupporting Hope of the Valley Christmas Dinner and LAPD Safety Meeting\n\n2018-1128-Agenda \nThe Board meets the 4th Wednesday of the month\, 6:30pm at \nSaticoy Elementary\n7850 Ethel Ave.\nNorth Hollywood\, CA 91605
URL:https://nohowest.org/calendar/board-meeting-5-2018-11-28/
LOCATION:Saticoy Elementary Multipurpose Room\, 7850 Ethel Avenue\, North Hollywood\, CA\, 91605
CATEGORIES:General Board
GEO:34.212868;-118.415578
X-APPLE-STRUCTURED-LOCATION;VALUE=URI;X-ADDRESS=Saticoy Elementary Multipurpose Room 7850 Ethel Avenue North Hollywood CA 91605;X-APPLE-RADIUS=500;X-TITLE=7850 Ethel Avenue:geo:-118.415578,34.212868
END:VEVENT
BEGIN:VEVENT
DTSTART;TZID=America/Los_Angeles:20181024T183000
DTEND;TZID=America/Los_Angeles:20181024T210000
DTSTAMP:20260423T212428
CREATED:20171214T175913Z
LAST-MODIFIED:20181023T020107Z
UID:7000-1540405800-1540414800@nohowest.org
SUMMARY:Board Meeting
DESCRIPTION:Join us for our next NoHo West Board Meeting on Wednesday\, October 24\, 6:30pm at the Saticoy Elementary School Auditorium. \nOur Guest Speaker will be Senator Bob Hertzberg. Join us and bring your questions! \n \n2018-1022-Agenda
URL:https://nohowest.org/calendar/board-meeting-5-2018-10-24/
LOCATION:Saticoy Elementary Multipurpose Room\, 7850 Ethel Avenue\, North Hollywood\, CA\, 91605
CATEGORIES:General Board
GEO:34.212868;-118.415578
X-APPLE-STRUCTURED-LOCATION;VALUE=URI;X-ADDRESS=Saticoy Elementary Multipurpose Room 7850 Ethel Avenue North Hollywood CA 91605;X-APPLE-RADIUS=500;X-TITLE=7850 Ethel Avenue:geo:-118.415578,34.212868
END:VEVENT
BEGIN:VEVENT
DTSTART;TZID=America/Los_Angeles:20181016T183000
DTEND;TZID=America/Los_Angeles:20181016T200000
DTSTAMP:20260423T212428
CREATED:20181015T174300Z
LAST-MODIFIED:20181015T174300Z
UID:8081-1539714600-1539720000@nohowest.org
SUMMARY:Executive Committee Meeting
DESCRIPTION:The public is invited to join us as we plan our next Board Meeting. The Executive Committee meeting is on October 16\, 6:30pm at the Saticoy Elementary Auditorium\, 7850 Ethel Ave. \n2018-1016-Exec-Agenda
URL:https://nohowest.org/calendar/executive-committee-meeting-18/
LOCATION:Saticoy Elementary Multipurpose Room\, 7850 Ethel Avenue\, North Hollywood\, CA\, 91605
CATEGORIES:Committee Meeting
GEO:34.212868;-118.415578
X-APPLE-STRUCTURED-LOCATION;VALUE=URI;X-ADDRESS=Saticoy Elementary Multipurpose Room 7850 Ethel Avenue North Hollywood CA 91605;X-APPLE-RADIUS=500;X-TITLE=7850 Ethel Avenue:geo:-118.415578,34.212868
END:VEVENT
BEGIN:VEVENT
DTSTART;TZID=America/Los_Angeles:20180926T183000
DTEND;TZID=America/Los_Angeles:20180926T210000
DTSTAMP:20260423T212428
CREATED:20171214T175913Z
LAST-MODIFIED:20180924T185020Z
UID:6999-1537986600-1537995600@nohowest.org
SUMMARY:Board Meeting
DESCRIPTION:Join us for our next Board Meeting on Wednesday\, September 26\, 6:30m at Saticoy Elementary School. We will have a special presentation by Julia Heidelman of City Planning who will speak on the effort to update the community plan. \n2018-0926-Agenda \nThe Board meets the 4th Wednesday of the month\, 6:30pm at \nSaticoy Elementary\n7850 Ethel Ave.\nNorth Hollywood\, CA 91605
URL:https://nohowest.org/calendar/board-meeting-5-2018-09-26/
LOCATION:Saticoy Elementary Multipurpose Room\, 7850 Ethel Avenue\, North Hollywood\, CA\, 91605
CATEGORIES:General Board
GEO:34.212868;-118.415578
X-APPLE-STRUCTURED-LOCATION;VALUE=URI;X-ADDRESS=Saticoy Elementary Multipurpose Room 7850 Ethel Avenue North Hollywood CA 91605;X-APPLE-RADIUS=500;X-TITLE=7850 Ethel Avenue:geo:-118.415578,34.212868
END:VEVENT
BEGIN:VEVENT
DTSTART;TZID=America/Los_Angeles:20180917T183000
DTEND;TZID=America/Los_Angeles:20180917T200000
DTSTAMP:20260423T212428
CREATED:20180914T215049Z
LAST-MODIFIED:20180914T215049Z
UID:8002-1537209000-1537214400@nohowest.org
SUMMARY:Executive Commitee Meeting
DESCRIPTION:2018-0917-Exec-Agenda
URL:https://nohowest.org/calendar/executive-commitee-meeting/
LOCATION:Saticoy Elementary Multipurpose Room\, 7850 Ethel Avenue\, North Hollywood\, CA\, 91605
CATEGORIES:Committee Meeting
GEO:34.212868;-118.415578
X-APPLE-STRUCTURED-LOCATION;VALUE=URI;X-ADDRESS=Saticoy Elementary Multipurpose Room 7850 Ethel Avenue North Hollywood CA 91605;X-APPLE-RADIUS=500;X-TITLE=7850 Ethel Avenue:geo:-118.415578,34.212868
END:VEVENT
BEGIN:VEVENT
DTSTART;TZID=America/Los_Angeles:20180822T183000
DTEND;TZID=America/Los_Angeles:20180822T210000
DTSTAMP:20260423T212428
CREATED:20171214T175913Z
LAST-MODIFIED:20180817T233729Z
UID:6998-1534962600-1534971600@nohowest.org
SUMMARY:Board Meeting
DESCRIPTION:Join us for our next NoHo West Neighborhood Council Meeting Wednesday\, August 22\, 6:30pm at Saticoy Elementary School\, 7850 Ethel Ave\, North Hollywood. Our agenda includes: \n\nSponsoring a movie night September 30\nParticipating in the Valley Plaza Halloween event\nContributing to the East Valley Emergency Preparedness Summit\n\nAugust 22\, 2018 Agenda \nThe Board meets the 4th Wednesday of the month\, 6:30pm at \nSaticoy Elementary\n7850 Ethel Ave.\nNorth Hollywood\, CA 91605
URL:https://nohowest.org/calendar/board-meeting-5-2018-08-22/
LOCATION:Saticoy Elementary Multipurpose Room\, 7850 Ethel Avenue\, North Hollywood\, CA\, 91605
CATEGORIES:General Board
GEO:34.212868;-118.415578
X-APPLE-STRUCTURED-LOCATION;VALUE=URI;X-ADDRESS=Saticoy Elementary Multipurpose Room 7850 Ethel Avenue North Hollywood CA 91605;X-APPLE-RADIUS=500;X-TITLE=7850 Ethel Avenue:geo:-118.415578,34.212868
END:VEVENT
BEGIN:VEVENT
DTSTART;TZID=America/Los_Angeles:20180814T183000
DTEND;TZID=America/Los_Angeles:20180814T200000
DTSTAMP:20260423T212428
CREATED:20180810T202723Z
LAST-MODIFIED:20180810T202723Z
UID:7894-1534271400-1534276800@nohowest.org
SUMMARY:Executive Committee Meeting
DESCRIPTION:Join us for our Next Executive Committee Meeting to plan for our Board Meeting on Tuesday\, August 14\, 6:30pm at Saticoy Elementary School Auditorium\, 7850 Ethel Ave. \n2018-0814-Exec-Agenda
URL:https://nohowest.org/calendar/executive-committee-meeting-17/
LOCATION:Saticoy Elementary Multipurpose Room\, 7850 Ethel Avenue\, North Hollywood\, CA\, 91605
CATEGORIES:Committee Meeting
GEO:34.212868;-118.415578
X-APPLE-STRUCTURED-LOCATION;VALUE=URI;X-ADDRESS=Saticoy Elementary Multipurpose Room 7850 Ethel Avenue North Hollywood CA 91605;X-APPLE-RADIUS=500;X-TITLE=7850 Ethel Avenue:geo:-118.415578,34.212868
END:VEVENT
BEGIN:VEVENT
DTSTART;TZID=America/Los_Angeles:20180523T183000
DTEND;TZID=America/Los_Angeles:20180523T210000
DTSTAMP:20260423T212428
CREATED:20171214T175913Z
LAST-MODIFIED:20180523T214239Z
UID:6995-1527100200-1527109200@nohowest.org
SUMMARY:Board Meeting
DESCRIPTION:Join us Wednesday\, May 23\, 6:30pm at Saticoy Elementary for our next NoHoWest Board Meeting. \n2018-0523-Agenda \nThe Board meets the 4th Wednesday of the month\, 6:30pm at \nSaticoy Elementary\n7850 Ethel Ave.\nNorth Hollywood\, CA 91605
URL:https://nohowest.org/calendar/board-meeting-5-2018-05-23/
LOCATION:Saticoy Elementary Multipurpose Room\, 7850 Ethel Avenue\, North Hollywood\, CA\, 91605
CATEGORIES:General Board
GEO:34.212868;-118.415578
X-APPLE-STRUCTURED-LOCATION;VALUE=URI;X-ADDRESS=Saticoy Elementary Multipurpose Room 7850 Ethel Avenue North Hollywood CA 91605;X-APPLE-RADIUS=500;X-TITLE=7850 Ethel Avenue:geo:-118.415578,34.212868
END:VEVENT
BEGIN:VEVENT
DTSTART;TZID=America/Los_Angeles:20180514T180000
DTEND;TZID=America/Los_Angeles:20180514T200000
DTSTAMP:20260423T212428
CREATED:20180109T164927Z
LAST-MODIFIED:20180109T165132Z
UID:7054-1526320800-1526328000@nohowest.org
SUMMARY:Executive Committee Meeting
DESCRIPTION:
URL:https://nohowest.org/calendar/executive-committee-meeting-15-2018-05-21/
LOCATION:Saticoy Elementary Multipurpose Room\, 7850 Ethel Avenue\, North Hollywood\, CA\, 91605
CATEGORIES:Committee Meeting
GEO:34.212868;-118.415578
X-APPLE-STRUCTURED-LOCATION;VALUE=URI;X-ADDRESS=Saticoy Elementary Multipurpose Room 7850 Ethel Avenue North Hollywood CA 91605;X-APPLE-RADIUS=500;X-TITLE=7850 Ethel Avenue:geo:-118.415578,34.212868
END:VEVENT
BEGIN:VEVENT
DTSTART;TZID=America/Los_Angeles:20180425T183000
DTEND;TZID=America/Los_Angeles:20180425T210000
DTSTAMP:20260423T212428
CREATED:20171214T175913Z
LAST-MODIFIED:20180425T171526Z
UID:6994-1524681000-1524690000@nohowest.org
SUMMARY:Board Meeting
DESCRIPTION:The Board meets the 4th Wednesday of the month\, 6:30pm at \nSaticoy Elementary\n7850 Ethel Ave.\nNorth Hollywood\, CA 91605
URL:https://nohowest.org/calendar/board-meeting-5-2018-04-25/
LOCATION:Saticoy Elementary Multipurpose Room\, 7850 Ethel Avenue\, North Hollywood\, CA\, 91605
CATEGORIES:General Board
GEO:34.212868;-118.415578
X-APPLE-STRUCTURED-LOCATION;VALUE=URI;X-ADDRESS=Saticoy Elementary Multipurpose Room 7850 Ethel Avenue North Hollywood CA 91605;X-APPLE-RADIUS=500;X-TITLE=7850 Ethel Avenue:geo:-118.415578,34.212868
END:VEVENT
BEGIN:VEVENT
DTSTART;TZID=America/Los_Angeles:20180416T183000
DTEND;TZID=America/Los_Angeles:20180416T200000
DTSTAMP:20260423T212428
CREATED:20180109T164927Z
LAST-MODIFIED:20180412T030314Z
UID:7053-1523903400-1523908800@nohowest.org
SUMMARY:Executive Committee Meeting
DESCRIPTION:
URL:https://nohowest.org/calendar/executive-committee-meeting-15-2018-04-16/
LOCATION:Saticoy Elementary Multipurpose Room\, 7850 Ethel Avenue\, North Hollywood\, CA\, 91605
CATEGORIES:Committee Meeting
GEO:34.212868;-118.415578
X-APPLE-STRUCTURED-LOCATION;VALUE=URI;X-ADDRESS=Saticoy Elementary Multipurpose Room 7850 Ethel Avenue North Hollywood CA 91605;X-APPLE-RADIUS=500;X-TITLE=7850 Ethel Avenue:geo:-118.415578,34.212868
END:VEVENT
BEGIN:VEVENT
DTSTART;TZID=America/Los_Angeles:20180409T183000
DTEND;TZID=America/Los_Angeles:20180409T200000
DTSTAMP:20260423T212428
CREATED:20180405T030701Z
LAST-MODIFIED:20180405T030701Z
UID:7573-1523298600-1523304000@nohowest.org
SUMMARY:Beautification Committee Meeting
DESCRIPTION:Join us for our next Beautification Committee meeting on Monday\, April 9\, 6:30pm at Saticoy Elementary\, 7850 Ethel Ave. \n2018-0409-Beautification-Agenda
URL:https://nohowest.org/calendar/beautification-committee-meeting-6/
LOCATION:Saticoy Elementary Multipurpose Room\, 7850 Ethel Avenue\, North Hollywood\, CA\, 91605
CATEGORIES:Committee Meeting
GEO:34.212868;-118.415578
X-APPLE-STRUCTURED-LOCATION;VALUE=URI;X-ADDRESS=Saticoy Elementary Multipurpose Room 7850 Ethel Avenue North Hollywood CA 91605;X-APPLE-RADIUS=500;X-TITLE=7850 Ethel Avenue:geo:-118.415578,34.212868
END:VEVENT
BEGIN:VEVENT
DTSTART;TZID=America/Los_Angeles:20180321T183000
DTEND;TZID=America/Los_Angeles:20180321T210000
DTSTAMP:20260423T212428
CREATED:20180305T234231Z
LAST-MODIFIED:20180314T214138Z
UID:7460-1521657000-1521666000@nohowest.org
SUMMARY:Candidate Forum: Assembly District 39
DESCRIPTION:RSVP Now
URL:https://nohowest.org/calendar/candidate-forum-assembly-district-39/
LOCATION:Saticoy Elementary Multipurpose Room\, 7850 Ethel Avenue\, North Hollywood\, CA\, 91605
CATEGORIES:Community Events
GEO:34.212868;-118.415578
X-APPLE-STRUCTURED-LOCATION;VALUE=URI;X-ADDRESS=Saticoy Elementary Multipurpose Room 7850 Ethel Avenue North Hollywood CA 91605;X-APPLE-RADIUS=500;X-TITLE=7850 Ethel Avenue:geo:-118.415578,34.212868
END:VEVENT
BEGIN:VEVENT
DTSTART;TZID=America/Los_Angeles:20180319T180000
DTEND;TZID=America/Los_Angeles:20180319T200000
DTSTAMP:20260423T212428
CREATED:20180109T164927Z
LAST-MODIFIED:20180109T164928Z
UID:7051-1521482400-1521489600@nohowest.org
SUMMARY:Executive Committee Meeting
DESCRIPTION:
URL:https://nohowest.org/calendar/executive-committee-meeting-15/2018-03-19/
LOCATION:Saticoy Elementary Multipurpose Room\, 7850 Ethel Avenue\, North Hollywood\, CA\, 91605
CATEGORIES:Committee Meeting
GEO:34.212868;-118.415578
X-APPLE-STRUCTURED-LOCATION;VALUE=URI;X-ADDRESS=Saticoy Elementary Multipurpose Room 7850 Ethel Avenue North Hollywood CA 91605;X-APPLE-RADIUS=500;X-TITLE=7850 Ethel Avenue:geo:-118.415578,34.212868
END:VEVENT
BEGIN:VEVENT
DTSTART;TZID=America/Los_Angeles:20180307T183000
DTEND;TZID=America/Los_Angeles:20180307T203000
DTSTAMP:20260423T212428
CREATED:20180307T044912Z
LAST-MODIFIED:20180307T044912Z
UID:7474-1520447400-1520454600@nohowest.org
SUMMARY:Special Board Meeting
DESCRIPTION:Agenda
URL:https://nohowest.org/calendar/special-board-meeting-4/
LOCATION:Saticoy Elementary Multipurpose Room\, 7850 Ethel Avenue\, North Hollywood\, CA\, 91605
CATEGORIES:General Board
GEO:34.212868;-118.415578
X-APPLE-STRUCTURED-LOCATION;VALUE=URI;X-ADDRESS=Saticoy Elementary Multipurpose Room 7850 Ethel Avenue North Hollywood CA 91605;X-APPLE-RADIUS=500;X-TITLE=7850 Ethel Avenue:geo:-118.415578,34.212868
END:VEVENT
BEGIN:VEVENT
DTSTART;TZID=America/Los_Angeles:20180228T180000
DTEND;TZID=America/Los_Angeles:20180228T210000
DTSTAMP:20260423T212428
CREATED:20171214T175913Z
LAST-MODIFIED:20180227T002315Z
UID:6992-1519840800-1519851600@nohowest.org
SUMMARY:Board Meeting
DESCRIPTION:The Board meets the 4th Wednesday of the month\, 6:30pm. NOTE EARLY START TIME FOR THIS MEETING. \nSaticoy Elementary\n7850 Ethel Ave.\nNorth Hollywood\, CA 91605 \nAgendized items include various funding motions\, notice on intent to apply for licensure to engage in cultivation based commercial cannabis business\, and more. \nAgenda \nLetter for Cannabis Business This letter includes a list of possible community benefits the company might provide.
URL:https://nohowest.org/calendar/board-meeting-5-2018-02-28/
LOCATION:Saticoy Elementary Multipurpose Room\, 7850 Ethel Avenue\, North Hollywood\, CA\, 91605
CATEGORIES:General Board
GEO:34.212868;-118.415578
X-APPLE-STRUCTURED-LOCATION;VALUE=URI;X-ADDRESS=Saticoy Elementary Multipurpose Room 7850 Ethel Avenue North Hollywood CA 91605;X-APPLE-RADIUS=500;X-TITLE=7850 Ethel Avenue:geo:-118.415578,34.212868
END:VEVENT
BEGIN:VEVENT
DTSTART;TZID=America/Los_Angeles:20180220T180000
DTEND;TZID=America/Los_Angeles:20180220T200000
DTSTAMP:20260423T212428
CREATED:20180109T164648Z
LAST-MODIFIED:20180222T215008Z
UID:7049-1519149600-1519156800@nohowest.org
SUMMARY:Executive Committee Meeting
DESCRIPTION:Agenda
URL:https://nohowest.org/calendar/executive-committee-meeting-14/
LOCATION:Saticoy Elementary Multipurpose Room\, 7850 Ethel Avenue\, North Hollywood\, CA\, 91605
CATEGORIES:Committee Meeting
GEO:34.212868;-118.415578
X-APPLE-STRUCTURED-LOCATION;VALUE=URI;X-ADDRESS=Saticoy Elementary Multipurpose Room 7850 Ethel Avenue North Hollywood CA 91605;X-APPLE-RADIUS=500;X-TITLE=7850 Ethel Avenue:geo:-118.415578,34.212868
END:VEVENT
BEGIN:VEVENT
DTSTART;TZID=America/Los_Angeles:20180124T181500
DTEND;TZID=America/Los_Angeles:20180124T210000
DTSTAMP:20260423T212428
CREATED:20171214T175913Z
LAST-MODIFIED:20180123T015904Z
UID:6979-1516817700-1516827600@nohowest.org
SUMMARY:Board Meeting
DESCRIPTION:The Board meets the 4th Wednesday of the month\, 6:30pm at \nSaticoy Elementary\n7850 Ethel Ave.\nNorth Hollywood\, CA 91605 \nJoin us for our next meeting on Wednesday\, January 24\, 6:15pm at Saticoy Elementary Auditorium\, 7850 Ethel Ave. Agendized items include: \n\nNotice regarding application for license to cultivate commercial cannabis in NoHoWest\nPresident’s Day Clean Up\nProposed Candidate Forum\n\nAgenda
URL:https://nohowest.org/calendar/board-meeting-5/
LOCATION:Saticoy Elementary Multipurpose Room\, 7850 Ethel Avenue\, North Hollywood\, CA\, 91605
CATEGORIES:General Board
GEO:34.212868;-118.415578
X-APPLE-STRUCTURED-LOCATION;VALUE=URI;X-ADDRESS=Saticoy Elementary Multipurpose Room 7850 Ethel Avenue North Hollywood CA 91605;X-APPLE-RADIUS=500;X-TITLE=7850 Ethel Avenue:geo:-118.415578,34.212868
END:VEVENT
END:VCALENDAR