BEGIN:VCALENDAR
VERSION:2.0
PRODID:-//NoHowest.org - ECPv6.15.16//NONSGML v1.0//EN
CALSCALE:GREGORIAN
METHOD:PUBLISH
X-ORIGINAL-URL:https://nohowest.org
X-WR-CALDESC:Events for NoHowest.org
REFRESH-INTERVAL;VALUE=DURATION:PT1H
X-Robots-Tag:noindex
X-PUBLISHED-TTL:PT1H
BEGIN:VTIMEZONE
TZID:America/Los_Angeles
BEGIN:DAYLIGHT
TZOFFSETFROM:-0800
TZOFFSETTO:-0700
TZNAME:PDT
DTSTART:20140309T100000
END:DAYLIGHT
BEGIN:STANDARD
TZOFFSETFROM:-0700
TZOFFSETTO:-0800
TZNAME:PST
DTSTART:20141102T090000
END:STANDARD
BEGIN:DAYLIGHT
TZOFFSETFROM:-0800
TZOFFSETTO:-0700
TZNAME:PDT
DTSTART:20150308T100000
END:DAYLIGHT
BEGIN:STANDARD
TZOFFSETFROM:-0700
TZOFFSETTO:-0800
TZNAME:PST
DTSTART:20151101T090000
END:STANDARD
BEGIN:DAYLIGHT
TZOFFSETFROM:-0800
TZOFFSETTO:-0700
TZNAME:PDT
DTSTART:20160313T100000
END:DAYLIGHT
BEGIN:STANDARD
TZOFFSETFROM:-0700
TZOFFSETTO:-0800
TZNAME:PST
DTSTART:20161106T090000
END:STANDARD
BEGIN:DAYLIGHT
TZOFFSETFROM:-0800
TZOFFSETTO:-0700
TZNAME:PDT
DTSTART:20170312T100000
END:DAYLIGHT
BEGIN:STANDARD
TZOFFSETFROM:-0700
TZOFFSETTO:-0800
TZNAME:PST
DTSTART:20171105T090000
END:STANDARD
BEGIN:DAYLIGHT
TZOFFSETFROM:-0800
TZOFFSETTO:-0700
TZNAME:PDT
DTSTART:20180311T100000
END:DAYLIGHT
BEGIN:STANDARD
TZOFFSETFROM:-0700
TZOFFSETTO:-0800
TZNAME:PST
DTSTART:20181104T090000
END:STANDARD
END:VTIMEZONE
BEGIN:VEVENT
DTSTART;TZID=America/Los_Angeles:20170802T190000
DTEND;TZID=America/Los_Angeles:20170802T203000
DTSTAMP:20260424T034018
CREATED:20170728T053441Z
LAST-MODIFIED:20170728T053441Z
UID:6594-1501700400-1501705800@nohowest.org
SUMMARY:Land Use Committee Meeting
DESCRIPTION:Join us for our next Land Use Committee Meeting Wednesday\, August 2\, 7 pm at Saticoy Elementary School\, 7850 Ethel Ave. \nAgendized is: \n\nMobil Service Station at 13350 Sherman Way: Conditional Use Permit for sale of beer & wine for off site consumption\, 24/7 operating hours\n12941 Strathern: subdivide residential lot\n\nAgenda
URL:https://nohowest.org/calendar/land-use-committee-meeting-2/
LOCATION:Saticoy Elementary Multipurpose Room\, 7850 Ethel Avenue\, North Hollywood\, CA\, 91605
CATEGORIES:Committee Meeting
GEO:34.212868;-118.415578
X-APPLE-STRUCTURED-LOCATION;VALUE=URI;X-ADDRESS=Saticoy Elementary Multipurpose Room 7850 Ethel Avenue North Hollywood CA 91605;X-APPLE-RADIUS=500;X-TITLE=7850 Ethel Avenue:geo:-118.415578,34.212868
END:VEVENT
BEGIN:VEVENT
DTSTART;TZID=America/Los_Angeles:20170719T120000
DTEND;TZID=America/Los_Angeles:20170719T140000
DTSTAMP:20260424T034018
CREATED:20160723T060424Z
LAST-MODIFIED:20170719T163612Z
UID:6102-1500465600-1500472800@nohowest.org
SUMMARY:NoHoWest Board Meeting
DESCRIPTION:Meets monthly on the 4th Wednesday. Regularly scheduled meeting moved up. \nAgenda \nSpecial Meeting Agenda
URL:https://nohowest.org/calendar/nohowest-board-meeting-10-2017-02-22-2017-07-22/
LOCATION:Saticoy Elementary Multipurpose Room\, 7850 Ethel Avenue\, North Hollywood\, CA\, 91605
CATEGORIES:General Board
GEO:34.212868;-118.415578
X-APPLE-STRUCTURED-LOCATION;VALUE=URI;X-ADDRESS=Saticoy Elementary Multipurpose Room 7850 Ethel Avenue North Hollywood CA 91605;X-APPLE-RADIUS=500;X-TITLE=7850 Ethel Avenue:geo:-118.415578,34.212868
END:VEVENT
BEGIN:VEVENT
DTSTART;TZID=America/Los_Angeles:20170710T120000
DTEND;TZID=America/Los_Angeles:20170710T140000
DTSTAMP:20260424T034018
CREATED:20151015T070135Z
LAST-MODIFIED:20170707T213507Z
UID:5621-1499688000-1499695200@nohowest.org
SUMMARY:Executive Committee Meeting
DESCRIPTION:2017-0710-Exec-Agenda
URL:https://nohowest.org/calendar/executive-committee-meeting-6-2016-05-09-2017-07-10/
LOCATION:Saticoy Elementary Multipurpose Room\, 7850 Ethel Avenue\, North Hollywood\, CA\, 91605
CATEGORIES:Committee Meeting
GEO:34.212868;-118.415578
X-APPLE-STRUCTURED-LOCATION;VALUE=URI;X-ADDRESS=Saticoy Elementary Multipurpose Room 7850 Ethel Avenue North Hollywood CA 91605;X-APPLE-RADIUS=500;X-TITLE=7850 Ethel Avenue:geo:-118.415578,34.212868
END:VEVENT
BEGIN:VEVENT
DTSTART;TZID=America/Los_Angeles:20170628T120000
DTEND;TZID=America/Los_Angeles:20170628T140000
DTSTAMP:20260424T034018
CREATED:20160723T060424Z
LAST-MODIFIED:20170623T022626Z
UID:6101-1498651200-1498658400@nohowest.org
SUMMARY:NoHoWest Board Meeting
DESCRIPTION:Meets monthly on the 4th Wednesday. \nJoin us Wednesday\, June 28\, 7 pm for our next NoHo West Board Meeting at Saticoy Elementary\, 7850 Ethel Avenue. \nAgendized items include: \n\nMovies in the Park\nPlanning retreat\n\nAgenda
URL:https://nohowest.org/calendar/nohowest-board-meeting-10-2017-02-22-2017-06-22/
LOCATION:Saticoy Elementary Multipurpose Room\, 7850 Ethel Avenue\, North Hollywood\, CA\, 91605
CATEGORIES:General Board
GEO:34.212868;-118.415578
X-APPLE-STRUCTURED-LOCATION;VALUE=URI;X-ADDRESS=Saticoy Elementary Multipurpose Room 7850 Ethel Avenue North Hollywood CA 91605;X-APPLE-RADIUS=500;X-TITLE=7850 Ethel Avenue:geo:-118.415578,34.212868
END:VEVENT
BEGIN:VEVENT
DTSTART;TZID=America/Los_Angeles:20170619T201500
DTEND;TZID=America/Los_Angeles:20170619T210000
DTSTAMP:20260424T034018
CREATED:20170614T000423Z
LAST-MODIFIED:20170614T000423Z
UID:6484-1497903300-1497906000@nohowest.org
SUMMARY:Land Use Committee
DESCRIPTION:2017-0619-LandUseAgenda
URL:https://nohowest.org/calendar/land-use-committee/
LOCATION:Saticoy Elementary Multipurpose Room\, 7850 Ethel Avenue\, North Hollywood\, CA\, 91605
CATEGORIES:Committee Meeting
GEO:34.212868;-118.415578
X-APPLE-STRUCTURED-LOCATION;VALUE=URI;X-ADDRESS=Saticoy Elementary Multipurpose Room 7850 Ethel Avenue North Hollywood CA 91605;X-APPLE-RADIUS=500;X-TITLE=7850 Ethel Avenue:geo:-118.415578,34.212868
END:VEVENT
BEGIN:VEVENT
DTSTART;TZID=America/Los_Angeles:20170619T120000
DTEND;TZID=America/Los_Angeles:20170619T140000
DTSTAMP:20260424T034018
CREATED:20151015T070135Z
LAST-MODIFIED:20170614T000536Z
UID:5620-1497873600-1497880800@nohowest.org
SUMMARY:Executive Committee Meeting
DESCRIPTION:
URL:https://nohowest.org/calendar/executive-committee-meeting-6-2016-05-09-2017-06-12/
LOCATION:Saticoy Elementary Multipurpose Room\, 7850 Ethel Avenue\, North Hollywood\, CA\, 91605
CATEGORIES:Committee Meeting
GEO:34.212868;-118.415578
X-APPLE-STRUCTURED-LOCATION;VALUE=URI;X-ADDRESS=Saticoy Elementary Multipurpose Room 7850 Ethel Avenue North Hollywood CA 91605;X-APPLE-RADIUS=500;X-TITLE=7850 Ethel Avenue:geo:-118.415578,34.212868
END:VEVENT
BEGIN:VEVENT
DTSTART;TZID=America/Los_Angeles:20170524T120000
DTEND;TZID=America/Los_Angeles:20170524T140000
DTSTAMP:20260424T034018
CREATED:20160723T060424Z
LAST-MODIFIED:20170522T185923Z
UID:6100-1495627200-1495634400@nohowest.org
SUMMARY:NoHoWest Board Meeting
DESCRIPTION:Please join us for our next Board Meeting Wednesday\, May 24\, 7pm at Saticoy Elementary\, 7850 Ethel Ave. \nAgendized items include: \n\nSwear in new Board Members\nFunding of Movies in the Park\, Homeless Connect Day\n\nAgenda \nSpecial Meeting to follow immediately after. Agenda
URL:https://nohowest.org/calendar/nohowest-board-meeting-10-2017-02-22-2017-05-22/
LOCATION:Saticoy Elementary Multipurpose Room\, 7850 Ethel Avenue\, North Hollywood\, CA\, 91605
CATEGORIES:General Board
GEO:34.212868;-118.415578
X-APPLE-STRUCTURED-LOCATION;VALUE=URI;X-ADDRESS=Saticoy Elementary Multipurpose Room 7850 Ethel Avenue North Hollywood CA 91605;X-APPLE-RADIUS=500;X-TITLE=7850 Ethel Avenue:geo:-118.415578,34.212868
END:VEVENT
BEGIN:VEVENT
DTSTART;TZID=America/Los_Angeles:20170515T113000
DTEND;TZID=America/Los_Angeles:20170515T140000
DTSTAMP:20260424T034018
CREATED:20151015T070135Z
LAST-MODIFIED:20170207T015614Z
UID:5619-1494847800-1494856800@nohowest.org
SUMMARY:Executive Committee Meeting
DESCRIPTION:
URL:https://nohowest.org/calendar/executive-committee-meeting-6-2016-05-09-2017-05-08/
LOCATION:Saticoy Elementary Multipurpose Room\, 7850 Ethel Avenue\, North Hollywood\, CA\, 91605
CATEGORIES:Committee Meeting
GEO:34.212868;-118.415578
X-APPLE-STRUCTURED-LOCATION;VALUE=URI;X-ADDRESS=Saticoy Elementary Multipurpose Room 7850 Ethel Avenue North Hollywood CA 91605;X-APPLE-RADIUS=500;X-TITLE=7850 Ethel Avenue:geo:-118.415578,34.212868
END:VEVENT
BEGIN:VEVENT
DTSTART;TZID=America/Los_Angeles:20170509T190000
DTEND;TZID=America/Los_Angeles:20170509T210000
DTSTAMP:20260424T034018
CREATED:20170502T182316Z
LAST-MODIFIED:20170502T190928Z
UID:6353-1494356400-1494363600@nohowest.org
SUMMARY:NoHo West Board Meeting
DESCRIPTION:Please join us for our next NoHo West Board Meeting on Tuesday\, May 9\, 7pm at Saticoy Elementary\, 7850 Ethel Ave. \nWith fiscal year end approaching\, we have a number of funding motions to consider. \nAgenda \n 
URL:https://nohowest.org/calendar/noho-west-board-meeting-4/
LOCATION:Saticoy Elementary Multipurpose Room\, 7850 Ethel Avenue\, North Hollywood\, CA\, 91605
CATEGORIES:General Board
GEO:34.212868;-118.415578
X-APPLE-STRUCTURED-LOCATION;VALUE=URI;X-ADDRESS=Saticoy Elementary Multipurpose Room 7850 Ethel Avenue North Hollywood CA 91605;X-APPLE-RADIUS=500;X-TITLE=7850 Ethel Avenue:geo:-118.415578,34.212868
END:VEVENT
BEGIN:VEVENT
DTSTART;TZID=America/Los_Angeles:20170426T193000
DTEND;TZID=America/Los_Angeles:20170426T203000
DTSTAMP:20260424T034018
CREATED:20170424T225349Z
LAST-MODIFIED:20170424T225349Z
UID:6340-1493235000-1493238600@nohowest.org
SUMMARY:Board Meeting
DESCRIPTION:Please join us for our next NoHo West Board Meeting on Wednesday\, April 26\, 7:30pm at Saticoy Elementary School\, 7850 Ethel Ave. With fiscal year end fast approaching\, we have several funding motions agendized. \nAgenda
URL:https://nohowest.org/calendar/board-meeting-4/
LOCATION:Saticoy Elementary Multipurpose Room\, 7850 Ethel Avenue\, North Hollywood\, CA\, 91605
CATEGORIES:General Board
GEO:34.212868;-118.415578
X-APPLE-STRUCTURED-LOCATION;VALUE=URI;X-ADDRESS=Saticoy Elementary Multipurpose Room 7850 Ethel Avenue North Hollywood CA 91605;X-APPLE-RADIUS=500;X-TITLE=7850 Ethel Avenue:geo:-118.415578,34.212868
END:VEVENT
BEGIN:VEVENT
DTSTART;TZID=America/Los_Angeles:20170422T113000
DTEND;TZID=America/Los_Angeles:20170422T140000
DTSTAMP:20260424T034018
CREATED:20160723T060424Z
LAST-MODIFIED:20170316T231225Z
UID:6099-1492860600-1492869600@nohowest.org
SUMMARY:NoHoWest Board Meeting
DESCRIPTION:Meets monthly on the 4th Wednesday.
URL:https://nohowest.org/calendar/nohowest-board-meeting-10-2017-02-22-2017-04-22/2017-04-22/
LOCATION:Saticoy Elementary Multipurpose Room\, 7850 Ethel Avenue\, North Hollywood\, CA\, 91605
CATEGORIES:General Board
GEO:34.212868;-118.415578
X-APPLE-STRUCTURED-LOCATION;VALUE=URI;X-ADDRESS=Saticoy Elementary Multipurpose Room 7850 Ethel Avenue North Hollywood CA 91605;X-APPLE-RADIUS=500;X-TITLE=7850 Ethel Avenue:geo:-118.415578,34.212868
END:VEVENT
BEGIN:VEVENT
DTSTART;TZID=America/Los_Angeles:20170417T113000
DTEND;TZID=America/Los_Angeles:20170417T140000
DTSTAMP:20260424T034018
CREATED:20151015T070135Z
LAST-MODIFIED:20170417T171140Z
UID:5618-1492428600-1492437600@nohowest.org
SUMMARY:Executive Committee Meeting
DESCRIPTION:Agenda
URL:https://nohowest.org/calendar/executive-committee-meeting-6-2016-05-09-2017-04-10/
LOCATION:Saticoy Elementary Multipurpose Room\, 7850 Ethel Avenue\, North Hollywood\, CA\, 91605
CATEGORIES:Committee Meeting
GEO:34.212868;-118.415578
X-APPLE-STRUCTURED-LOCATION;VALUE=URI;X-ADDRESS=Saticoy Elementary Multipurpose Room 7850 Ethel Avenue North Hollywood CA 91605;X-APPLE-RADIUS=500;X-TITLE=7850 Ethel Avenue:geo:-118.415578,34.212868
END:VEVENT
BEGIN:VEVENT
DTSTART;TZID=America/Los_Angeles:20170330T170000
DTEND;TZID=America/Los_Angeles:20170330T190000
DTSTAMP:20260424T034018
CREATED:20170325T051503Z
LAST-MODIFIED:20170406T220649Z
UID:6260-1490893200-1490900400@nohowest.org
SUMMARY:Bylaws Committee
DESCRIPTION:Agenda_Bylaws Committee Meeting_03-30-17
URL:https://nohowest.org/calendar/bylaws-committee/
LOCATION:Saticoy Elementary Multipurpose Room\, 7850 Ethel Avenue\, North Hollywood\, CA\, 91605
CATEGORIES:Committee Meeting
GEO:34.212868;-118.415578
X-APPLE-STRUCTURED-LOCATION;VALUE=URI;X-ADDRESS=Saticoy Elementary Multipurpose Room 7850 Ethel Avenue North Hollywood CA 91605;X-APPLE-RADIUS=500;X-TITLE=7850 Ethel Avenue:geo:-118.415578,34.212868
END:VEVENT
BEGIN:VEVENT
DTSTART;TZID=America/Los_Angeles:20170322T113000
DTEND;TZID=America/Los_Angeles:20170322T140000
DTSTAMP:20260424T034018
CREATED:20160723T060424Z
LAST-MODIFIED:20170316T233536Z
UID:5628-1490182200-1490191200@nohowest.org
SUMMARY:NoHoWest Board Meeting
DESCRIPTION:Meets monthly on the 4th Wednesday. \nAgenda \nPlease join us for our next meeting on Wednesday\, March 22\, 6:30pm at Saticoy Elementary\, 7850 Ethel Avenue. \nAgendized items include: \n\nBanners\nSecurity lighting\nEvent planning and funding
URL:https://nohowest.org/calendar/nohowest-board-meeting-10-2017-02-22-2017-03-22/
LOCATION:Saticoy Elementary Multipurpose Room\, 7850 Ethel Avenue\, North Hollywood\, CA\, 91605
CATEGORIES:General Board
GEO:34.212868;-118.415578
X-APPLE-STRUCTURED-LOCATION;VALUE=URI;X-ADDRESS=Saticoy Elementary Multipurpose Room 7850 Ethel Avenue North Hollywood CA 91605;X-APPLE-RADIUS=500;X-TITLE=7850 Ethel Avenue:geo:-118.415578,34.212868
END:VEVENT
BEGIN:VEVENT
DTSTART;TZID=America/Los_Angeles:20170313T114500
DTEND;TZID=America/Los_Angeles:20170313T140000
DTSTAMP:20260424T034018
CREATED:20151015T070135Z
LAST-MODIFIED:20170309T235556Z
UID:6106-1489405500-1489413600@nohowest.org
SUMMARY:Executive Committee Meeting
DESCRIPTION:Meets on the 2nd Monday of the month. Meet and greet starts at 6:45; the meeting starts at 7pm. \nAgenda
URL:https://nohowest.org/calendar/executive-committee-meeting-6-2016-05-09-2017-03-13/
LOCATION:Saticoy Elementary Multipurpose Room\, 7850 Ethel Avenue\, North Hollywood\, CA\, 91605
CATEGORIES:Committee Meeting
GEO:34.212868;-118.415578
X-APPLE-STRUCTURED-LOCATION;VALUE=URI;X-ADDRESS=Saticoy Elementary Multipurpose Room 7850 Ethel Avenue North Hollywood CA 91605;X-APPLE-RADIUS=500;X-TITLE=7850 Ethel Avenue:geo:-118.415578,34.212868
END:VEVENT
BEGIN:VEVENT
DTSTART;TZID=America/Los_Angeles:20170222T103000
DTEND;TZID=America/Los_Angeles:20170222T130000
DTSTAMP:20260424T034018
CREATED:20160723T060424Z
LAST-MODIFIED:20170220T180151Z
UID:5627-1487759400-1487768400@nohowest.org
SUMMARY:NoHoWest Board Meeting
DESCRIPTION:Meets monthly on the 4th Wednesday. \nAgenda \nSpecial Meeting Agenda
URL:https://nohowest.org/calendar/nohowest-board-meeting-10-2017-02-22/
LOCATION:Saticoy Elementary Multipurpose Room\, 7850 Ethel Avenue\, North Hollywood\, CA\, 91605
CATEGORIES:General Board
GEO:34.212868;-118.415578
X-APPLE-STRUCTURED-LOCATION;VALUE=URI;X-ADDRESS=Saticoy Elementary Multipurpose Room 7850 Ethel Avenue North Hollywood CA 91605;X-APPLE-RADIUS=500;X-TITLE=7850 Ethel Avenue:geo:-118.415578,34.212868
END:VEVENT
BEGIN:VEVENT
DTSTART;TZID=America/Los_Angeles:20170213T104500
DTEND;TZID=America/Los_Angeles:20170213T130000
DTSTAMP:20260424T034018
CREATED:20151015T070135Z
LAST-MODIFIED:20170213T184021Z
UID:6105-1486982700-1486990800@nohowest.org
SUMMARY:Executive Committee Meeting-Cancelled
DESCRIPTION:Meets on the 2nd Monday of the month. Meet and greet starts at 6:45; the meeting starts at 7pm.
URL:https://nohowest.org/calendar/executive-committee-meeting-6-2016-05-09-2017-02-13/
LOCATION:Saticoy Elementary Multipurpose Room\, 7850 Ethel Avenue\, North Hollywood\, CA\, 91605
CATEGORIES:Committee Meeting
GEO:34.212868;-118.415578
X-APPLE-STRUCTURED-LOCATION;VALUE=URI;X-ADDRESS=Saticoy Elementary Multipurpose Room 7850 Ethel Avenue North Hollywood CA 91605;X-APPLE-RADIUS=500;X-TITLE=7850 Ethel Avenue:geo:-118.415578,34.212868
END:VEVENT
BEGIN:VEVENT
DTSTART;TZID=America/Los_Angeles:20160509T114500
DTEND;TZID=America/Los_Angeles:20160509T140000
DTSTAMP:20260424T034018
CREATED:20151015T070135Z
LAST-MODIFIED:20170207T015501Z
UID:5253-1462794300-1462802400@nohowest.org
SUMMARY:Executive Committee Meeting
DESCRIPTION:Meets on the 2nd Monday of the month. Meet and greet starts at 6:45; the meeting starts at 7pm.
URL:https://nohowest.org/calendar/executive-committee-meeting-6-2016-05-09/2016-05-09/
LOCATION:Saticoy Elementary Multipurpose Room\, 7850 Ethel Avenue\, North Hollywood\, CA\, 91605
CATEGORIES:Committee Meeting
GEO:34.212868;-118.415578
X-APPLE-STRUCTURED-LOCATION;VALUE=URI;X-ADDRESS=Saticoy Elementary Multipurpose Room 7850 Ethel Avenue North Hollywood CA 91605;X-APPLE-RADIUS=500;X-TITLE=7850 Ethel Avenue:geo:-118.415578,34.212868
END:VEVENT
BEGIN:VEVENT
DTSTART;TZID=America/Los_Angeles:20151007T113000
DTEND;TZID=America/Los_Angeles:20151007T133000
DTSTAMP:20260424T034018
CREATED:20151007T062622Z
LAST-MODIFIED:20151007T062622Z
UID:5193-1444217400-1444224600@nohowest.org
SUMMARY:NoHoWest Special Meeting
DESCRIPTION:The purpose of this meeting is to discuss the website. \nAgenda
URL:https://nohowest.org/calendar/nohowest-special-meeting/
LOCATION:Saticoy Elementary Multipurpose Room\, 7850 Ethel Avenue\, North Hollywood\, CA\, 91605
CATEGORIES:General Board
GEO:34.212868;-118.415578
X-APPLE-STRUCTURED-LOCATION;VALUE=URI;X-ADDRESS=Saticoy Elementary Multipurpose Room 7850 Ethel Avenue North Hollywood CA 91605;X-APPLE-RADIUS=500;X-TITLE=7850 Ethel Avenue:geo:-118.415578,34.212868
END:VEVENT
BEGIN:VEVENT
DTSTART;TZID=America/Los_Angeles:20150914T190000
DTEND;TZID=America/Los_Angeles:20150914T210000
DTSTAMP:20260424T034018
CREATED:20150515T040522Z
LAST-MODIFIED:20150515T040522Z
UID:4660-1442257200-1442264400@nohowest.org
SUMMARY:Executive Committee Meeting
DESCRIPTION:
URL:https://nohowest.org/calendar/executive-committee-meeting-2/
LOCATION:Saticoy Elementary Multipurpose Room\, 7850 Ethel Avenue\, North Hollywood\, CA\, 91605
CATEGORIES:Committee Meeting
GEO:34.212868;-118.415578
X-APPLE-STRUCTURED-LOCATION;VALUE=URI;X-ADDRESS=Saticoy Elementary Multipurpose Room 7850 Ethel Avenue North Hollywood CA 91605;X-APPLE-RADIUS=500;X-TITLE=7850 Ethel Avenue:geo:-118.415578,34.212868
END:VEVENT
BEGIN:VEVENT
DTSTART;TZID=America/Los_Angeles:20150529T190000
DTEND;TZID=America/Los_Angeles:20150529T210000
DTSTAMP:20260424T034018
CREATED:20150512T040559Z
LAST-MODIFIED:20150512T040559Z
UID:4558-1432926000-1432933200@nohowest.org
SUMMARY:Town Hall with Assembly Member Patty Lopez
DESCRIPTION:North Hollywood West Neighborhood Council is proud to present this informative Town Hall on the topics of immigration\, homelessness\, the drought\, and public safety. Please bring your questions for Assembly Member Patty Lopez.
URL:https://nohowest.org/calendar/town-hall-with-assembly-member-patty-lopez/
LOCATION:Saticoy Elementary Multipurpose Room\, 7850 Ethel Avenue\, North Hollywood\, CA\, 91605
CATEGORIES:General Board
GEO:34.212868;-118.415578
X-APPLE-STRUCTURED-LOCATION;VALUE=URI;X-ADDRESS=Saticoy Elementary Multipurpose Room 7850 Ethel Avenue North Hollywood CA 91605;X-APPLE-RADIUS=500;X-TITLE=7850 Ethel Avenue:geo:-118.415578,34.212868
END:VEVENT
END:VCALENDAR