BEGIN:VCALENDAR
VERSION:2.0
PRODID:-//NoHowest.org - ECPv6.15.16//NONSGML v1.0//EN
CALSCALE:GREGORIAN
METHOD:PUBLISH
X-WR-CALNAME:NoHowest.org
X-ORIGINAL-URL:https://nohowest.org
X-WR-CALDESC:Events for NoHowest.org
REFRESH-INTERVAL;VALUE=DURATION:PT1H
X-Robots-Tag:noindex
X-PUBLISHED-TTL:PT1H
BEGIN:VTIMEZONE
TZID:America/Los_Angeles
BEGIN:DAYLIGHT
TZOFFSETFROM:-0800
TZOFFSETTO:-0700
TZNAME:PDT
DTSTART:20180311T100000
END:DAYLIGHT
BEGIN:STANDARD
TZOFFSETFROM:-0700
TZOFFSETTO:-0800
TZNAME:PST
DTSTART:20181104T090000
END:STANDARD
BEGIN:DAYLIGHT
TZOFFSETFROM:-0800
TZOFFSETTO:-0700
TZNAME:PDT
DTSTART:20190310T100000
END:DAYLIGHT
BEGIN:STANDARD
TZOFFSETFROM:-0700
TZOFFSETTO:-0800
TZNAME:PST
DTSTART:20191103T090000
END:STANDARD
BEGIN:DAYLIGHT
TZOFFSETFROM:-0800
TZOFFSETTO:-0700
TZNAME:PDT
DTSTART:20200308T100000
END:DAYLIGHT
BEGIN:STANDARD
TZOFFSETFROM:-0700
TZOFFSETTO:-0800
TZNAME:PST
DTSTART:20201101T090000
END:STANDARD
END:VTIMEZONE
BEGIN:VEVENT
DTSTART;TZID=America/Los_Angeles:20190622T140000
DTEND;TZID=America/Los_Angeles:20190622T170000
DTSTAMP:20260424T185602
CREATED:20190619T231608Z
LAST-MODIFIED:20190619T231608Z
UID:8663-1561212000-1561222800@nohowest.org
SUMMARY:Bow Wow Film Festival
DESCRIPTION:The Bow Wow Film Fest is a joyful\, traveling\, dog centric collection of short films that celebrates the human canine bond. We feature the year’s best pooch themed shorts all wrapped up in one beautiful\, 90 minute\, fun-loving package. And the films change annually\, so each year\, there are always new movies to see! \nBow Wow is a delightful community event! It is often used by animal welfare organizations\, such as service dog or rescue groups to host an event that generates awareness of their mission as well as offering a fresh way to fundraise. \nAll proceeds raised will be used to purchase much needed supplies for pets\nof individuals experiencing homelessness. \nTickets – $25\nReception only tickets – $15\nBowwowfilmfest.com \nSaturday\, June 22nd – 2:00 p.m.\nSecret Rose Theatre\n11246 Magnolia Blvd\nNorth Hollywood\, CA 91605 \nComfycarepacks.org
URL:https://nohowest.org/calendar/bow-wow-film-festival/
LOCATION:Secret Rose Theater\, 11246 Magnolia Blvd\, North Hollywood\, 91605
CATEGORIES:Community Events
GEO:34.164765;-118.376194
X-APPLE-STRUCTURED-LOCATION;VALUE=URI;X-ADDRESS=Secret Rose Theater 11246 Magnolia Blvd North Hollywood 91605;X-APPLE-RADIUS=500;X-TITLE=11246 Magnolia Blvd:geo:-118.376194,34.164765
END:VEVENT
END:VCALENDAR