BEGIN:VCALENDAR
VERSION:2.0
PRODID:-//NoHowest.org - ECPv6.15.16//NONSGML v1.0//EN
CALSCALE:GREGORIAN
METHOD:PUBLISH
X-ORIGINAL-URL:https://nohowest.org
X-WR-CALDESC:Events for NoHowest.org
REFRESH-INTERVAL;VALUE=DURATION:PT1H
X-Robots-Tag:noindex
X-PUBLISHED-TTL:PT1H
BEGIN:VTIMEZONE
TZID:America/Los_Angeles
BEGIN:DAYLIGHT
TZOFFSETFROM:-0800
TZOFFSETTO:-0700
TZNAME:PDT
DTSTART:20190310T100000
END:DAYLIGHT
BEGIN:STANDARD
TZOFFSETFROM:-0700
TZOFFSETTO:-0800
TZNAME:PST
DTSTART:20191103T090000
END:STANDARD
BEGIN:DAYLIGHT
TZOFFSETFROM:-0800
TZOFFSETTO:-0700
TZNAME:PDT
DTSTART:20200308T100000
END:DAYLIGHT
BEGIN:STANDARD
TZOFFSETFROM:-0700
TZOFFSETTO:-0800
TZNAME:PST
DTSTART:20201101T090000
END:STANDARD
BEGIN:DAYLIGHT
TZOFFSETFROM:-0800
TZOFFSETTO:-0700
TZNAME:PDT
DTSTART:20210314T100000
END:DAYLIGHT
BEGIN:STANDARD
TZOFFSETFROM:-0700
TZOFFSETTO:-0800
TZNAME:PST
DTSTART:20211107T090000
END:STANDARD
END:VTIMEZONE
BEGIN:VEVENT
DTSTART;TZID=America/Los_Angeles:20200229T140000
DTEND;TZID=America/Los_Angeles:20200229T163000
DTSTAMP:20260424T133709
CREATED:20200226T193342Z
LAST-MODIFIED:20200226T193342Z
UID:9096-1582984800-1582993800@nohowest.org
SUMMARY:Housing Element Open House
DESCRIPTION:Housing Element 2021- 2029: The Plan to House LA\nFebruary 29\, 2 to 4:30 pm\nSherman Oaks East Valley Adult Center\n5056 Van Nuys Blvd.\nSherman Oaks\, 91403 \nThe City of Los Angeles is launching an update to its Housing Element\, the plan to identify and meet LA’s housing needs. Over the next year the city needs your help in this effort. Learn more about the Housing Element\, and how it shapes housing in our city\, at an open house meeting. For more information\, visit https://planning.lacity.org/plans-policies/housing-element-update.
URL:https://nohowest.org/calendar/housing-element-open-house/
LOCATION:Sherman Oaks East Valley Adult Center\, 5056 Van Nuys Blvd.\, Sherman Oaks\, 91403
CATEGORIES:Community Events
GEO:34.1631891;-118.44838
X-APPLE-STRUCTURED-LOCATION;VALUE=URI;X-ADDRESS=Sherman Oaks East Valley Adult Center 5056 Van Nuys Blvd. Sherman Oaks 91403;X-APPLE-RADIUS=500;X-TITLE=5056 Van Nuys Blvd.:geo:-118.44838,34.1631891
END:VEVENT
END:VCALENDAR