BEGIN:VCALENDAR
VERSION:2.0
PRODID:-//NoHowest.org - ECPv6.15.16//NONSGML v1.0//EN
CALSCALE:GREGORIAN
METHOD:PUBLISH
X-ORIGINAL-URL:https://nohowest.org
X-WR-CALDESC:Events for NoHowest.org
REFRESH-INTERVAL;VALUE=DURATION:PT1H
X-Robots-Tag:noindex
X-PUBLISHED-TTL:PT1H
BEGIN:VTIMEZONE
TZID:America/Los_Angeles
BEGIN:DAYLIGHT
TZOFFSETFROM:-0800
TZOFFSETTO:-0700
TZNAME:PDT
DTSTART:20150308T100000
END:DAYLIGHT
BEGIN:STANDARD
TZOFFSETFROM:-0700
TZOFFSETTO:-0800
TZNAME:PST
DTSTART:20151101T090000
END:STANDARD
BEGIN:DAYLIGHT
TZOFFSETFROM:-0800
TZOFFSETTO:-0700
TZNAME:PDT
DTSTART:20160313T100000
END:DAYLIGHT
BEGIN:STANDARD
TZOFFSETFROM:-0700
TZOFFSETTO:-0800
TZNAME:PST
DTSTART:20161106T090000
END:STANDARD
BEGIN:DAYLIGHT
TZOFFSETFROM:-0800
TZOFFSETTO:-0700
TZNAME:PDT
DTSTART:20170312T100000
END:DAYLIGHT
BEGIN:STANDARD
TZOFFSETFROM:-0700
TZOFFSETTO:-0800
TZNAME:PST
DTSTART:20171105T090000
END:STANDARD
END:VTIMEZONE
BEGIN:VEVENT
DTSTART;TZID=America/Los_Angeles:20161028T030000
DTEND;TZID=America/Los_Angeles:20161028T050000
DTSTAMP:20260424T034232
CREATED:20161026T234036Z
LAST-MODIFIED:20161026T234544Z
UID:5808-1477623600-1477630800@nohowest.org
SUMMARY:Community Ballot Proposition Discussion
DESCRIPTION:The SAGE Society\, a senior-learning-in-retirement organization\, is sponsoring a special election forum. Admission is free\, and refreshments will be served. Fran Lapides of the League of Women Voters will present the League’s quick and easy Pros and Cons to guide voters on how to make sense of the issues. The League’s policy is not to recommend any candidate or proposition\, but to provide information. For more information\, contact Myra Cohen (818) 363-0122.
URL:https://nohowest.org/calendar/community-ballot-proposition-discussion/
LOCATION:St. Andrew and St. Charles Episcopal Church\, 16651 Rinaldi Street\, Granada Hills\, 91344 
CATEGORIES:Community Events
GEO:34.2797088;-118.4949822
X-APPLE-STRUCTURED-LOCATION;VALUE=URI;X-ADDRESS=St. Andrew and St. Charles Episcopal Church 16651 Rinaldi Street Granada Hills 91344;X-APPLE-RADIUS=500;X-TITLE=16651 Rinaldi Street:geo:-118.4949822,34.2797088
END:VEVENT
END:VCALENDAR