BEGIN:VCALENDAR
VERSION:2.0
PRODID:-//NoHowest.org - ECPv6.15.16//NONSGML v1.0//EN
CALSCALE:GREGORIAN
METHOD:PUBLISH
X-WR-CALNAME:NoHowest.org
X-ORIGINAL-URL:https://nohowest.org
X-WR-CALDESC:Events for NoHowest.org
REFRESH-INTERVAL;VALUE=DURATION:PT1H
X-Robots-Tag:noindex
X-PUBLISHED-TTL:PT1H
BEGIN:VTIMEZONE
TZID:America/Los_Angeles
BEGIN:DAYLIGHT
TZOFFSETFROM:-0800
TZOFFSETTO:-0700
TZNAME:PDT
DTSTART:20250309T100000
END:DAYLIGHT
BEGIN:STANDARD
TZOFFSETFROM:-0700
TZOFFSETTO:-0800
TZNAME:PST
DTSTART:20251102T090000
END:STANDARD
BEGIN:DAYLIGHT
TZOFFSETFROM:-0800
TZOFFSETTO:-0700
TZNAME:PDT
DTSTART:20260308T100000
END:DAYLIGHT
BEGIN:STANDARD
TZOFFSETFROM:-0700
TZOFFSETTO:-0800
TZNAME:PST
DTSTART:20261101T090000
END:STANDARD
BEGIN:DAYLIGHT
TZOFFSETFROM:-0800
TZOFFSETTO:-0700
TZNAME:PDT
DTSTART:20270314T100000
END:DAYLIGHT
BEGIN:STANDARD
TZOFFSETFROM:-0700
TZOFFSETTO:-0800
TZNAME:PST
DTSTART:20271107T090000
END:STANDARD
END:VTIMEZONE
BEGIN:VEVENT
DTSTART;TZID=America/Los_Angeles:20260325T180000
DTEND;TZID=America/Los_Angeles:20260325T200000
DTSTAMP:20260424T074711
CREATED:20260219T223926Z
LAST-MODIFIED:20260219T224132Z
UID:19992-1774461600-1774468800@nohowest.org
SUMMARY:DWP Solutions Summit
DESCRIPTION:On behalf of the City of LA’s Office of Public Accountability\, we are inviting community members and stakeholders to attend their public Solutions Summits to learn more about LADWP resources in March and April. \nSolutions Summit #2 (North Hollywood)\nDate/Time: Wednesday\, March 25th (6:00 pm to 8:00 pm)\nLocation: Saint Anne Banquet Hall\, 11211 Moorpark St.\, North Hollywood 91602 \nCommunity members can RSVP at:\n\n\n\nEnglish RSVP link: RSVP Form: Office of Public Accountability/Ratepayer Advocate’s Solutions Summits\nSpanish RSVP link: Formulario de RSVP: Reuniones Comunitar de la Oficina de Responsabilidad Pública de la Ciudad de Los Angeles
URL:https://nohowest.org/calendar/dwp-solutions-summit/
LOCATION:St. Anne Banquet Hall\, 11211 Moorpark St.\, North Hollywood\, 91602
CATEGORIES:Community Events
GEO:34.1506319;-118.375643
X-APPLE-STRUCTURED-LOCATION;VALUE=URI;X-ADDRESS=St. Anne Banquet Hall 11211 Moorpark St. North Hollywood 91602;X-APPLE-RADIUS=500;X-TITLE=11211 Moorpark St.:geo:-118.375643,34.1506319
END:VEVENT
END:VCALENDAR