BEGIN:VCALENDAR
VERSION:2.0
PRODID:-//NoHowest.org - ECPv6.15.16//NONSGML v1.0//EN
CALSCALE:GREGORIAN
METHOD:PUBLISH
X-WR-CALNAME:NoHowest.org
X-ORIGINAL-URL:https://nohowest.org
X-WR-CALDESC:Events for NoHowest.org
REFRESH-INTERVAL;VALUE=DURATION:PT1H
X-Robots-Tag:noindex
X-PUBLISHED-TTL:PT1H
BEGIN:VTIMEZONE
TZID:America/Los_Angeles
BEGIN:DAYLIGHT
TZOFFSETFROM:-0800
TZOFFSETTO:-0700
TZNAME:PDT
DTSTART:20190310T100000
END:DAYLIGHT
BEGIN:STANDARD
TZOFFSETFROM:-0700
TZOFFSETTO:-0800
TZNAME:PST
DTSTART:20191103T090000
END:STANDARD
BEGIN:DAYLIGHT
TZOFFSETFROM:-0800
TZOFFSETTO:-0700
TZNAME:PDT
DTSTART:20200308T100000
END:DAYLIGHT
BEGIN:STANDARD
TZOFFSETFROM:-0700
TZOFFSETTO:-0800
TZNAME:PST
DTSTART:20201101T090000
END:STANDARD
BEGIN:DAYLIGHT
TZOFFSETFROM:-0800
TZOFFSETTO:-0700
TZNAME:PDT
DTSTART:20210314T100000
END:DAYLIGHT
BEGIN:STANDARD
TZOFFSETFROM:-0700
TZOFFSETTO:-0800
TZNAME:PST
DTSTART:20211107T090000
END:STANDARD
END:VTIMEZONE
BEGIN:VEVENT
DTSTART;TZID=America/Los_Angeles:20200219T183000
DTEND;TZID=America/Los_Angeles:20200219T193000
DTSTAMP:20260424T065356
CREATED:20200211T193316Z
LAST-MODIFIED:20200211T193316Z
UID:9044-1582137000-1582140600@nohowest.org
SUMMARY:Understanding the Homelessness Crisis Workshop
DESCRIPTION:This is an introduction to the Everyone In campaign. The presenters will describe the root causes of homelessness in our city\, the policy measures we can utilize to combat the crisis\, and the specific developments that you can support in your neighborhood. We will also present information about how to get involved in citywide efforts to support the unhoused population in our city. \nFor more info:\nKike Velasquez\, Field Organizer\nenrique@everyoneinla.org
URL:https://nohowest.org/calendar/understanding-the-homelessness-crisis-workshop/2020-02-19/
LOCATION:St. Matthew’s Lutheran Church\, 11031 Camarillo St.\, North Hollywood
CATEGORIES:Community Events
GEO:34.1580832;-118.3717155
X-APPLE-STRUCTURED-LOCATION;VALUE=URI;X-ADDRESS=St. Matthew’s Lutheran Church 11031 Camarillo St. North Hollywood;X-APPLE-RADIUS=500;X-TITLE=11031 Camarillo St.:geo:-118.3717155,34.1580832
END:VEVENT
END:VCALENDAR