BEGIN:VCALENDAR
VERSION:2.0
PRODID:-//NoHowest.org - ECPv6.15.16//NONSGML v1.0//EN
CALSCALE:GREGORIAN
METHOD:PUBLISH
X-ORIGINAL-URL:https://nohowest.org
X-WR-CALDESC:Events for NoHowest.org
REFRESH-INTERVAL;VALUE=DURATION:PT1H
X-Robots-Tag:noindex
X-PUBLISHED-TTL:PT1H
BEGIN:VTIMEZONE
TZID:America/Los_Angeles
BEGIN:DAYLIGHT
TZOFFSETFROM:-0800
TZOFFSETTO:-0700
TZNAME:PDT
DTSTART:20150308T100000
END:DAYLIGHT
BEGIN:STANDARD
TZOFFSETFROM:-0700
TZOFFSETTO:-0800
TZNAME:PST
DTSTART:20151101T090000
END:STANDARD
BEGIN:DAYLIGHT
TZOFFSETFROM:-0800
TZOFFSETTO:-0700
TZNAME:PDT
DTSTART:20160313T100000
END:DAYLIGHT
BEGIN:STANDARD
TZOFFSETFROM:-0700
TZOFFSETTO:-0800
TZNAME:PST
DTSTART:20161106T090000
END:STANDARD
BEGIN:DAYLIGHT
TZOFFSETFROM:-0800
TZOFFSETTO:-0700
TZNAME:PDT
DTSTART:20170312T100000
END:DAYLIGHT
BEGIN:STANDARD
TZOFFSETFROM:-0700
TZOFFSETTO:-0800
TZNAME:PST
DTSTART:20171105T090000
END:STANDARD
END:VTIMEZONE
BEGIN:VEVENT
DTSTART;TZID=America/Los_Angeles:20161112T080000
DTEND;TZID=America/Los_Angeles:20161112T120000
DTSTAMP:20260424T015145
CREATED:20161110T233736Z
LAST-MODIFIED:20161110T233736Z
UID:5877-1478937600-1478952000@nohowest.org
SUMMARY:Clean Up Day
DESCRIPTION:
URL:https://nohowest.org/calendar/clean-up-day/
LOCATION:Strathern Park West\, 12601 Saticoy St.\, North Hollywood
CATEGORIES:Community Events
GEO:34.2080704;-118.407013
X-APPLE-STRUCTURED-LOCATION;VALUE=URI;X-ADDRESS=Strathern Park West 12601 Saticoy St. North Hollywood;X-APPLE-RADIUS=500;X-TITLE=12601 Saticoy St.:geo:-118.407013,34.2080704
END:VEVENT
END:VCALENDAR