BEGIN:VCALENDAR
VERSION:2.0
PRODID:-//NoHowest.org - ECPv6.15.16//NONSGML v1.0//EN
CALSCALE:GREGORIAN
METHOD:PUBLISH
X-WR-CALNAME:NoHowest.org
X-ORIGINAL-URL:https://nohowest.org
X-WR-CALDESC:Events for NoHowest.org
REFRESH-INTERVAL;VALUE=DURATION:PT1H
X-Robots-Tag:noindex
X-PUBLISHED-TTL:PT1H
BEGIN:VTIMEZONE
TZID:America/Los_Angeles
BEGIN:DAYLIGHT
TZOFFSETFROM:-0800
TZOFFSETTO:-0700
TZNAME:PDT
DTSTART:20180311T100000
END:DAYLIGHT
BEGIN:STANDARD
TZOFFSETFROM:-0700
TZOFFSETTO:-0800
TZNAME:PST
DTSTART:20181104T090000
END:STANDARD
BEGIN:DAYLIGHT
TZOFFSETFROM:-0800
TZOFFSETTO:-0700
TZNAME:PDT
DTSTART:20190310T100000
END:DAYLIGHT
BEGIN:STANDARD
TZOFFSETFROM:-0700
TZOFFSETTO:-0800
TZNAME:PST
DTSTART:20191103T090000
END:STANDARD
BEGIN:DAYLIGHT
TZOFFSETFROM:-0800
TZOFFSETTO:-0700
TZNAME:PDT
DTSTART:20200308T100000
END:DAYLIGHT
BEGIN:STANDARD
TZOFFSETFROM:-0700
TZOFFSETTO:-0800
TZNAME:PST
DTSTART:20201101T090000
END:STANDARD
END:VTIMEZONE
BEGIN:VEVENT
DTSTART;TZID=America/Los_Angeles:20191211T160000
DTEND;TZID=America/Los_Angeles:20191211T180000
DTSTAMP:20260424T062408
CREATED:20191210T190513Z
LAST-MODIFIED:20191210T190513Z
UID:8937-1576080000-1576087200@nohowest.org
SUMMARY:District NoHo Open House
DESCRIPTION:Would you like to learn more about District NoHo\, the Metro North Hollywood Red Line Station Joint Development project? District NoHo will transform the underutilized 15-acre North Hollywood Red Line Metro station in several phases\, locating much-needed housing\, office and retail steps from transit. It will also serve as a gathering space and amplify the already thriving community of North Hollywood. Stop by The Federal Bar for an informational open house and light refreshments. For more information\, please visit www.nohosnextact.com
URL:https://nohowest.org/calendar/district-noho-open-house/
LOCATION:The Federal Bar\, 5303 Lankershim Blvd\, North Hollywood\, 91601
CATEGORIES:Community Events
GEO:34.1671644;-118.3762805
X-APPLE-STRUCTURED-LOCATION;VALUE=URI;X-ADDRESS=The Federal Bar 5303 Lankershim Blvd North Hollywood 91601;X-APPLE-RADIUS=500;X-TITLE=5303 Lankershim Blvd:geo:-118.3762805,34.1671644
END:VEVENT
END:VCALENDAR