BEGIN:VCALENDAR
VERSION:2.0
PRODID:-//NoHowest.org - ECPv6.15.16//NONSGML v1.0//EN
CALSCALE:GREGORIAN
METHOD:PUBLISH
X-WR-CALNAME:NoHowest.org
X-ORIGINAL-URL:https://nohowest.org
X-WR-CALDESC:Events for NoHowest.org
REFRESH-INTERVAL;VALUE=DURATION:PT1H
X-Robots-Tag:noindex
X-PUBLISHED-TTL:PT1H
BEGIN:VTIMEZONE
TZID:America/Los_Angeles
BEGIN:DAYLIGHT
TZOFFSETFROM:-0800
TZOFFSETTO:-0700
TZNAME:PDT
DTSTART:20150308T100000
END:DAYLIGHT
BEGIN:STANDARD
TZOFFSETFROM:-0700
TZOFFSETTO:-0800
TZNAME:PST
DTSTART:20151101T090000
END:STANDARD
BEGIN:DAYLIGHT
TZOFFSETFROM:-0800
TZOFFSETTO:-0700
TZNAME:PDT
DTSTART:20160313T100000
END:DAYLIGHT
BEGIN:STANDARD
TZOFFSETFROM:-0700
TZOFFSETTO:-0800
TZNAME:PST
DTSTART:20161106T090000
END:STANDARD
BEGIN:DAYLIGHT
TZOFFSETFROM:-0800
TZOFFSETTO:-0700
TZNAME:PDT
DTSTART:20170312T100000
END:DAYLIGHT
BEGIN:STANDARD
TZOFFSETFROM:-0700
TZOFFSETTO:-0800
TZNAME:PST
DTSTART:20171105T090000
END:STANDARD
END:VTIMEZONE
BEGIN:VEVENT
DTSTART;TZID=America/Los_Angeles:20160416T020000
DTEND;TZID=America/Los_Angeles:20160416T060000
DTSTAMP:20260424T052046
CREATED:20160305T061848Z
LAST-MODIFIED:20160305T061848Z
UID:5462-1460772000-1460786400@nohowest.org
SUMMARY:Free Car Seat Inspection
DESCRIPTION:
URL:https://nohowest.org/calendar/free-car-seat-inspection/
LOCATION:The Help Group Parking Lot\, 13130 Burbank Blvd\, Sherman Oaks\, 91401
CATEGORIES:Community Events
GEO:34.1716225;-118.4192169
X-APPLE-STRUCTURED-LOCATION;VALUE=URI;X-ADDRESS=The Help Group Parking Lot 13130 Burbank Blvd Sherman Oaks 91401;X-APPLE-RADIUS=500;X-TITLE=13130 Burbank Blvd:geo:-118.4192169,34.1716225
END:VEVENT
END:VCALENDAR