BEGIN:VCALENDAR
VERSION:2.0
PRODID:-//NoHowest.org - ECPv6.15.16//NONSGML v1.0//EN
CALSCALE:GREGORIAN
METHOD:PUBLISH
X-ORIGINAL-URL:https://nohowest.org
X-WR-CALDESC:Events for NoHowest.org
REFRESH-INTERVAL;VALUE=DURATION:PT1H
X-Robots-Tag:noindex
X-PUBLISHED-TTL:PT1H
BEGIN:VTIMEZONE
TZID:America/Los_Angeles
BEGIN:DAYLIGHT
TZOFFSETFROM:-0800
TZOFFSETTO:-0700
TZNAME:PDT
DTSTART:20170312T100000
END:DAYLIGHT
BEGIN:STANDARD
TZOFFSETFROM:-0700
TZOFFSETTO:-0800
TZNAME:PST
DTSTART:20171105T090000
END:STANDARD
BEGIN:DAYLIGHT
TZOFFSETFROM:-0800
TZOFFSETTO:-0700
TZNAME:PDT
DTSTART:20180311T100000
END:DAYLIGHT
BEGIN:STANDARD
TZOFFSETFROM:-0700
TZOFFSETTO:-0800
TZNAME:PST
DTSTART:20181104T090000
END:STANDARD
BEGIN:DAYLIGHT
TZOFFSETFROM:-0800
TZOFFSETTO:-0700
TZNAME:PDT
DTSTART:20190310T100000
END:DAYLIGHT
BEGIN:STANDARD
TZOFFSETFROM:-0700
TZOFFSETTO:-0800
TZNAME:PST
DTSTART:20191103T090000
END:STANDARD
BEGIN:DAYLIGHT
TZOFFSETFROM:-0800
TZOFFSETTO:-0700
TZNAME:PDT
DTSTART:20200308T100000
END:DAYLIGHT
BEGIN:STANDARD
TZOFFSETFROM:-0700
TZOFFSETTO:-0800
TZNAME:PST
DTSTART:20201101T090000
END:STANDARD
END:VTIMEZONE
BEGIN:VEVENT
DTSTART;TZID=America/Los_Angeles:20191019T110000
DTEND;TZID=America/Los_Angeles:20191019T150000
DTSTAMP:20260424T021204
CREATED:20191009T213008Z
LAST-MODIFIED:20191009T213049Z
UID:8851-1571482800-1571497200@nohowest.org
SUMMARY:Ice Cream Social & Family Fun Day
DESCRIPTION:FUN COMMUNITY and FAMILY DAY at YOUR MUSEUM!\nICE CREAM SOCIAL and MUCH MORE! \nSaturday\, October 19\, 2019\n11:00 am – 3:00 pm\nFREE Event*\nFree Parking \n18860 Nordhoff St. – Northridge\, CA 91324\n(Cross Street SE Corner of Wilbur Ave. & Nordhoff St.)\nParking in lot and street parking (non-metered); \nPlease RSVP for free on EVENTBRITE to info@TheMuseumSFV.org or 818-347-9665 to let us know how many people will be attending. \nBring the family out for FREE Ice Cream from famous Handel’s Ice Cream** ( **FREE Ice Cream\, first 100 people (maybe more!) \n \nSpecial Presentation\n“First People of the San Fernando Valley”\nRudy Ortega\, Jr.\nTribal President\nFernandeñio Tataviam Band of Mission Indians\nMr. Ortega will speak from Noon – 1:30 pm \nThe famous The Grilled Cheese Food Truck (*charges for food) will be on site from 11:00 am – 12:30 pm.\nOrder a tasty sandwich first\, listen to a terrific presentation\, then go out and have some ice cream! \nSmall Car Show \nGrey Save Greyhound Adopt-A-Pet – come and visit the grehounds – maybe take one home? \nCalifornia E-Waste will be on hand to collect all of your unwanted electronic equipment. *Food truck charges for food \nCal E-Waste will pick up the following only:\nPlease your unwanted electronic waste to the event. Cal E-Wasted accepts the following:\n1. Televisions\n2. Plasma TVs\n3. Flat Screens\n4. Computers\n5. Laptops\n6. Cell Phones\n7. Printers\n8. LCD Screens\n9. Servers\n10. All computer related electronic. \nBring a friend and a colleague too!
URL:https://nohowest.org/calendar/ice-cream-social-family-fun-day/
LOCATION:The Museum of the SFV\, 18860 Nordhoff Street Suite 204\, Northridge\, 91324
CATEGORIES:Community Events
GEO:34.2351763;-118.5444594
X-APPLE-STRUCTURED-LOCATION;VALUE=URI;X-ADDRESS=The Museum of the SFV 18860 Nordhoff Street Suite 204 Northridge 91324;X-APPLE-RADIUS=500;X-TITLE=18860 Nordhoff Street Suite 204:geo:-118.5444594,34.2351763
END:VEVENT
BEGIN:VEVENT
DTSTART;TZID=America/Los_Angeles:20181110T140000
DTEND;TZID=America/Los_Angeles:20181110T160000
DTSTAMP:20260424T021204
CREATED:20181106T021047Z
LAST-MODIFIED:20181106T021047Z
UID:8139-1541858400-1541865600@nohowest.org
SUMMARY:Veterans in the SFV
DESCRIPTION:Speaker Series:\nVeterans in the SFV\nSaturday\, November 10\, 2018\n2:00 – 4:00 pm\n$10 per person\nRSVP FREE for Veterans & their families\nFranky Ortega\, a National Board-Certified Teacher at Daniel Pearl Magnet High School\, returns as the presenter. \nHe will discuss veterans and their history in the San Fernando Valley. He will tie in the current\, amazing group of veterans that comprise of Wings Over Wendy’s too. Several veterans have been invited and are expected to attend. Please spread the word to any veterans that may want to attend -Free admission for all veterans. \nPlease join us for this special discussion and presentation. \nPlease RSVP and pay in advance with: EVENTBRITE (Okay to walk-up but please RSVP and let us know how many guests will be attending)\nCost: $10 per person; FREE RSVP HERE for all Veterans\nParking: Free in Museum parking lot \nRSVP: 1-818-347-9665\, email at info@TheMuseumSFV.org \nPlease consider inviting a family member\, colleague or friend.
URL:https://nohowest.org/calendar/veterans-in-the-sfv/
LOCATION:The Museum of the SFV\, 18860 Nordhoff Street Suite 204\, Northridge\, 91324
CATEGORIES:Community Events
GEO:34.2351763;-118.5444594
X-APPLE-STRUCTURED-LOCATION;VALUE=URI;X-ADDRESS=The Museum of the SFV 18860 Nordhoff Street Suite 204 Northridge 91324;X-APPLE-RADIUS=500;X-TITLE=18860 Nordhoff Street Suite 204:geo:-118.5444594,34.2351763
END:VEVENT
END:VCALENDAR