BEGIN:VCALENDAR
VERSION:2.0
PRODID:-//NoHowest.org - ECPv6.15.16//NONSGML v1.0//EN
CALSCALE:GREGORIAN
METHOD:PUBLISH
X-ORIGINAL-URL:https://nohowest.org
X-WR-CALDESC:Events for NoHowest.org
REFRESH-INTERVAL;VALUE=DURATION:PT1H
X-Robots-Tag:noindex
X-PUBLISHED-TTL:PT1H
BEGIN:VTIMEZONE
TZID:America/Los_Angeles
BEGIN:DAYLIGHT
TZOFFSETFROM:-0800
TZOFFSETTO:-0700
TZNAME:PDT
DTSTART:20160313T100000
END:DAYLIGHT
BEGIN:STANDARD
TZOFFSETFROM:-0700
TZOFFSETTO:-0800
TZNAME:PST
DTSTART:20161106T090000
END:STANDARD
BEGIN:DAYLIGHT
TZOFFSETFROM:-0800
TZOFFSETTO:-0700
TZNAME:PDT
DTSTART:20170312T100000
END:DAYLIGHT
BEGIN:STANDARD
TZOFFSETFROM:-0700
TZOFFSETTO:-0800
TZNAME:PST
DTSTART:20171105T090000
END:STANDARD
BEGIN:DAYLIGHT
TZOFFSETFROM:-0800
TZOFFSETTO:-0700
TZNAME:PDT
DTSTART:20180311T100000
END:DAYLIGHT
BEGIN:STANDARD
TZOFFSETFROM:-0700
TZOFFSETTO:-0800
TZNAME:PST
DTSTART:20181104T090000
END:STANDARD
END:VTIMEZONE
BEGIN:VEVENT
DTSTART;TZID=America/Los_Angeles:20170126T110000
DTEND;TZID=America/Los_Angeles:20170126T200000
DTSTAMP:20260423T223812
CREATED:20161223T045815Z
LAST-MODIFIED:20161223T045815Z
UID:5970-1485428400-1485460800@nohowest.org
SUMMARY:TechFair LA
DESCRIPTION:Join the Office of Los Angeles Mayor Eric Garcetti and the City’s Entrepreneur in Residence Jason Nazar\, for one of the City’s largest Technology Job Fairs taking place on Thursday\, January 26th from 11-8pm at The Reef in Downtown Los Angeles. The fair will feature 200+ of LA’s premier technology companies looking to hire great candidates in engineering\, marketing\, sales\, and more. \nThe tech ecosystem in Los Angeles has experienced enormous growth the last few years\, marked by record numbers of companies being started\, massive funding rounds\, and many high-profile acquisitions and exits. With more students graduating with engineering degrees in LA than any other market\, there is no better time than now\, to stay in LA and work for one of LA’s premiere technology companies. \nLocation: The Reef: 1933 S. BROADWAY\, LOS ANGELES\, CA\, 90007 \n 
URL:https://nohowest.org/calendar/techfair-la/
LOCATION:The Reef\, 1933 S. Broadway\, Los Angeles\, 90007
CATEGORIES:Community Events
GEO:34.0312446;-118.2666406
X-APPLE-STRUCTURED-LOCATION;VALUE=URI;X-ADDRESS=The Reef 1933 S. Broadway Los Angeles 90007;X-APPLE-RADIUS=500;X-TITLE=1933 S. Broadway:geo:-118.2666406,34.0312446
END:VEVENT
END:VCALENDAR