BEGIN:VCALENDAR
VERSION:2.0
PRODID:-//NoHowest.org - ECPv6.15.16//NONSGML v1.0//EN
CALSCALE:GREGORIAN
METHOD:PUBLISH
X-WR-CALNAME:NoHowest.org
X-ORIGINAL-URL:https://nohowest.org
X-WR-CALDESC:Events for NoHowest.org
REFRESH-INTERVAL;VALUE=DURATION:PT1H
X-Robots-Tag:noindex
X-PUBLISHED-TTL:PT1H
BEGIN:VTIMEZONE
TZID:America/Los_Angeles
BEGIN:DAYLIGHT
TZOFFSETFROM:-0800
TZOFFSETTO:-0700
TZNAME:PDT
DTSTART:20180311T100000
END:DAYLIGHT
BEGIN:STANDARD
TZOFFSETFROM:-0700
TZOFFSETTO:-0800
TZNAME:PST
DTSTART:20181104T090000
END:STANDARD
BEGIN:DAYLIGHT
TZOFFSETFROM:-0800
TZOFFSETTO:-0700
TZNAME:PDT
DTSTART:20190310T100000
END:DAYLIGHT
BEGIN:STANDARD
TZOFFSETFROM:-0700
TZOFFSETTO:-0800
TZNAME:PST
DTSTART:20191103T090000
END:STANDARD
BEGIN:DAYLIGHT
TZOFFSETFROM:-0800
TZOFFSETTO:-0700
TZNAME:PDT
DTSTART:20200308T100000
END:DAYLIGHT
BEGIN:STANDARD
TZOFFSETFROM:-0700
TZOFFSETTO:-0800
TZNAME:PST
DTSTART:20201101T090000
END:STANDARD
END:VTIMEZONE
BEGIN:VEVENT
DTSTART;TZID=America/Los_Angeles:20190314T120000
DTEND;TZID=America/Los_Angeles:20190314T130000
DTSTAMP:20260424T065121
CREATED:20190312T192117Z
LAST-MODIFIED:20190312T192117Z
UID:8417-1552564800-1552568400@nohowest.org
SUMMARY:Lunch with Paul
DESCRIPTION:VALLEY GLEN – On Thursday\, March 14\, join Councilmember Krekorian for 2019’s first Lunch with Paul at Uncle Tony’s Pizzeria in Valley Glen. \nLunch with Paul\nMarch 14\, 12 pm to 1 pm\nUncle Tony’s Pizzeria\n13007 Victory Blvd.\nRSVP: www.paulkrekorian.org/lunchwithpaul \nUncle Tony’s Pizzeria in Valley Glen has a delicious menu of classic pizza pies you don’t want to miss. Lunch specials will be available between $7 and $15 per person. This is a great opportunity to come out to support a community business\, meet your neighbors and learn more about local issues that affect us all.
URL:https://nohowest.org/calendar/lunch-with-paul/
LOCATION:Uncle Tony’s Pizzaria\, 13077 Victory Blvd\, Valley Glen\, 91606
CATEGORIES:Community Events
GEO:34.1866968;-118.41717
X-APPLE-STRUCTURED-LOCATION;VALUE=URI;X-ADDRESS=Uncle Tony’s Pizzaria 13077 Victory Blvd Valley Glen 91606;X-APPLE-RADIUS=500;X-TITLE=13077 Victory Blvd:geo:-118.41717,34.1866968
END:VEVENT
END:VCALENDAR