BEGIN:VCALENDAR
VERSION:2.0
PRODID:-//NoHowest.org - ECPv6.15.16//NONSGML v1.0//EN
CALSCALE:GREGORIAN
METHOD:PUBLISH
X-ORIGINAL-URL:https://nohowest.org
X-WR-CALDESC:Events for NoHowest.org
REFRESH-INTERVAL;VALUE=DURATION:PT1H
X-Robots-Tag:noindex
X-PUBLISHED-TTL:PT1H
BEGIN:VTIMEZONE
TZID:America/Los_Angeles
BEGIN:DAYLIGHT
TZOFFSETFROM:-0800
TZOFFSETTO:-0700
TZNAME:PDT
DTSTART:20170312T100000
END:DAYLIGHT
BEGIN:STANDARD
TZOFFSETFROM:-0700
TZOFFSETTO:-0800
TZNAME:PST
DTSTART:20171105T090000
END:STANDARD
BEGIN:DAYLIGHT
TZOFFSETFROM:-0800
TZOFFSETTO:-0700
TZNAME:PDT
DTSTART:20180311T100000
END:DAYLIGHT
BEGIN:STANDARD
TZOFFSETFROM:-0700
TZOFFSETTO:-0800
TZNAME:PST
DTSTART:20181104T090000
END:STANDARD
BEGIN:DAYLIGHT
TZOFFSETFROM:-0800
TZOFFSETTO:-0700
TZNAME:PDT
DTSTART:20190310T100000
END:DAYLIGHT
BEGIN:STANDARD
TZOFFSETFROM:-0700
TZOFFSETTO:-0800
TZNAME:PST
DTSTART:20191103T090000
END:STANDARD
END:VTIMEZONE
BEGIN:VEVENT
DTSTART;TZID=America/Los_Angeles:20180619T170000
DTEND;TZID=America/Los_Angeles:20180619T193000
DTSTAMP:20260423T212716
CREATED:20180618T151437Z
LAST-MODIFIED:20180618T151437Z
UID:7757-1529427600-1529436600@nohowest.org
SUMMARY:Metro East San Fernando Valley Transit Corridor Open House
DESCRIPTION:Metro will host an Open House on the East San Fernando Valley Transit Corridor Tuesday\, June 19th in Van Nuys to provide an overview of the ESFVTC Project report the Metro Board of Directors will consider at its June 2018 Board meeting. \nThis Open House will feature identical presentations at 5:15pm and again at 6:30pm. Staff will also provide updates on the Metro Orange Line. \nInformation stations will offer details on the projects and provide an opportunity to talk directly with Metro staff. Metro Real Estate will also be available to answer questions. \nTuesday\, June 19\, 2018\nOpen House from 5pm–7:30pm\nPresentation at 5:15pm and repeated at 6:30pm\nValley Municipal Building\, Council Chambers\n14410 Sylvan St\, 2nd Floor\nVan Nuys\, CA 91401 \nThe ESFVTC Project will be discussed and reviewed by the Metro Planning and Programming Committee on Wednesday\, June 20\, 2018. Following review and possible action by the Planning and Programming Committee\, the report will be considered at Metro’s regular Board meeting on Thursday\, June 28\, 2018. \nmetro.net/eastsfvtransit
URL:https://nohowest.org/calendar/metro-east-san-fernando-valley-transit-corridor-open-house/
LOCATION:Valley Municipal Building\, Council Chambers\, 14410 Sylvan St\, 2nd Floor\, Van Nuys\, 91401
CATEGORIES:Community Events
GEO:34.1839954;-118.4472763
X-APPLE-STRUCTURED-LOCATION;VALUE=URI;X-ADDRESS=Valley Municipal Building Council Chambers 14410 Sylvan St 2nd Floor Van Nuys 91401;X-APPLE-RADIUS=500;X-TITLE=14410 Sylvan St\, 2nd Floor:geo:-118.4472763,34.1839954
END:VEVENT
END:VCALENDAR