BEGIN:VCALENDAR
VERSION:2.0
PRODID:-//NoHowest.org - ECPv6.15.16//NONSGML v1.0//EN
CALSCALE:GREGORIAN
METHOD:PUBLISH
X-WR-CALNAME:NoHowest.org
X-ORIGINAL-URL:https://nohowest.org
X-WR-CALDESC:Events for NoHowest.org
REFRESH-INTERVAL;VALUE=DURATION:PT1H
X-Robots-Tag:noindex
X-PUBLISHED-TTL:PT1H
BEGIN:VTIMEZONE
TZID:America/Los_Angeles
BEGIN:DAYLIGHT
TZOFFSETFROM:-0800
TZOFFSETTO:-0700
TZNAME:PDT
DTSTART:20170312T100000
END:DAYLIGHT
BEGIN:STANDARD
TZOFFSETFROM:-0700
TZOFFSETTO:-0800
TZNAME:PST
DTSTART:20171105T090000
END:STANDARD
BEGIN:DAYLIGHT
TZOFFSETFROM:-0800
TZOFFSETTO:-0700
TZNAME:PDT
DTSTART:20180311T100000
END:DAYLIGHT
BEGIN:STANDARD
TZOFFSETFROM:-0700
TZOFFSETTO:-0800
TZNAME:PST
DTSTART:20181104T090000
END:STANDARD
BEGIN:DAYLIGHT
TZOFFSETFROM:-0800
TZOFFSETTO:-0700
TZNAME:PDT
DTSTART:20190310T100000
END:DAYLIGHT
BEGIN:STANDARD
TZOFFSETFROM:-0700
TZOFFSETTO:-0800
TZNAME:PST
DTSTART:20191103T090000
END:STANDARD
BEGIN:DAYLIGHT
TZOFFSETFROM:-0800
TZOFFSETTO:-0700
TZNAME:PDT
DTSTART:20200308T100000
END:DAYLIGHT
BEGIN:STANDARD
TZOFFSETFROM:-0700
TZOFFSETTO:-0800
TZNAME:PST
DTSTART:20201101T090000
END:STANDARD
BEGIN:DAYLIGHT
TZOFFSETFROM:-0800
TZOFFSETTO:-0700
TZNAME:PDT
DTSTART:20210314T100000
END:DAYLIGHT
BEGIN:STANDARD
TZOFFSETFROM:-0700
TZOFFSETTO:-0800
TZNAME:PST
DTSTART:20211107T090000
END:STANDARD
BEGIN:DAYLIGHT
TZOFFSETFROM:-0800
TZOFFSETTO:-0700
TZNAME:PDT
DTSTART:20220313T100000
END:DAYLIGHT
BEGIN:STANDARD
TZOFFSETFROM:-0700
TZOFFSETTO:-0800
TZNAME:PST
DTSTART:20221106T090000
END:STANDARD
BEGIN:DAYLIGHT
TZOFFSETFROM:-0800
TZOFFSETTO:-0700
TZNAME:PDT
DTSTART:20230312T100000
END:DAYLIGHT
BEGIN:STANDARD
TZOFFSETFROM:-0700
TZOFFSETTO:-0800
TZNAME:PST
DTSTART:20231105T090000
END:STANDARD
BEGIN:DAYLIGHT
TZOFFSETFROM:-0800
TZOFFSETTO:-0700
TZNAME:PDT
DTSTART:20240310T100000
END:DAYLIGHT
BEGIN:STANDARD
TZOFFSETFROM:-0700
TZOFFSETTO:-0800
TZNAME:PST
DTSTART:20241103T090000
END:STANDARD
BEGIN:DAYLIGHT
TZOFFSETFROM:-0800
TZOFFSETTO:-0700
TZNAME:PDT
DTSTART:20250309T100000
END:DAYLIGHT
BEGIN:STANDARD
TZOFFSETFROM:-0700
TZOFFSETTO:-0800
TZNAME:PST
DTSTART:20251102T090000
END:STANDARD
BEGIN:DAYLIGHT
TZOFFSETFROM:-0800
TZOFFSETTO:-0700
TZNAME:PDT
DTSTART:20260308T100000
END:DAYLIGHT
BEGIN:STANDARD
TZOFFSETFROM:-0700
TZOFFSETTO:-0800
TZNAME:PST
DTSTART:20261101T090000
END:STANDARD
BEGIN:DAYLIGHT
TZOFFSETFROM:-0800
TZOFFSETTO:-0700
TZNAME:PDT
DTSTART:20270314T100000
END:DAYLIGHT
BEGIN:STANDARD
TZOFFSETFROM:-0700
TZOFFSETTO:-0800
TZNAME:PST
DTSTART:20271107T090000
END:STANDARD
END:VTIMEZONE
BEGIN:VEVENT
DTSTART;TZID=America/Los_Angeles:20260404T110000
DTEND;TZID=America/Los_Angeles:20260404T140000
DTSTAMP:20260423T143159
CREATED:20260311T180958Z
LAST-MODIFIED:20260324T220128Z
UID:20037-1775300400-1775311200@nohowest.org
SUMMARY:Egg Hunt
DESCRIPTION:Egg hunt\, Arts & crafts\, music\, game booths\, basket giveaway\, and much more \nSpring Events – 2026
URL:https://nohowest.org/calendar/egg-hunt-4/
LOCATION:Valley Plaza Recreation Center\, 12240 Archwood St.\,\, North Hollywood\, CA\, 91606\, United States
CATEGORIES:Community Events
GEO:34.1920199;-118.4002565
X-APPLE-STRUCTURED-LOCATION;VALUE=URI;X-ADDRESS=Valley Plaza Recreation Center 12240 Archwood St. North Hollywood CA 91606 United States;X-APPLE-RADIUS=500;X-TITLE=12240 Archwood St.\,:geo:-118.4002565,34.1920199
END:VEVENT
BEGIN:VEVENT
DTSTART;TZID=America/Los_Angeles:20260112T190000
DTEND;TZID=America/Los_Angeles:20260112T203000
DTSTAMP:20260423T143159
CREATED:20260104T010620Z
LAST-MODIFIED:20260104T010620Z
UID:19873-1768244400-1768249800@nohowest.org
SUMMARY:North Hollywood Parks Forum
DESCRIPTION:Concerned about parks in North Hollywood? Come to an open mic forum and share your ideas and concerns on Monday\, January 12\, 7pm at the Valley Plaza Recreation Center\, 12240 Archwood. \nIn 1950 neighbors enjoyed a 171 acre park extending north of Sherman Way.  “Preserving the 77 acres that remain park land requires your community engagement\,” R. Bitzer\, Park Advisory Board\, North Hollywood 30-year resident.
URL:https://nohowest.org/calendar/north-hollywood-parks-forum/
LOCATION:Valley Plaza Recreation Center\, 12240 Archwood St.\,\, North Hollywood\, CA\, 91606\, United States
CATEGORIES:Community Events
GEO:34.1920199;-118.4002565
X-APPLE-STRUCTURED-LOCATION;VALUE=URI;X-ADDRESS=Valley Plaza Recreation Center 12240 Archwood St. North Hollywood CA 91606 United States;X-APPLE-RADIUS=500;X-TITLE=12240 Archwood St.\,:geo:-118.4002565,34.1920199
END:VEVENT
BEGIN:VEVENT
DTSTART;TZID=America/Los_Angeles:20251213T160000
DTEND;TZID=America/Los_Angeles:20251213T180000
DTSTAMP:20260423T143159
CREATED:20251104T175904Z
LAST-MODIFIED:20251122T004308Z
UID:19807-1765641600-1765648800@nohowest.org
SUMMARY:Let it Snow
DESCRIPTION:
URL:https://nohowest.org/calendar/let-it-snow/
LOCATION:Valley Plaza Recreation Center\, 12240 Archwood St.\,\, North Hollywood\, CA\, 91606\, United States
CATEGORIES:Community Events
GEO:34.1920199;-118.4002565
X-APPLE-STRUCTURED-LOCATION;VALUE=URI;X-ADDRESS=Valley Plaza Recreation Center 12240 Archwood St. North Hollywood CA 91606 United States;X-APPLE-RADIUS=500;X-TITLE=12240 Archwood St.\,:geo:-118.4002565,34.1920199
END:VEVENT
BEGIN:VEVENT
DTSTART;TZID=America/Los_Angeles:20251014T180000
DTEND;TZID=America/Los_Angeles:20251014T200000
DTSTAMP:20260423T143159
CREATED:20251007T174100Z
LAST-MODIFIED:20251007T174100Z
UID:19745-1760464800-1760472000@nohowest.org
SUMMARY:Stormwater Capture at Whitsett Sports Center
DESCRIPTION:Hear about plans to 2 additional soccer fields at Whitsett Sports Park
URL:https://nohowest.org/calendar/stormwater-capture-at-whitsett-sports-center/
LOCATION:Valley Plaza Recreation Center\, 12240 Archwood St.\,\, North Hollywood\, CA\, 91606\, United States
CATEGORIES:Community Events
GEO:34.1920199;-118.4002565
X-APPLE-STRUCTURED-LOCATION;VALUE=URI;X-ADDRESS=Valley Plaza Recreation Center 12240 Archwood St. North Hollywood CA 91606 United States;X-APPLE-RADIUS=500;X-TITLE=12240 Archwood St.\,:geo:-118.4002565,34.1920199
END:VEVENT
BEGIN:VEVENT
DTSTART;TZID=America/Los_Angeles:20250824T110000
DTEND;TZID=America/Los_Angeles:20250824T130000
DTSTAMP:20260423T143159
CREATED:20250818T184837Z
LAST-MODIFIED:20250818T184837Z
UID:19660-1756033200-1756040400@nohowest.org
SUMMARY:Self Defense Clinic
DESCRIPTION:Councilmember Nazarian invites you to a FREE self-defense clinic at Valley Plaza Recreation Center in North Hollywood. \nSunday\, August 24\, 2025\n11:00 AM to 1:00 PM\nValley Plaza Recreation Center\n12240 Archwood Street\nNorth Hollywood\, CA 91606 \nLearn tips and tricks to help save your life\, and defensive techniques you’ll remember even if you panic. \nRSVP to register for this FREE workshop. Call 818 213 7783 for more information.
URL:https://nohowest.org/calendar/self-defense-clinic/
LOCATION:Valley Plaza Recreation Center\, 12240 Archwood St.\,\, North Hollywood\, CA\, 91606\, United States
CATEGORIES:Community Events
GEO:34.1920199;-118.4002565
X-APPLE-STRUCTURED-LOCATION;VALUE=URI;X-ADDRESS=Valley Plaza Recreation Center 12240 Archwood St. North Hollywood CA 91606 United States;X-APPLE-RADIUS=500;X-TITLE=12240 Archwood St.\,:geo:-118.4002565,34.1920199
END:VEVENT
BEGIN:VEVENT
DTSTART;TZID=America/Los_Angeles:20250731T180000
DTEND;TZID=America/Los_Angeles:20250731T193000
DTSTAMP:20260423T143159
CREATED:20250712T020320Z
LAST-MODIFIED:20250712T020320Z
UID:19598-1753984800-1753990200@nohowest.org
SUMMARY:Backpack Giveaway
DESCRIPTION:
URL:https://nohowest.org/calendar/backpack-giveaway/
LOCATION:Valley Plaza Recreation Center\, 12240 Archwood St.\,\, North Hollywood\, CA\, 91606\, United States
CATEGORIES:Community Events
GEO:34.1920199;-118.4002565
X-APPLE-STRUCTURED-LOCATION;VALUE=URI;X-ADDRESS=Valley Plaza Recreation Center 12240 Archwood St. North Hollywood CA 91606 United States;X-APPLE-RADIUS=500;X-TITLE=12240 Archwood St.\,:geo:-118.4002565,34.1920199
END:VEVENT
BEGIN:VEVENT
DTSTART;TZID=America/Los_Angeles:20250419T110000
DTEND;TZID=America/Los_Angeles:20250419T130000
DTSTAMP:20260423T143159
CREATED:20250404T203039Z
LAST-MODIFIED:20250404T203039Z
UID:19331-1745060400-1745067600@nohowest.org
SUMMARY:Egg Hunt
DESCRIPTION:Egg Hunt: Games\, Face painting\, prizes\, community groups\, arts and crafts\, and snacks \nhttps://www.laparks.org/sites/default/files/events/2025/Spring%20Events%202025%20-%20Google%20Sheets.pdf
URL:https://nohowest.org/calendar/egg-hunt-3/
LOCATION:Valley Plaza Recreation Center\, 12240 Archwood St.\,\, North Hollywood\, CA\, 91606\, United States
CATEGORIES:Community Events
GEO:34.1920199;-118.4002565
X-APPLE-STRUCTURED-LOCATION;VALUE=URI;X-ADDRESS=Valley Plaza Recreation Center 12240 Archwood St. North Hollywood CA 91606 United States;X-APPLE-RADIUS=500;X-TITLE=12240 Archwood St.\,:geo:-118.4002565,34.1920199
END:VEVENT
BEGIN:VEVENT
DTSTART;TZID=America/Los_Angeles:20241218T183000
DTEND;TZID=America/Los_Angeles:20241218T194500
DTSTAMP:20260423T143159
CREATED:20241125T221622Z
LAST-MODIFIED:20241125T221622Z
UID:19073-1734546600-1734551100@nohowest.org
SUMMARY:Volunteer Appreciation Day
DESCRIPTION:
URL:https://nohowest.org/calendar/volunteer-appreciation-day/
LOCATION:Valley Plaza Recreation Center\, 12240 Archwood St.\,\, North Hollywood\, CA\, 91606\, United States
CATEGORIES:Community Events
GEO:34.1920199;-118.4002565
X-APPLE-STRUCTURED-LOCATION;VALUE=URI;X-ADDRESS=Valley Plaza Recreation Center 12240 Archwood St. North Hollywood CA 91606 United States;X-APPLE-RADIUS=500;X-TITLE=12240 Archwood St.\,:geo:-118.4002565,34.1920199
END:VEVENT
BEGIN:VEVENT
DTSTART;TZID=America/Los_Angeles:20241026T090000
DTEND;TZID=America/Los_Angeles:20241026T110000
DTSTAMP:20260423T143159
CREATED:20241016T190433Z
LAST-MODIFIED:20241016T190433Z
UID:18949-1729933200-1729940400@nohowest.org
SUMMARY:Community Clean-Up & Resource Fair
DESCRIPTION:Event Details:\nDate: October 26th\nTime: 9 AM – 11 AM (Set-up begins at 8 AM)\nLocation: 6451 St Clair Ave\, North Hollywood\, CA 91606 (Valley Plaza Park) \nRSVP Link: https://rb.gy/tfocsc \nWe invite you to volunteer and ask that you RSVP. There is parking available in the park lots and along the street. For more information\, please refer to the flyer. Volunteers can earn service credit\, which the CD2 Office is happy to sign off on.
URL:https://nohowest.org/calendar/community-clean-up-resource-fair/
LOCATION:Valley Plaza Recreation Center\, 12240 Archwood St.\,\, North Hollywood\, CA\, 91606\, United States
CATEGORIES:Community Events
GEO:34.1920199;-118.4002565
X-APPLE-STRUCTURED-LOCATION;VALUE=URI;X-ADDRESS=Valley Plaza Recreation Center 12240 Archwood St. North Hollywood CA 91606 United States;X-APPLE-RADIUS=500;X-TITLE=12240 Archwood St.\,:geo:-118.4002565,34.1920199
END:VEVENT
BEGIN:VEVENT
DTSTART;TZID=America/Los_Angeles:20240921T100000
DTEND;TZID=America/Los_Angeles:20240921T140000
DTSTAMP:20260423T143159
CREATED:20240827T040813Z
LAST-MODIFIED:20240827T040813Z
UID:18796-1726912800-1726927200@nohowest.org
SUMMARY:Fur Fest
DESCRIPTION:
URL:https://nohowest.org/calendar/fur-fest/
LOCATION:Valley Plaza Recreation Center\, 12240 Archwood St.\,\, North Hollywood\, CA\, 91606\, United States
CATEGORIES:Community Events
GEO:34.1920199;-118.4002565
X-APPLE-STRUCTURED-LOCATION;VALUE=URI;X-ADDRESS=Valley Plaza Recreation Center 12240 Archwood St. North Hollywood CA 91606 United States;X-APPLE-RADIUS=500;X-TITLE=12240 Archwood St.\,:geo:-118.4002565,34.1920199
END:VEVENT
BEGIN:VEVENT
DTSTART;TZID=America/Los_Angeles:20240330T113000
DTEND;TZID=America/Los_Angeles:20240330T133000
DTSTAMP:20260423T143159
CREATED:20240327T184116Z
LAST-MODIFIED:20240327T184116Z
UID:18313-1711798200-1711805400@nohowest.org
SUMMARY:Egg Hunt
DESCRIPTION:
URL:https://nohowest.org/calendar/egg-hunt-2/
LOCATION:Valley Plaza Recreation Center\, 12240 Archwood St.\,\, North Hollywood\, CA\, 91606\, United States
CATEGORIES:Community Events
GEO:34.1920199;-118.4002565
X-APPLE-STRUCTURED-LOCATION;VALUE=URI;X-ADDRESS=Valley Plaza Recreation Center 12240 Archwood St. North Hollywood CA 91606 United States;X-APPLE-RADIUS=500;X-TITLE=12240 Archwood St.\,:geo:-118.4002565,34.1920199
END:VEVENT
BEGIN:VEVENT
DTSTART;TZID=America/Los_Angeles:20231027T153000
DTEND;TZID=America/Los_Angeles:20231027T180000
DTSTAMP:20260423T143159
CREATED:20231023T174300Z
LAST-MODIFIED:20231023T174300Z
UID:16582-1698420600-1698429600@nohowest.org
SUMMARY:Spooky Spectacular
DESCRIPTION:
URL:https://nohowest.org/calendar/spooky-spectacular-2/
LOCATION:Valley Plaza Recreation Center\, 12240 Archwood St.\,\, North Hollywood\, CA\, 91606\, United States
CATEGORIES:Community Events
GEO:34.1920199;-118.4002565
X-APPLE-STRUCTURED-LOCATION;VALUE=URI;X-ADDRESS=Valley Plaza Recreation Center 12240 Archwood St. North Hollywood CA 91606 United States;X-APPLE-RADIUS=500;X-TITLE=12240 Archwood St.\,:geo:-118.4002565,34.1920199
END:VEVENT
BEGIN:VEVENT
DTSTART;TZID=America/Los_Angeles:20230827T080000
DTEND;TZID=America/Los_Angeles:20230827T140000
DTSTAMP:20260423T143159
CREATED:20230825T041159Z
LAST-MODIFIED:20230825T041159Z
UID:15942-1693123200-1693144800@nohowest.org
SUMMARY:Dental Fair
DESCRIPTION:
URL:https://nohowest.org/calendar/dental-fair/
LOCATION:Valley Plaza Recreation Center\, 12240 Archwood St.\,\, North Hollywood\, CA\, 91606\, United States
CATEGORIES:Community Events
GEO:34.1920199;-118.4002565
X-APPLE-STRUCTURED-LOCATION;VALUE=URI;X-ADDRESS=Valley Plaza Recreation Center 12240 Archwood St. North Hollywood CA 91606 United States;X-APPLE-RADIUS=500;X-TITLE=12240 Archwood St.\,:geo:-118.4002565,34.1920199
END:VEVENT
BEGIN:VEVENT
DTSTART;TZID=America/Los_Angeles:20230522T183000
DTEND;TZID=America/Los_Angeles:20230522T193000
DTSTAMP:20260423T143159
CREATED:20230518T222652Z
LAST-MODIFIED:20230519T182017Z
UID:14873-1684780200-1684783800@nohowest.org
SUMMARY:Special Meeting
DESCRIPTION:Join us for a specially scheduled meeting of the NoHo West Neighborhood Council on Monday\, May 22\, 6:30pm at Valley Plaza Recreation Center in their classroom\, 12240 Archwood St. \nMeeting Documents: \n\nGeneral Board Meeting Agenda 5-22-23\nNorth Hollywood West NC- NPG PESA\nBudget Tracker 2022-23
URL:https://nohowest.org/calendar/special-meeting-2/
LOCATION:Valley Plaza Recreation Center\, 12240 Archwood St.\,\, North Hollywood\, CA\, 91606\, United States
CATEGORIES:General Board
GEO:34.1920199;-118.4002565
X-APPLE-STRUCTURED-LOCATION;VALUE=URI;X-ADDRESS=Valley Plaza Recreation Center 12240 Archwood St. North Hollywood CA 91606 United States;X-APPLE-RADIUS=500;X-TITLE=12240 Archwood St.\,:geo:-118.4002565,34.1920199
END:VEVENT
BEGIN:VEVENT
DTSTART;TZID=America/Los_Angeles:20230426T150000
DTEND;TZID=America/Los_Angeles:20230426T160000
DTSTAMP:20260423T143159
CREATED:20230419T162831Z
LAST-MODIFIED:20230421T201203Z
UID:14595-1682521200-1682524800@nohowest.org
SUMMARY:Executive Committee Meeting
DESCRIPTION:The public is invited to our Executive Committee Meeting as we plan our next Board Meeting. \nNoHoWest Executive Board Meeting 4.26.23 \nNOHOWNC Approved Bylaws – 4-22-2022 – Proposed Amendment
URL:https://nohowest.org/calendar/executive-committee-meeting-44/
LOCATION:Valley Plaza Recreation Center\, 12240 Archwood St.\,\, North Hollywood\, CA\, 91606\, United States
CATEGORIES:Committee Meeting
GEO:34.1920199;-118.4002565
X-APPLE-STRUCTURED-LOCATION;VALUE=URI;X-ADDRESS=Valley Plaza Recreation Center 12240 Archwood St. North Hollywood CA 91606 United States;X-APPLE-RADIUS=500;X-TITLE=12240 Archwood St.\,:geo:-118.4002565,34.1920199
END:VEVENT
BEGIN:VEVENT
DTSTART;TZID=America/Los_Angeles:20230407T160000
DTEND;TZID=America/Los_Angeles:20230407T183000
DTSTAMP:20260423T143159
CREATED:20230330T233737Z
LAST-MODIFIED:20230411T184053Z
UID:14374-1680883200-1680892200@nohowest.org
SUMMARY:Valley Plaza Egg Hunt
DESCRIPTION:Egg Hunt\nFree Food\nGames and Crafts
URL:https://nohowest.org/calendar/valley-plaza-egg-hunt/
LOCATION:Valley Plaza Recreation Center\, 12240 Archwood St.\,\, North Hollywood\, CA\, 91606\, United States
CATEGORIES:Community Events
GEO:34.1920199;-118.4002565
X-APPLE-STRUCTURED-LOCATION;VALUE=URI;X-ADDRESS=Valley Plaza Recreation Center 12240 Archwood St. North Hollywood CA 91606 United States;X-APPLE-RADIUS=500;X-TITLE=12240 Archwood St.\,:geo:-118.4002565,34.1920199
END:VEVENT
BEGIN:VEVENT
DTSTART;TZID=America/Los_Angeles:20230406T150000
DTEND;TZID=America/Los_Angeles:20230406T170000
DTSTAMP:20260423T143159
CREATED:20230329T024039Z
LAST-MODIFIED:20230329T024039Z
UID:14364-1680793200-1680800400@nohowest.org
SUMMARY:Free Groceries
DESCRIPTION:
URL:https://nohowest.org/calendar/free-groceries/
LOCATION:Valley Plaza Recreation Center\, 12240 Archwood St.\,\, North Hollywood\, CA\, 91606\, United States
CATEGORIES:Community Events
GEO:34.1920199;-118.4002565
X-APPLE-STRUCTURED-LOCATION;VALUE=URI;X-ADDRESS=Valley Plaza Recreation Center 12240 Archwood St. North Hollywood CA 91606 United States;X-APPLE-RADIUS=500;X-TITLE=12240 Archwood St.\,:geo:-118.4002565,34.1920199
END:VEVENT
BEGIN:VEVENT
DTSTART;TZID=America/Los_Angeles:20221029T140000
DTEND;TZID=America/Los_Angeles:20221029T200000
DTSTAMP:20260423T143159
CREATED:20221006T174831Z
LAST-MODIFIED:20221027T180716Z
UID:12771-1667052000-1667073600@nohowest.org
SUMMARY:Spooky Spectacular
DESCRIPTION:
URL:https://nohowest.org/calendar/spooky-spectacular/
LOCATION:Valley Plaza Recreation Center\, 12240 Archwood St.\,\, North Hollywood\, CA\, 91606\, United States
CATEGORIES:Community Events
GEO:34.1920199;-118.4002565
X-APPLE-STRUCTURED-LOCATION;VALUE=URI;X-ADDRESS=Valley Plaza Recreation Center 12240 Archwood St. North Hollywood CA 91606 United States;X-APPLE-RADIUS=500;X-TITLE=12240 Archwood St.\,:geo:-118.4002565,34.1920199
END:VEVENT
BEGIN:VEVENT
DTSTART;TZID=America/Los_Angeles:20211030T140000
DTEND;TZID=America/Los_Angeles:20211030T170000
DTSTAMP:20260423T143159
CREATED:20211020T172423Z
LAST-MODIFIED:20211020T172423Z
UID:10941-1635602400-1635613200@nohowest.org
SUMMARY:Halloween Trick or Treat Fun Time
DESCRIPTION:Join us for a Halloween Trick or Treat Boooo Fun Time \nWalk up by the pool at Valley Plaza Recreation Center\, Drive through at Archwood at the Main Entrance. Spin the wheel\, win a prize. \nMasks required.
URL:https://nohowest.org/calendar/halloween-trick-or-treat-fun-time/
LOCATION:Valley Plaza Recreation Center\, 12240 Archwood St.\,\, North Hollywood\, CA\, 91606\, United States
CATEGORIES:Community Events
GEO:34.1920199;-118.4002565
X-APPLE-STRUCTURED-LOCATION;VALUE=URI;X-ADDRESS=Valley Plaza Recreation Center 12240 Archwood St. North Hollywood CA 91606 United States;X-APPLE-RADIUS=500;X-TITLE=12240 Archwood St.\,:geo:-118.4002565,34.1920199
END:VEVENT
BEGIN:VEVENT
DTSTART;TZID=America/Los_Angeles:20200912T080000
DTEND;TZID=America/Los_Angeles:20200912T140000
DTSTAMP:20260423T143159
CREATED:20200910T220325Z
LAST-MODIFIED:20200910T220325Z
UID:9613-1599897600-1599919200@nohowest.org
SUMMARY:COVID-19 Testing
DESCRIPTION:
URL:https://nohowest.org/calendar/covid-19-testing/
LOCATION:Valley Plaza Recreation Center\, 12240 Archwood St.\,\, North Hollywood\, CA\, 91606\, United States
CATEGORIES:Community Events
GEO:34.1920199;-118.4002565
X-APPLE-STRUCTURED-LOCATION;VALUE=URI;X-ADDRESS=Valley Plaza Recreation Center 12240 Archwood St. North Hollywood CA 91606 United States;X-APPLE-RADIUS=500;X-TITLE=12240 Archwood St.\,:geo:-118.4002565,34.1920199
END:VEVENT
BEGIN:VEVENT
DTSTART;TZID=America/Los_Angeles:20191031T160000
DTEND;TZID=America/Los_Angeles:20191031T200000
DTSTAMP:20260423T143159
CREATED:20191023T175028Z
LAST-MODIFIED:20191023T222941Z
UID:8890-1572537600-1572552000@nohowest.org
SUMMARY:Halloween Carnival
DESCRIPTION:Free for all ages! Face painting\, carnival games\, moon bounce\, crafts\, music\, prizes\, candy and more! \nCostume contest: \nAges 0-2\, 5:30pm \n3-5\, 5:45pm \n6-8\, 6pm \n9-11\, 6:15 pm \n12+\, 6:30pm
URL:https://nohowest.org/calendar/halloween-carnival-2/
LOCATION:Valley Plaza Recreation Center\, 12240 Archwood St.\,\, North Hollywood\, CA\, 91606\, United States
CATEGORIES:Community Events
GEO:34.1920199;-118.4002565
X-APPLE-STRUCTURED-LOCATION;VALUE=URI;X-ADDRESS=Valley Plaza Recreation Center 12240 Archwood St. North Hollywood CA 91606 United States;X-APPLE-RADIUS=500;X-TITLE=12240 Archwood St.\,:geo:-118.4002565,34.1920199
END:VEVENT
BEGIN:VEVENT
DTSTART;TZID=America/Los_Angeles:20191005T110000
DTEND;TZID=America/Los_Angeles:20191005T130000
DTSTAMP:20260423T143159
CREATED:20191003T204305Z
LAST-MODIFIED:20191003T204305Z
UID:8834-1570273200-1570280400@nohowest.org
SUMMARY:Waste Not: Opening Celebration
DESCRIPTION:This will be the unveiling of the Contemporary Museum of Temporary Containers. We worked with the local teens and senior groups\, and collected nearly 1500 single-use food containers from the families who use the Valley Plaza Park in North Hollywood. We will make a sprawling display of the community’s collection\, spanning the north side of the park. The containers are sorted and colored according to size and material. The project aims to make banal food container something worthy of closer viewing\, while contemplating creative reuse and the limits of sustainability and recycling at a critical juncture of environmental responsibility. \nLearn about the state of recycling and zero waste from experts. Family friendly and accessible. RSVP appreciated. \nCURRENT:LA puts a new spin on traditional international triennials by democratizing the way people access art. The initiative shifts art away from the museum environment and places temporary public art projects and public programs in the neighborhoods of Los Angeles where residents and visitors live\, work\, and play. \nCURRENT:LA uses contemporary art as a way to deepen connections on issues affecting Los Angeles and other global cities to inspire civic discourse on those particular issues. \nCURRENT:LA is funded by the City of Los Angeles Department of Cultural Affairs.
URL:https://nohowest.org/calendar/waste-not-opening-celebration/
LOCATION:Valley Plaza Recreation Center\, 12240 Archwood St.\,\, North Hollywood\, CA\, 91606\, United States
CATEGORIES:Community Events
GEO:34.1920199;-118.4002565
X-APPLE-STRUCTURED-LOCATION;VALUE=URI;X-ADDRESS=Valley Plaza Recreation Center 12240 Archwood St. North Hollywood CA 91606 United States;X-APPLE-RADIUS=500;X-TITLE=12240 Archwood St.\,:geo:-118.4002565,34.1920199
END:VEVENT
BEGIN:VEVENT
DTSTART;TZID=America/Los_Angeles:20190418T160000
DTEND;TZID=America/Los_Angeles:20190418T190000
DTSTAMP:20260423T143159
CREATED:20190416T200115Z
LAST-MODIFIED:20190416T200115Z
UID:8529-1555603200-1555614000@nohowest.org
SUMMARY:Spring Egg Hunt
DESCRIPTION:Join us for a Spring Egg Hunt\, games\, face painting and more!
URL:https://nohowest.org/calendar/spring-egg-hunt-2/
LOCATION:Valley Plaza Recreation Center\, 12240 Archwood St.\,\, North Hollywood\, CA\, 91606\, United States
CATEGORIES:Community Events
GEO:34.1920199;-118.4002565
X-APPLE-STRUCTURED-LOCATION;VALUE=URI;X-ADDRESS=Valley Plaza Recreation Center 12240 Archwood St. North Hollywood CA 91606 United States;X-APPLE-RADIUS=500;X-TITLE=12240 Archwood St.\,:geo:-118.4002565,34.1920199
END:VEVENT
BEGIN:VEVENT
DTSTART;TZID=America/Los_Angeles:20181208T140000
DTEND;TZID=America/Los_Angeles:20181208T180000
DTSTAMP:20260423T143159
CREATED:20181025T023142Z
LAST-MODIFIED:20181121T233259Z
UID:8100-1544277600-1544292000@nohowest.org
SUMMARY:Holiday in the Oaks
DESCRIPTION:Join us for Holiday in the Oaks at Valley Plaza Recreation Center. Free face painting\, kid’s games\, music\, entertainment and more. Tree lighting ceremony at 5pm. Plus a special guest from the North Pole! \nValley Plaza Recreation Center\, North Hollywood Northeast Neighborhood Council\, City Councilman Paul Krekorian and North Hollywood West Neighborhood Council bring you this event.
URL:https://nohowest.org/calendar/2018-oaks/
LOCATION:Valley Plaza Recreation Center\, 12240 Archwood St.\,\, North Hollywood\, CA\, 91606\, United States
CATEGORIES:Community Events
GEO:34.1920199;-118.4002565
X-APPLE-STRUCTURED-LOCATION;VALUE=URI;X-ADDRESS=Valley Plaza Recreation Center 12240 Archwood St. North Hollywood CA 91606 United States;X-APPLE-RADIUS=500;X-TITLE=12240 Archwood St.\,:geo:-118.4002565,34.1920199
END:VEVENT
BEGIN:VEVENT
DTSTART;TZID=America/Los_Angeles:20181119T100000
DTEND;TZID=America/Los_Angeles:20181119T110000
DTSTAMP:20260423T143159
CREATED:20181117T024524Z
LAST-MODIFIED:20181117T024524Z
UID:8156-1542621600-1542625200@nohowest.org
SUMMARY:Outreach Committee Meeting
DESCRIPTION:Join us Monday\, November 19\, 10am at the Valley Plaza Recreation Center\, 12240 Archwood St. for our Outreach Committee Meeting. \n2018-1119-Outreach-Agenda
URL:https://nohowest.org/calendar/outreach-committee-meeting-8/
LOCATION:Valley Plaza Recreation Center\, 12240 Archwood St.\,\, North Hollywood\, CA\, 91606\, United States
CATEGORIES:Committee Meeting
GEO:34.1920199;-118.4002565
X-APPLE-STRUCTURED-LOCATION;VALUE=URI;X-ADDRESS=Valley Plaza Recreation Center 12240 Archwood St. North Hollywood CA 91606 United States;X-APPLE-RADIUS=500;X-TITLE=12240 Archwood St.\,:geo:-118.4002565,34.1920199
END:VEVENT
BEGIN:VEVENT
DTSTART;TZID=America/Los_Angeles:20181116T170000
DTEND;TZID=America/Los_Angeles:20181116T230000
DTSTAMP:20260423T143159
CREATED:20181025T023036Z
LAST-MODIFIED:20181025T023036Z
UID:8095-1542387600-1542409200@nohowest.org
SUMMARY:Valley Plaza Carnival
DESCRIPTION:
URL:https://nohowest.org/calendar/valley-plaza-carnival/2018-11-16/
LOCATION:Valley Plaza Recreation Center\, 12240 Archwood St.\,\, North Hollywood\, CA\, 91606\, United States
CATEGORIES:Community Events
GEO:34.1920199;-118.4002565
X-APPLE-STRUCTURED-LOCATION;VALUE=URI;X-ADDRESS=Valley Plaza Recreation Center 12240 Archwood St. North Hollywood CA 91606 United States;X-APPLE-RADIUS=500;X-TITLE=12240 Archwood St.\,:geo:-118.4002565,34.1920199
END:VEVENT
BEGIN:VEVENT
DTSTART;TZID=America/Los_Angeles:20181102T113000
DTEND;TZID=America/Los_Angeles:20181102T123000
DTSTAMP:20260423T143159
CREATED:20181101T205928Z
LAST-MODIFIED:20181101T205928Z
UID:8114-1541158200-1541161800@nohowest.org
SUMMARY:Outreach Committee Meeting
DESCRIPTION:2018-1102-Outreach-Agenda
URL:https://nohowest.org/calendar/outreach-committee-meeting-7/
LOCATION:Valley Plaza Recreation Center\, 12240 Archwood St.\,\, North Hollywood\, CA\, 91606\, United States
CATEGORIES:Committee Meeting
GEO:34.1920199;-118.4002565
X-APPLE-STRUCTURED-LOCATION;VALUE=URI;X-ADDRESS=Valley Plaza Recreation Center 12240 Archwood St. North Hollywood CA 91606 United States;X-APPLE-RADIUS=500;X-TITLE=12240 Archwood St.\,:geo:-118.4002565,34.1920199
END:VEVENT
BEGIN:VEVENT
DTSTART;TZID=America/Los_Angeles:20181027T110000
DTEND;TZID=America/Los_Angeles:20181027T150000
DTSTAMP:20260423T143159
CREATED:20181025T022840Z
LAST-MODIFIED:20181025T022840Z
UID:8091-1540638000-1540652400@nohowest.org
SUMMARY:Halloween Festival
DESCRIPTION:
URL:https://nohowest.org/calendar/halloween-festival-3/
LOCATION:Valley Plaza Recreation Center\, 12240 Archwood St.\,\, North Hollywood\, CA\, 91606\, United States
CATEGORIES:Community Events
GEO:34.1920199;-118.4002565
X-APPLE-STRUCTURED-LOCATION;VALUE=URI;X-ADDRESS=Valley Plaza Recreation Center 12240 Archwood St. North Hollywood CA 91606 United States;X-APPLE-RADIUS=500;X-TITLE=12240 Archwood St.\,:geo:-118.4002565,34.1920199
END:VEVENT
BEGIN:VEVENT
DTSTART;TZID=America/Los_Angeles:20180329T160000
DTEND;TZID=America/Los_Angeles:20180329T190000
DTSTAMP:20260423T143159
CREATED:20180321T171516Z
LAST-MODIFIED:20180321T171516Z
UID:7516-1522339200-1522350000@nohowest.org
SUMMARY:Spring Egg Hunt
DESCRIPTION:
URL:https://nohowest.org/calendar/spring-egg-hunt/
LOCATION:Valley Plaza Recreation Center\, 12240 Archwood St.\,\, North Hollywood\, CA\, 91606\, United States
CATEGORIES:Community Events
GEO:34.1920199;-118.4002565
X-APPLE-STRUCTURED-LOCATION;VALUE=URI;X-ADDRESS=Valley Plaza Recreation Center 12240 Archwood St. North Hollywood CA 91606 United States;X-APPLE-RADIUS=500;X-TITLE=12240 Archwood St.\,:geo:-118.4002565,34.1920199
END:VEVENT
BEGIN:VEVENT
DTSTART;TZID=America/Los_Angeles:20180314T110000
DTEND;TZID=America/Los_Angeles:20180314T120000
DTSTAMP:20260423T143159
CREATED:20180314T002719Z
LAST-MODIFIED:20180314T002719Z
UID:7480-1521025200-1521028800@nohowest.org
SUMMARY:Outreach Special Meeting
DESCRIPTION:2018-0314-Outreach-Agenda
URL:https://nohowest.org/calendar/outreach-special-meeting/
LOCATION:Valley Plaza Recreation Center\, 12240 Archwood St.\,\, North Hollywood\, CA\, 91606\, United States
CATEGORIES:Committee Meeting
GEO:34.1920199;-118.4002565
X-APPLE-STRUCTURED-LOCATION;VALUE=URI;X-ADDRESS=Valley Plaza Recreation Center 12240 Archwood St. North Hollywood CA 91606 United States;X-APPLE-RADIUS=500;X-TITLE=12240 Archwood St.\,:geo:-118.4002565,34.1920199
END:VEVENT
END:VCALENDAR