BEGIN:VCALENDAR
VERSION:2.0
PRODID:-//NoHowest.org - ECPv6.15.16//NONSGML v1.0//EN
CALSCALE:GREGORIAN
METHOD:PUBLISH
X-ORIGINAL-URL:https://nohowest.org
X-WR-CALDESC:Events for NoHowest.org
REFRESH-INTERVAL;VALUE=DURATION:PT1H
X-Robots-Tag:noindex
X-PUBLISHED-TTL:PT1H
BEGIN:VTIMEZONE
TZID:America/Los_Angeles
BEGIN:DAYLIGHT
TZOFFSETFROM:-0800
TZOFFSETTO:-0700
TZNAME:PDT
DTSTART:20150308T100000
END:DAYLIGHT
BEGIN:STANDARD
TZOFFSETFROM:-0700
TZOFFSETTO:-0800
TZNAME:PST
DTSTART:20151101T090000
END:STANDARD
BEGIN:DAYLIGHT
TZOFFSETFROM:-0800
TZOFFSETTO:-0700
TZNAME:PDT
DTSTART:20160313T100000
END:DAYLIGHT
BEGIN:STANDARD
TZOFFSETFROM:-0700
TZOFFSETTO:-0800
TZNAME:PST
DTSTART:20161106T090000
END:STANDARD
BEGIN:DAYLIGHT
TZOFFSETFROM:-0800
TZOFFSETTO:-0700
TZNAME:PDT
DTSTART:20170312T100000
END:DAYLIGHT
BEGIN:STANDARD
TZOFFSETFROM:-0700
TZOFFSETTO:-0800
TZNAME:PST
DTSTART:20171105T090000
END:STANDARD
BEGIN:DAYLIGHT
TZOFFSETFROM:-0800
TZOFFSETTO:-0700
TZNAME:PDT
DTSTART:20180311T100000
END:DAYLIGHT
BEGIN:STANDARD
TZOFFSETFROM:-0700
TZOFFSETTO:-0800
TZNAME:PST
DTSTART:20181104T090000
END:STANDARD
BEGIN:DAYLIGHT
TZOFFSETFROM:-0800
TZOFFSETTO:-0700
TZNAME:PDT
DTSTART:20190310T100000
END:DAYLIGHT
BEGIN:STANDARD
TZOFFSETFROM:-0700
TZOFFSETTO:-0800
TZNAME:PST
DTSTART:20191103T090000
END:STANDARD
END:VTIMEZONE
BEGIN:VEVENT
DTSTART;TZID=America/Los_Angeles:20180314T100000
DTEND;TZID=America/Los_Angeles:20180314T110000
DTSTAMP:20260423T181638
CREATED:20180314T220952Z
LAST-MODIFIED:20180314T220952Z
UID:7501-1521021600-1521025200@nohowest.org
SUMMARY:Beautification Committee Meeting
DESCRIPTION:2018-0314-beautification-agenda
URL:https://nohowest.org/calendar/beautification-committee-meeting-5/
LOCATION:Valley Plaza Recreation Center\, 12240 Archwood St.\,\, North Hollywood\, CA\, 91606\, United States
CATEGORIES:Committee Meeting
GEO:34.1920199;-118.4002565
X-APPLE-STRUCTURED-LOCATION;VALUE=URI;X-ADDRESS=Valley Plaza Recreation Center 12240 Archwood St. North Hollywood CA 91606 United States;X-APPLE-RADIUS=500;X-TITLE=12240 Archwood St.\,:geo:-118.4002565,34.1920199
END:VEVENT
BEGIN:VEVENT
DTSTART;TZID=America/Los_Angeles:20171028T130000
DTEND;TZID=America/Los_Angeles:20171028T170000
DTSTAMP:20260423T181638
CREATED:20171018T173201Z
LAST-MODIFIED:20171025T204439Z
UID:6830-1509195600-1509210000@nohowest.org
SUMMARY:Halloween Festival
DESCRIPTION:Food\, games\, contests\, arts & crafts\, free giveaways!
URL:https://nohowest.org/calendar/halloween-festival-2/
LOCATION:Valley Plaza Recreation Center\, 12240 Archwood St.\,\, North Hollywood\, CA\, 91606\, United States
CATEGORIES:Community Events
GEO:34.1920199;-118.4002565
X-APPLE-STRUCTURED-LOCATION;VALUE=URI;X-ADDRESS=Valley Plaza Recreation Center 12240 Archwood St. North Hollywood CA 91606 United States;X-APPLE-RADIUS=500;X-TITLE=12240 Archwood St.\,:geo:-118.4002565,34.1920199
END:VEVENT
BEGIN:VEVENT
DTSTART;TZID=America/Los_Angeles:20170914T123000
DTEND;TZID=America/Los_Angeles:20170914T143000
DTSTAMP:20260423T181638
CREATED:20170824T153656Z
LAST-MODIFIED:20170824T153656Z
UID:6660-1505392200-1505399400@nohowest.org
SUMMARY:Health & Wellness Fair
DESCRIPTION:
URL:https://nohowest.org/calendar/health-wellness-fair/
LOCATION:Valley Plaza Recreation Center\, 12240 Archwood St.\,\, North Hollywood\, CA\, 91606\, United States
CATEGORIES:Community Events
GEO:34.1920199;-118.4002565
X-APPLE-STRUCTURED-LOCATION;VALUE=URI;X-ADDRESS=Valley Plaza Recreation Center 12240 Archwood St. North Hollywood CA 91606 United States;X-APPLE-RADIUS=500;X-TITLE=12240 Archwood St.\,:geo:-118.4002565,34.1920199
END:VEVENT
BEGIN:VEVENT
DTSTART;TZID=America/Los_Angeles:20170616T163000
DTEND;TZID=America/Los_Angeles:20170616T203000
DTSTAMP:20260423T181638
CREATED:20170512T171830Z
LAST-MODIFIED:20170512T171830Z
UID:6402-1497630600-1497645000@nohowest.org
SUMMARY:Senior Cotillion
DESCRIPTION:
URL:https://nohowest.org/calendar/senior-cotillion/
LOCATION:Valley Plaza Recreation Center\, 12240 Archwood St.\,\, North Hollywood\, CA\, 91606\, United States
CATEGORIES:Community Events
GEO:34.1920199;-118.4002565
X-APPLE-STRUCTURED-LOCATION;VALUE=URI;X-ADDRESS=Valley Plaza Recreation Center 12240 Archwood St. North Hollywood CA 91606 United States;X-APPLE-RADIUS=500;X-TITLE=12240 Archwood St.\,:geo:-118.4002565,34.1920199
END:VEVENT
BEGIN:VEVENT
DTSTART;TZID=America/Los_Angeles:20170614T100000
DTEND;TZID=America/Los_Angeles:20170614T110000
DTSTAMP:20260423T181638
CREATED:20170614T000906Z
LAST-MODIFIED:20170614T000906Z
UID:6487-1497434400-1497438000@nohowest.org
SUMMARY:Special Outreach Committee
DESCRIPTION:2017-0614-Outreach Special Agenda
URL:https://nohowest.org/calendar/special-outreach-committee/
LOCATION:Valley Plaza Recreation Center\, 12240 Archwood St.\,\, North Hollywood\, CA\, 91606\, United States
CATEGORIES:Committee Meeting
GEO:34.1920199;-118.4002565
X-APPLE-STRUCTURED-LOCATION;VALUE=URI;X-ADDRESS=Valley Plaza Recreation Center 12240 Archwood St. North Hollywood CA 91606 United States;X-APPLE-RADIUS=500;X-TITLE=12240 Archwood St.\,:geo:-118.4002565,34.1920199
END:VEVENT
BEGIN:VEVENT
DTSTART;TZID=America/Los_Angeles:20170520T080000
DTEND;TZID=America/Los_Angeles:20170520T140000
DTSTAMP:20260423T181638
CREATED:20170406T222740Z
LAST-MODIFIED:20170406T222740Z
UID:6280-1495267200-1495288800@nohowest.org
SUMMARY:Hopewalk
DESCRIPTION:
URL:https://nohowest.org/calendar/hopewalk/
LOCATION:Valley Plaza Recreation Center\, 12240 Archwood St.\,\, North Hollywood\, CA\, 91606\, United States
CATEGORIES:Community Events
GEO:34.1920199;-118.4002565
X-APPLE-STRUCTURED-LOCATION;VALUE=URI;X-ADDRESS=Valley Plaza Recreation Center 12240 Archwood St. North Hollywood CA 91606 United States;X-APPLE-RADIUS=500;X-TITLE=12240 Archwood St.\,:geo:-118.4002565,34.1920199
END:VEVENT
BEGIN:VEVENT
DTSTART;TZID=America/Los_Angeles:20161210T060000
DTEND;TZID=America/Los_Angeles:20161210T100000
DTSTAMP:20260423T181638
CREATED:20161102T231746Z
LAST-MODIFIED:20161206T200516Z
UID:5842-1481349600-1481364000@nohowest.org
SUMMARY:Holiday In the Oaks
DESCRIPTION:As part of our ongoing outreach to the community\, on December 10\, 2-6pm\, NoHoWest will co-sponsor a Holiday Celebration at the Valley Plaza Recreation Center\, 12240 Archwood St. Come on down for lots of fun and a special guest!
URL:https://nohowest.org/calendar/holiday-celebration/
LOCATION:Valley Plaza Recreation Center\, 12240 Archwood St.\,\, North Hollywood\, CA\, 91606\, United States
CATEGORIES:Community Events
GEO:34.1920199;-118.4002565
X-APPLE-STRUCTURED-LOCATION;VALUE=URI;X-ADDRESS=Valley Plaza Recreation Center 12240 Archwood St. North Hollywood CA 91606 United States;X-APPLE-RADIUS=500;X-TITLE=12240 Archwood St.\,:geo:-118.4002565,34.1920199
END:VEVENT
BEGIN:VEVENT
DTSTART;TZID=America/Los_Angeles:20161029T070000
DTEND;TZID=America/Los_Angeles:20161029T110000
DTSTAMP:20260423T181638
CREATED:20161026T235204Z
LAST-MODIFIED:20161026T235204Z
UID:5820-1477724400-1477738800@nohowest.org
SUMMARY:Halloween Carnival
DESCRIPTION:
URL:https://nohowest.org/calendar/halloween-carnival/
LOCATION:Valley Plaza Recreation Center\, 12240 Archwood St.\,\, North Hollywood\, CA\, 91606\, United States
CATEGORIES:Community Events
GEO:34.1920199;-118.4002565
X-APPLE-STRUCTURED-LOCATION;VALUE=URI;X-ADDRESS=Valley Plaza Recreation Center 12240 Archwood St. North Hollywood CA 91606 United States;X-APPLE-RADIUS=500;X-TITLE=12240 Archwood St.\,:geo:-118.4002565,34.1920199
END:VEVENT
BEGIN:VEVENT
DTSTART;TZID=America/Los_Angeles:20160322T040000
DTEND;TZID=America/Los_Angeles:20160322T050000
DTSTAMP:20260423T181638
CREATED:20160323T010929Z
LAST-MODIFIED:20160323T010929Z
UID:5496-1458619200-1458622800@nohowest.org
SUMMARY:Outreach Meeting
DESCRIPTION:Agenda
URL:https://nohowest.org/calendar/outreach-meeting/
LOCATION:Valley Plaza Recreation Center\, 12240 Archwood St.\,\, North Hollywood\, CA\, 91606\, United States
CATEGORIES:Committee Meeting
GEO:34.1920199;-118.4002565
X-APPLE-STRUCTURED-LOCATION;VALUE=URI;X-ADDRESS=Valley Plaza Recreation Center 12240 Archwood St. North Hollywood CA 91606 United States;X-APPLE-RADIUS=500;X-TITLE=12240 Archwood St.\,:geo:-118.4002565,34.1920199
END:VEVENT
END:VCALENDAR