BEGIN:VCALENDAR
VERSION:2.0
PRODID:-//NoHowest.org - ECPv6.15.16//NONSGML v1.0//EN
CALSCALE:GREGORIAN
METHOD:PUBLISH
X-WR-CALNAME:NoHowest.org
X-ORIGINAL-URL:https://nohowest.org
X-WR-CALDESC:Events for NoHowest.org
REFRESH-INTERVAL;VALUE=DURATION:PT1H
X-Robots-Tag:noindex
X-PUBLISHED-TTL:PT1H
BEGIN:VTIMEZONE
TZID:America/Los_Angeles
BEGIN:DAYLIGHT
TZOFFSETFROM:-0800
TZOFFSETTO:-0700
TZNAME:PDT
DTSTART:20140309T100000
END:DAYLIGHT
BEGIN:STANDARD
TZOFFSETFROM:-0700
TZOFFSETTO:-0800
TZNAME:PST
DTSTART:20141102T090000
END:STANDARD
BEGIN:DAYLIGHT
TZOFFSETFROM:-0800
TZOFFSETTO:-0700
TZNAME:PDT
DTSTART:20150308T100000
END:DAYLIGHT
BEGIN:STANDARD
TZOFFSETFROM:-0700
TZOFFSETTO:-0800
TZNAME:PST
DTSTART:20151101T090000
END:STANDARD
BEGIN:DAYLIGHT
TZOFFSETFROM:-0800
TZOFFSETTO:-0700
TZNAME:PDT
DTSTART:20160313T100000
END:DAYLIGHT
BEGIN:STANDARD
TZOFFSETFROM:-0700
TZOFFSETTO:-0800
TZNAME:PST
DTSTART:20161106T090000
END:STANDARD
BEGIN:DAYLIGHT
TZOFFSETFROM:-0800
TZOFFSETTO:-0700
TZNAME:PDT
DTSTART:20170312T100000
END:DAYLIGHT
BEGIN:STANDARD
TZOFFSETFROM:-0700
TZOFFSETTO:-0800
TZNAME:PST
DTSTART:20171105T090000
END:STANDARD
BEGIN:DAYLIGHT
TZOFFSETFROM:-0800
TZOFFSETTO:-0700
TZNAME:PDT
DTSTART:20180311T100000
END:DAYLIGHT
BEGIN:STANDARD
TZOFFSETFROM:-0700
TZOFFSETTO:-0800
TZNAME:PST
DTSTART:20181104T090000
END:STANDARD
BEGIN:DAYLIGHT
TZOFFSETFROM:-0800
TZOFFSETTO:-0700
TZNAME:PDT
DTSTART:20190310T100000
END:DAYLIGHT
BEGIN:STANDARD
TZOFFSETFROM:-0700
TZOFFSETTO:-0800
TZNAME:PST
DTSTART:20191103T090000
END:STANDARD
BEGIN:DAYLIGHT
TZOFFSETFROM:-0800
TZOFFSETTO:-0700
TZNAME:PDT
DTSTART:20200308T100000
END:DAYLIGHT
BEGIN:STANDARD
TZOFFSETFROM:-0700
TZOFFSETTO:-0800
TZNAME:PST
DTSTART:20201101T090000
END:STANDARD
BEGIN:DAYLIGHT
TZOFFSETFROM:-0800
TZOFFSETTO:-0700
TZNAME:PDT
DTSTART:20210314T100000
END:DAYLIGHT
BEGIN:STANDARD
TZOFFSETFROM:-0700
TZOFFSETTO:-0800
TZNAME:PST
DTSTART:20211107T090000
END:STANDARD
BEGIN:DAYLIGHT
TZOFFSETFROM:-0800
TZOFFSETTO:-0700
TZNAME:PDT
DTSTART:20220313T100000
END:DAYLIGHT
BEGIN:STANDARD
TZOFFSETFROM:-0700
TZOFFSETTO:-0800
TZNAME:PST
DTSTART:20221106T090000
END:STANDARD
BEGIN:DAYLIGHT
TZOFFSETFROM:-0800
TZOFFSETTO:-0700
TZNAME:PDT
DTSTART:20230312T100000
END:DAYLIGHT
BEGIN:STANDARD
TZOFFSETFROM:-0700
TZOFFSETTO:-0800
TZNAME:PST
DTSTART:20231105T090000
END:STANDARD
BEGIN:DAYLIGHT
TZOFFSETFROM:-0800
TZOFFSETTO:-0700
TZNAME:PDT
DTSTART:20240310T100000
END:DAYLIGHT
BEGIN:STANDARD
TZOFFSETFROM:-0700
TZOFFSETTO:-0800
TZNAME:PST
DTSTART:20241103T090000
END:STANDARD
BEGIN:DAYLIGHT
TZOFFSETFROM:-0800
TZOFFSETTO:-0700
TZNAME:PDT
DTSTART:20250309T100000
END:DAYLIGHT
BEGIN:STANDARD
TZOFFSETFROM:-0700
TZOFFSETTO:-0800
TZNAME:PST
DTSTART:20251102T090000
END:STANDARD
BEGIN:DAYLIGHT
TZOFFSETFROM:-0800
TZOFFSETTO:-0700
TZNAME:PDT
DTSTART:20260308T100000
END:DAYLIGHT
BEGIN:STANDARD
TZOFFSETFROM:-0700
TZOFFSETTO:-0800
TZNAME:PST
DTSTART:20261101T090000
END:STANDARD
END:VTIMEZONE
BEGIN:VEVENT
DTSTART;TZID=America/Los_Angeles:20250426T100000
DTEND;TZID=America/Los_Angeles:20250426T110000
DTSTAMP:20260423T212453
CREATED:20250407T193545Z
LAST-MODIFIED:20250407T193545Z
UID:19333-1745661600-1745665200@nohowest.org
SUMMARY:Armenian Heritage Day
DESCRIPTION:Enjoy a special celebration of culture\, community\, and connection at Armenian Heritage Day in Van Nuys City Hall! \n📅 Saturday\, April 26\, 2025\n🕙 Starting at 10 AM\n📍 14410 Sylvan St\, Van Nuys\, CA 91401 \n(Courtyard behind the building) \nEnjoy a morning filled with free food\, live dance performances\, and moving poetry that highlight the richness and vibrancy of Armenian heritage. We’ll also be hosting a community resource fair to connect residents with local services and support. \nAll are welcome
URL:https://nohowest.org/calendar/armenian-heritage-day/
LOCATION:Van Nuys City Hall\, 6262 Van Nuys Blvd.\, Van Nuys\, 91401
CATEGORIES:Community Events
ATTACH;FMTTYPE=image/jpeg:https://nohowest.org/wp-content/uploads/2025/04/2025-0426-armenian-heritage-day.jpg
GEO:34.1842282;-118.4482861
X-APPLE-STRUCTURED-LOCATION;VALUE=URI;X-ADDRESS=Van Nuys City Hall 6262 Van Nuys Blvd. Van Nuys 91401;X-APPLE-RADIUS=500;X-TITLE=6262 Van Nuys Blvd.:geo:-118.4482861,34.1842282
END:VEVENT
BEGIN:VEVENT
DTSTART;TZID=America/Los_Angeles:20230522T100000
DTEND;TZID=America/Los_Angeles:20230522T120000
DTSTAMP:20260423T212453
CREATED:20230417T211949Z
LAST-MODIFIED:20230417T211949Z
UID:14568-1684749600-1684756800@nohowest.org
SUMMARY:Reform LA Listening Sessions
DESCRIPTION:
URL:https://nohowest.org/calendar/reform-la-listening-sessions-2/
LOCATION:Van Nuys City Hall\, 6262 Van Nuys Blvd.\, Van Nuys\, 91401
CATEGORIES:Community Events
GEO:34.1842282;-118.4482861
X-APPLE-STRUCTURED-LOCATION;VALUE=URI;X-ADDRESS=Van Nuys City Hall 6262 Van Nuys Blvd. Van Nuys 91401;X-APPLE-RADIUS=500;X-TITLE=6262 Van Nuys Blvd.:geo:-118.4482861,34.1842282
END:VEVENT
BEGIN:VEVENT
DTSTART;TZID=America/Los_Angeles:20190622T180000
DTEND;TZID=America/Los_Angeles:20190622T220000
DTSTAMP:20260423T212453
CREATED:20190620T002111Z
LAST-MODIFIED:20190620T002111Z
UID:8677-1561226400-1561240800@nohowest.org
SUMMARY:Valley Pride-One Valley\, One Love
DESCRIPTION:Presented by Los Angeles Councilwoman Nury Martinez\, Valley Pride will celebrate family love and acceptance of the LGBTQIA+ community in the San Fernando Valley. Enjoy live music\, food trucks\, interactive art and resources to help support the LGBTQIA+ community and their loved ones. Live screen printing by HIT+RUN and performances by San Cha\, Irka Mateo and more. \nVan Nuys Civic Center\n14410 Sylvan St\, Van Nuys\, CA 9140 \nLearn more at www.valleypride2019.com
URL:https://nohowest.org/calendar/valley-pride-one-valley-one-love/
LOCATION:Van Nuys City Hall\, 6262 Van Nuys Blvd.\, Van Nuys\, 91401
CATEGORIES:Community Events
GEO:34.1842282;-118.4482861
X-APPLE-STRUCTURED-LOCATION;VALUE=URI;X-ADDRESS=Van Nuys City Hall 6262 Van Nuys Blvd. Van Nuys 91401;X-APPLE-RADIUS=500;X-TITLE=6262 Van Nuys Blvd.:geo:-118.4482861,34.1842282
END:VEVENT
BEGIN:VEVENT
DTSTART;TZID=America/Los_Angeles:20171115T180000
DTEND;TZID=America/Los_Angeles:20171115T203000
DTSTAMP:20260423T212453
CREATED:20171102T161908Z
LAST-MODIFIED:20171102T161908Z
UID:6890-1510768800-1510777800@nohowest.org
SUMMARY:City Planning Near the Orange Line: Open House
DESCRIPTION:The City of Los Angeles Department of City Planning is exploring ideas to encourage vibrant communities and employment hubs around the region’s growing transit network through the Los Angeles Transit Neighborhood Plans (LATNP) program. The planning effort looks out to the year 2040 and considers how new land use and zoning regulations for the neighborhoods around five Orange Line stations can promote active\, walkable places and achieve State objectives to reduce greenhouse gas emissions by planning for growth near transit. At these open houses\, the community will have an opportunity to learn about: \n\nCommunity input received at workshops held in July 2016\nHow community input is being incorporated into the initial concepts\nWhat the next steps in the planning process are\n\nBoth meetings will consist of an overview presentation\, followed by an open house featuring stations covering each geographic area. Drop in any time during the open house to learn about the plan and provide feedback. \n\n\n\nNovember 2\, 2017\nSan Fernando Valley Arts & Culture Center\n6:30 pm – 8:30 PM\n18312 Oxnard St\nLA\, CA 91356\n\nNovember 15\, 2017\n6:00 PM – 8:30 PM\nVan Nuys City Hall\nCouncil Chanbers\, 2nd Floor\n14410 Sylvan St\nVan Nuys\, CA 91401\n\n\n\nIf you are unable to attend a meeting\, visit www.latnp.org to: \n\nView materials and learn about the planning effort\nProvide feedback and ideas\nSign up for the interest list\n\nFor more information contact please contact Laura Krawczyk at Laura.Krawczyk@lacity.org or call\n(213) 978-1212.
URL:https://nohowest.org/calendar/city-planning-near-the-orange-line-open-house-2/
LOCATION:Van Nuys City Hall\, 6262 Van Nuys Blvd.\, Van Nuys\, 91401
CATEGORIES:Community Events
GEO:34.1842282;-118.4482861
X-APPLE-STRUCTURED-LOCATION;VALUE=URI;X-ADDRESS=Van Nuys City Hall 6262 Van Nuys Blvd. Van Nuys 91401;X-APPLE-RADIUS=500;X-TITLE=6262 Van Nuys Blvd.:geo:-118.4482861,34.1842282
END:VEVENT
BEGIN:VEVENT
DTSTART;TZID=America/Los_Angeles:20171107T183000
DTEND;TZID=America/Los_Angeles:20171107T203000
DTSTAMP:20260423T212453
CREATED:20171019T002342Z
LAST-MODIFIED:20171019T002342Z
UID:6845-1510079400-1510086600@nohowest.org
SUMMARY:Police Commission Community Meeting
DESCRIPTION:
URL:https://nohowest.org/calendar/police-commission-community-meeting/
LOCATION:Van Nuys City Hall\, 6262 Van Nuys Blvd.\, Van Nuys\, 91401
CATEGORIES:Community Events
GEO:34.1842282;-118.4482861
X-APPLE-STRUCTURED-LOCATION;VALUE=URI;X-ADDRESS=Van Nuys City Hall 6262 Van Nuys Blvd. Van Nuys 91401;X-APPLE-RADIUS=500;X-TITLE=6262 Van Nuys Blvd.:geo:-118.4482861,34.1842282
END:VEVENT
BEGIN:VEVENT
DTSTART;TZID=America/Los_Angeles:20171007T100000
DTEND;TZID=America/Los_Angeles:20171007T120000
DTSTAMP:20260423T212453
CREATED:20171003T225052Z
LAST-MODIFIED:20171003T225052Z
UID:6801-1507370400-1507377600@nohowest.org
SUMMARY:OurLA2040
DESCRIPTION:Los Angeles is in the midst of a renaissance. From the overwhelming approval of a transformative transit plan and our commitment to solve homelessness\, to our pursuit of a sustainable city and the Olympic dream\, there’s no doubt we Angelenos are ready to take our place on the global stage.\n\nAs we look to the future\, we have an opportunity to shape the landscape of our diverse communities and design a city that meets the need of our neighborhoods\, noticeably improves the quality of life\, and delivers reliable\, high-quality services to all residents. That’s why Los Angeles launched OurLA2040\, a citywide initiative led by the LA Department of City Planning with the aim of updating our city’s General Plan.\n\nThe General Plan is a document that outlines goals\, objectives\, policies and programs to guide growth in Los Angeles. It is the heart and foundation of the city’s long-range vision and serves as the basis for decisions that affect all aspects of our everyday lives — from where we live and work to how we travel from place to place\, and how we spend our time in the city.\n\nOurLA2040 will help the city gather input on how LA should deal with land use and economic development\, water and energy conservation\, parks and open space\, air quality\, historic preservation\, public facilities and community assets in the future. This initiative will result in a new 20-year citywide plan to be adopted in 2020\, cementing strong and visionary policies to create a more prosperous\, livable\, and sustainable Los Angeles.\n\nThroughout October\, OurLA2040 will host a series of community conversations to get Angelenos\, like you\, to discuss what LA should look like in the decades ahead. Your participation will help inform LA’s policy goals and priorities. Bring your neighbors and friends to the October 7 conversation in Van Nuys or to any of the events listed here:\n\n\n\n\n\n\nOurLA2040 Community Conversation: Open Space and Community\nMonday\, October 2\, 6 – 8 pm \nWestwood Presbyterian Church\n10822 Wilshire Boulevard\nLos Angeles\, CA 90024\n\nOurLA2040 Community Conversation: Open Space and Community  \nSaturday\, October 7\, 10 am – 12 noon\nVan Nuys Civic Center\, Rooms 1A &1B\, 14410 Sylvan Street\nVan Nuys\, CA 91401 \n\n\n\nOurLA2040 Community Conversation: Open Space and Community \nSaturday\, October 21\, 10 am – Noon\nWest Angeles Senior Villas\nCommunity Room\n6030 Crenshaw Boulevard\nLos Angeles\, CA 90043\nOurLA2040 Community Conversation: Open Space and Community \nWednesday\, October 25\, 6 – 8 pm\nEmerson College\nAssembly Room\n5960 Sunset Boulevard\nLos Angeles\, CA 90028\n\n\n\n\n  \n\nIf you need additional information\, visit www.ourla2040.org.
URL:https://nohowest.org/calendar/ourla2040/
LOCATION:Van Nuys City Hall\, 6262 Van Nuys Blvd.\, Van Nuys\, 91401
CATEGORIES:Community Events
GEO:34.1842282;-118.4482861
X-APPLE-STRUCTURED-LOCATION;VALUE=URI;X-ADDRESS=Van Nuys City Hall 6262 Van Nuys Blvd. Van Nuys 91401;X-APPLE-RADIUS=500;X-TITLE=6262 Van Nuys Blvd.:geo:-118.4482861,34.1842282
END:VEVENT
BEGIN:VEVENT
DTSTART;TZID=America/Los_Angeles:20170225T083000
DTEND;TZID=America/Los_Angeles:20170225T123000
DTSTAMP:20260423T212453
CREATED:20170218T014942Z
LAST-MODIFIED:20170218T014942Z
UID:6141-1488011400-1488025800@nohowest.org
SUMMARY:Regional Budget Day
DESCRIPTION:
URL:https://nohowest.org/calendar/regional-budget-day/
LOCATION:Van Nuys City Hall\, 6262 Van Nuys Blvd.\, Van Nuys\, 91401
CATEGORIES:Community Events
GEO:34.1842282;-118.4482861
X-APPLE-STRUCTURED-LOCATION;VALUE=URI;X-ADDRESS=Van Nuys City Hall 6262 Van Nuys Blvd. Van Nuys 91401;X-APPLE-RADIUS=500;X-TITLE=6262 Van Nuys Blvd.:geo:-118.4482861,34.1842282
END:VEVENT
BEGIN:VEVENT
DTSTART;TZID=America/Los_Angeles:20150730T180000
DTEND;TZID=America/Los_Angeles:20150730T200000
DTSTAMP:20260423T212453
CREATED:20150708T013633Z
LAST-MODIFIED:20150708T013633Z
UID:5017-1438279200-1438286400@nohowest.org
SUMMARY:Let’s Talk Sidewalks! Public Meeting
DESCRIPTION:City Councilmembers Paul Krekorian and Joe Buscaino are hosting a series of joint meetings of the Budget and Finance and Public Works committees to get input from the public on what the city’s program to repair sidewalks next to homes and businesses should look like.\nThursday\, July 30\, 6pm\nVan Nuys City Hall\n6262 Van Nuys Blvd.\, Los Angeles 91401 \nThe Councilmembers want to hear from residents and stakeholders like you. Your opinions and ideas on the policy options are critical and will help shape the final policy before it comes to the full City Council for a vote this fall. \nIf you have any questions or feedback\, please email Councilmember Krekorian at paul.krekorian@lacity.org.
URL:https://nohowest.org/calendar/lets-talk-sidewalks-public-meeting/
LOCATION:Van Nuys City Hall\, 6262 Van Nuys Blvd.\, Van Nuys\, 91401
CATEGORIES:Community Events
GEO:34.1842282;-118.4482861
X-APPLE-STRUCTURED-LOCATION;VALUE=URI;X-ADDRESS=Van Nuys City Hall 6262 Van Nuys Blvd. Van Nuys 91401;X-APPLE-RADIUS=500;X-TITLE=6262 Van Nuys Blvd.:geo:-118.4482861,34.1842282
END:VEVENT
END:VCALENDAR