BEGIN:VCALENDAR
VERSION:2.0
PRODID:-//NoHowest.org - ECPv6.15.16//NONSGML v1.0//EN
CALSCALE:GREGORIAN
METHOD:PUBLISH
X-WR-CALNAME:NoHowest.org
X-ORIGINAL-URL:https://nohowest.org
X-WR-CALDESC:Events for NoHowest.org
REFRESH-INTERVAL;VALUE=DURATION:PT1H
X-Robots-Tag:noindex
X-PUBLISHED-TTL:PT1H
BEGIN:VTIMEZONE
TZID:America/Los_Angeles
BEGIN:DAYLIGHT
TZOFFSETFROM:-0800
TZOFFSETTO:-0700
TZNAME:PDT
DTSTART:20210314T100000
END:DAYLIGHT
BEGIN:STANDARD
TZOFFSETFROM:-0700
TZOFFSETTO:-0800
TZNAME:PST
DTSTART:20211107T090000
END:STANDARD
BEGIN:DAYLIGHT
TZOFFSETFROM:-0800
TZOFFSETTO:-0700
TZNAME:PDT
DTSTART:20220313T100000
END:DAYLIGHT
BEGIN:STANDARD
TZOFFSETFROM:-0700
TZOFFSETTO:-0800
TZNAME:PST
DTSTART:20221106T090000
END:STANDARD
BEGIN:DAYLIGHT
TZOFFSETFROM:-0800
TZOFFSETTO:-0700
TZNAME:PDT
DTSTART:20230312T100000
END:DAYLIGHT
BEGIN:STANDARD
TZOFFSETFROM:-0700
TZOFFSETTO:-0800
TZNAME:PST
DTSTART:20231105T090000
END:STANDARD
END:VTIMEZONE
BEGIN:VEVENT
DTSTART;TZID=America/Los_Angeles:20220502T180000
DTEND;TZID=America/Los_Angeles:20220502T200000
DTSTAMP:20260424T082627
CREATED:20220429T214519Z
LAST-MODIFIED:20220429T214519Z
UID:11536-1651514400-1651521600@nohowest.org
SUMMARY:Conversation with Superintendent Carvalho
DESCRIPTION:Hear from LAUSD Superintendent Carvalho Monday\, May 2\, 6pm at Van Nuys High School or on online. Register to join on Zoom: Register: https://lausd.zoom.us/webinar/register/WN_9AQJT5CnR0iu5ocr4hLOWA
URL:https://nohowest.org/calendar/conversation-with-superintendent-carvalho/
LOCATION:Van Nuys High School\, 6535 Cedros Ave\, Van Nuys
CATEGORIES:Community Events
GEO:34.1888832;-118.4532679
X-APPLE-STRUCTURED-LOCATION;VALUE=URI;X-ADDRESS=Van Nuys High School 6535 Cedros Ave Van Nuys;X-APPLE-RADIUS=500;X-TITLE=6535 Cedros Ave:geo:-118.4532679,34.1888832
END:VEVENT
END:VCALENDAR