BEGIN:VCALENDAR
VERSION:2.0
PRODID:-//NoHowest.org - ECPv6.15.16//NONSGML v1.0//EN
CALSCALE:GREGORIAN
METHOD:PUBLISH
X-WR-CALNAME:NoHowest.org
X-ORIGINAL-URL:https://nohowest.org
X-WR-CALDESC:Events for NoHowest.org
REFRESH-INTERVAL;VALUE=DURATION:PT1H
X-Robots-Tag:noindex
X-PUBLISHED-TTL:PT1H
BEGIN:VTIMEZONE
TZID:America/Los_Angeles
BEGIN:DAYLIGHT
TZOFFSETFROM:-0800
TZOFFSETTO:-0700
TZNAME:PDT
DTSTART:20210314T100000
END:DAYLIGHT
BEGIN:STANDARD
TZOFFSETFROM:-0700
TZOFFSETTO:-0800
TZNAME:PST
DTSTART:20211107T090000
END:STANDARD
BEGIN:DAYLIGHT
TZOFFSETFROM:-0800
TZOFFSETTO:-0700
TZNAME:PDT
DTSTART:20220313T100000
END:DAYLIGHT
BEGIN:STANDARD
TZOFFSETFROM:-0700
TZOFFSETTO:-0800
TZNAME:PST
DTSTART:20221106T090000
END:STANDARD
BEGIN:DAYLIGHT
TZOFFSETFROM:-0800
TZOFFSETTO:-0700
TZNAME:PDT
DTSTART:20230312T100000
END:DAYLIGHT
BEGIN:STANDARD
TZOFFSETFROM:-0700
TZOFFSETTO:-0800
TZNAME:PST
DTSTART:20231105T090000
END:STANDARD
END:VTIMEZONE
BEGIN:VEVENT
DTSTART;TZID=America/Los_Angeles:20220206T130000
DTEND;TZID=America/Los_Angeles:20220206T140000
DTSTAMP:20260424T154307
CREATED:20220204T181302Z
LAST-MODIFIED:20220204T185225Z
UID:11239-1644152400-1644156000@nohowest.org
SUMMARY:Meet Mayoral Candidate Mike Feuer
DESCRIPTION:
URL:https://nohowest.org/calendar/meet-mayoral-candidate-mike-feuer/
LOCATION:Van Nuys/Sherman Oaks Recreation Center\, 14201 Huston Street\, Van Nuys\, 91423
CATEGORIES:Community Events
GEO:34.1599427;-118.4421767
X-APPLE-STRUCTURED-LOCATION;VALUE=URI;X-ADDRESS=Van Nuys/Sherman Oaks Recreation Center 14201 Huston Street Van Nuys 91423;X-APPLE-RADIUS=500;X-TITLE=14201 Huston Street:geo:-118.4421767,34.1599427
END:VEVENT
END:VCALENDAR